BEGIN:VCALENDAR
VERSION:2.0
PRODID:-// - ECPv6.15.20//NONSGML v1.0//EN
CALSCALE:GREGORIAN
METHOD:PUBLISH
X-ORIGINAL-URL:https://mendocinochristian.org
X-WR-CALDESC:Events for 
REFRESH-INTERVAL;VALUE=DURATION:PT1H
X-Robots-Tag:noindex
X-PUBLISHED-TTL:PT1H
BEGIN:VTIMEZONE
TZID:America/Los_Angeles
BEGIN:DAYLIGHT
TZOFFSETFROM:-0800
TZOFFSETTO:-0700
TZNAME:PDT
DTSTART:20240310T100000
END:DAYLIGHT
BEGIN:STANDARD
TZOFFSETFROM:-0700
TZOFFSETTO:-0800
TZNAME:PST
DTSTART:20241103T090000
END:STANDARD
BEGIN:DAYLIGHT
TZOFFSETFROM:-0800
TZOFFSETTO:-0700
TZNAME:PDT
DTSTART:20250309T100000
END:DAYLIGHT
BEGIN:STANDARD
TZOFFSETFROM:-0700
TZOFFSETTO:-0800
TZNAME:PST
DTSTART:20251102T090000
END:STANDARD
BEGIN:DAYLIGHT
TZOFFSETFROM:-0800
TZOFFSETTO:-0700
TZNAME:PDT
DTSTART:20260308T100000
END:DAYLIGHT
BEGIN:STANDARD
TZOFFSETFROM:-0700
TZOFFSETTO:-0800
TZNAME:PST
DTSTART:20261101T090000
END:STANDARD
END:VTIMEZONE
BEGIN:VEVENT
DTSTART;TZID=America/Los_Angeles:20250706T110000
DTEND;TZID=America/Los_Angeles:20250706T123000
DTSTAMP:20260425T154417
CREATED:20240910T220855Z
LAST-MODIFIED:20240910T220855Z
UID:10000085-1751799600-1751805000@mendocinochristian.org
SUMMARY:Sunday Services 11:00 AM to 12:30 PM
DESCRIPTION:
URL:https://mendocinochristian.org/event/sunday-services-1100-am-to-1230-pm/2025-07-06/
LOCATION:Mendocino Christian Fellowship\, Member's Home\, Mendocino\, California
END:VEVENT
BEGIN:VEVENT
DTSTART;TZID=America/Los_Angeles:20250706T120000
DTEND;TZID=America/Los_Angeles:20250706T123000
DTSTAMP:20260425T154417
CREATED:20240911T235828Z
LAST-MODIFIED:20240912T032207Z
UID:10000313-1751803200-1751805000@mendocinochristian.org
SUMMARY:Communion Sunday
DESCRIPTION:
URL:https://mendocinochristian.org/event/communion-sunday/2025-07-06/
LOCATION:Mendocino Christian Fellowship\, Member's Home\, Mendocino\, California
END:VEVENT
BEGIN:VEVENT
DTSTART;TZID=America/Los_Angeles:20250706T123000
DTEND;TZID=America/Los_Angeles:20250706T133000
DTSTAMP:20260425T154417
CREATED:20240912T000528Z
LAST-MODIFIED:20240912T034502Z
UID:10000483-1751805000-1751808600@mendocinochristian.org
SUMMARY:Potluck Sunday
DESCRIPTION:Bring your favorite Sunday food to add to our family after-service lunch together.
URL:https://mendocinochristian.org/event/potluck-sunday/2025-07-06/
LOCATION:Mendocino Christian Fellowship\, Member's Home\, Mendocino\, California
END:VEVENT
END:VCALENDAR