BEGIN:VCALENDAR
VERSION:2.0
PRODID:-// - ECPv6.15.20//NONSGML v1.0//EN
CALSCALE:GREGORIAN
METHOD:PUBLISH
X-ORIGINAL-URL:https://mendocinochristian.org
X-WR-CALDESC:Events for 
REFRESH-INTERVAL;VALUE=DURATION:PT1H
X-Robots-Tag:noindex
X-PUBLISHED-TTL:PT1H
BEGIN:VTIMEZONE
TZID:America/Los_Angeles
BEGIN:DAYLIGHT
TZOFFSETFROM:-0800
TZOFFSETTO:-0700
TZNAME:PDT
DTSTART:20250309T100000
END:DAYLIGHT
BEGIN:STANDARD
TZOFFSETFROM:-0700
TZOFFSETTO:-0800
TZNAME:PST
DTSTART:20251102T090000
END:STANDARD
BEGIN:DAYLIGHT
TZOFFSETFROM:-0800
TZOFFSETTO:-0700
TZNAME:PDT
DTSTART:20260308T100000
END:DAYLIGHT
BEGIN:STANDARD
TZOFFSETFROM:-0700
TZOFFSETTO:-0800
TZNAME:PST
DTSTART:20261101T090000
END:STANDARD
BEGIN:DAYLIGHT
TZOFFSETFROM:-0800
TZOFFSETTO:-0700
TZNAME:PDT
DTSTART:20270314T100000
END:DAYLIGHT
BEGIN:STANDARD
TZOFFSETFROM:-0700
TZOFFSETTO:-0800
TZNAME:PST
DTSTART:20271107T090000
END:STANDARD
END:VTIMEZONE
BEGIN:VEVENT
DTSTART;TZID=America/Los_Angeles:20260427T100000
DTEND;TZID=America/Los_Angeles:20260427T100000
DTSTAMP:20260424T135815
CREATED:20250630T210326Z
LAST-MODIFIED:20250630T210450Z
UID:10000577-1777284000-1777284000@mendocinochristian.org
SUMMARY:Home Bible Study
DESCRIPTION:Every Monday we meet for a study that is moving us through the bible. Come and enjoy the Livingroom atmosphere of learning God’s Word. Unlike preaching\, a bible study allows for questions and answers and opportunities for insightful discussions. The study starts at 10:00 AM and concludes at 11:00 AM.
URL:https://mendocinochristian.org/event/home-bible-study/2026-04-27/
LOCATION:Mendocino Christian Fellowship\, Member's Home\, Mendocino\, California
END:VEVENT
BEGIN:VEVENT
DTSTART;TZID=America/Los_Angeles:20260504T100000
DTEND;TZID=America/Los_Angeles:20260504T100000
DTSTAMP:20260424T135815
CREATED:20250630T210326Z
LAST-MODIFIED:20250630T210450Z
UID:10000578-1777888800-1777888800@mendocinochristian.org
SUMMARY:Home Bible Study
DESCRIPTION:Every Monday we meet for a study that is moving us through the bible. Come and enjoy the Livingroom atmosphere of learning God’s Word. Unlike preaching\, a bible study allows for questions and answers and opportunities for insightful discussions. The study starts at 10:00 AM and concludes at 11:00 AM.
URL:https://mendocinochristian.org/event/home-bible-study/2026-05-04/
LOCATION:Mendocino Christian Fellowship\, Member's Home\, Mendocino\, California
END:VEVENT
BEGIN:VEVENT
DTSTART;TZID=America/Los_Angeles:20260511T100000
DTEND;TZID=America/Los_Angeles:20260511T100000
DTSTAMP:20260424T135815
CREATED:20250630T210326Z
LAST-MODIFIED:20250630T210450Z
UID:10000579-1778493600-1778493600@mendocinochristian.org
SUMMARY:Home Bible Study
DESCRIPTION:Every Monday we meet for a study that is moving us through the bible. Come and enjoy the Livingroom atmosphere of learning God’s Word. Unlike preaching\, a bible study allows for questions and answers and opportunities for insightful discussions. The study starts at 10:00 AM and concludes at 11:00 AM.
URL:https://mendocinochristian.org/event/home-bible-study/2026-05-11/
LOCATION:Mendocino Christian Fellowship\, Member's Home\, Mendocino\, California
END:VEVENT
BEGIN:VEVENT
DTSTART;TZID=America/Los_Angeles:20260518T100000
DTEND;TZID=America/Los_Angeles:20260518T100000
DTSTAMP:20260424T135815
CREATED:20250630T210326Z
LAST-MODIFIED:20250630T210450Z
UID:10000580-1779098400-1779098400@mendocinochristian.org
SUMMARY:Home Bible Study
DESCRIPTION:Every Monday we meet for a study that is moving us through the bible. Come and enjoy the Livingroom atmosphere of learning God’s Word. Unlike preaching\, a bible study allows for questions and answers and opportunities for insightful discussions. The study starts at 10:00 AM and concludes at 11:00 AM.
URL:https://mendocinochristian.org/event/home-bible-study/2026-05-18/
LOCATION:Mendocino Christian Fellowship\, Member's Home\, Mendocino\, California
END:VEVENT
BEGIN:VEVENT
DTSTART;TZID=America/Los_Angeles:20260525T100000
DTEND;TZID=America/Los_Angeles:20260525T100000
DTSTAMP:20260424T135815
CREATED:20250630T210326Z
LAST-MODIFIED:20250630T210450Z
UID:10000581-1779703200-1779703200@mendocinochristian.org
SUMMARY:Home Bible Study
DESCRIPTION:Every Monday we meet for a study that is moving us through the bible. Come and enjoy the Livingroom atmosphere of learning God’s Word. Unlike preaching\, a bible study allows for questions and answers and opportunities for insightful discussions. The study starts at 10:00 AM and concludes at 11:00 AM.
URL:https://mendocinochristian.org/event/home-bible-study/2026-05-25/
LOCATION:Mendocino Christian Fellowship\, Member's Home\, Mendocino\, California
END:VEVENT
BEGIN:VEVENT
DTSTART;TZID=America/Los_Angeles:20260601T100000
DTEND;TZID=America/Los_Angeles:20260601T100000
DTSTAMP:20260424T135815
CREATED:20250630T210326Z
LAST-MODIFIED:20250630T210450Z
UID:10000582-1780308000-1780308000@mendocinochristian.org
SUMMARY:Home Bible Study
DESCRIPTION:Every Monday we meet for a study that is moving us through the bible. Come and enjoy the Livingroom atmosphere of learning God’s Word. Unlike preaching\, a bible study allows for questions and answers and opportunities for insightful discussions. The study starts at 10:00 AM and concludes at 11:00 AM.
URL:https://mendocinochristian.org/event/home-bible-study/2026-06-01/
LOCATION:Mendocino Christian Fellowship\, Member's Home\, Mendocino\, California
END:VEVENT
BEGIN:VEVENT
DTSTART;TZID=America/Los_Angeles:20260608T100000
DTEND;TZID=America/Los_Angeles:20260608T100000
DTSTAMP:20260424T135815
CREATED:20250630T210326Z
LAST-MODIFIED:20250630T210450Z
UID:10000583-1780912800-1780912800@mendocinochristian.org
SUMMARY:Home Bible Study
DESCRIPTION:Every Monday we meet for a study that is moving us through the bible. Come and enjoy the Livingroom atmosphere of learning God’s Word. Unlike preaching\, a bible study allows for questions and answers and opportunities for insightful discussions. The study starts at 10:00 AM and concludes at 11:00 AM.
URL:https://mendocinochristian.org/event/home-bible-study/2026-06-08/
LOCATION:Mendocino Christian Fellowship\, Member's Home\, Mendocino\, California
END:VEVENT
BEGIN:VEVENT
DTSTART;TZID=America/Los_Angeles:20260615T100000
DTEND;TZID=America/Los_Angeles:20260615T100000
DTSTAMP:20260424T135815
CREATED:20250630T210326Z
LAST-MODIFIED:20250630T210450Z
UID:10000584-1781517600-1781517600@mendocinochristian.org
SUMMARY:Home Bible Study
DESCRIPTION:Every Monday we meet for a study that is moving us through the bible. Come and enjoy the Livingroom atmosphere of learning God’s Word. Unlike preaching\, a bible study allows for questions and answers and opportunities for insightful discussions. The study starts at 10:00 AM and concludes at 11:00 AM.
URL:https://mendocinochristian.org/event/home-bible-study/2026-06-15/
LOCATION:Mendocino Christian Fellowship\, Member's Home\, Mendocino\, California
END:VEVENT
BEGIN:VEVENT
DTSTART;TZID=America/Los_Angeles:20260622T100000
DTEND;TZID=America/Los_Angeles:20260622T100000
DTSTAMP:20260424T135815
CREATED:20250630T210326Z
LAST-MODIFIED:20250630T210450Z
UID:10000585-1782122400-1782122400@mendocinochristian.org
SUMMARY:Home Bible Study
DESCRIPTION:Every Monday we meet for a study that is moving us through the bible. Come and enjoy the Livingroom atmosphere of learning God’s Word. Unlike preaching\, a bible study allows for questions and answers and opportunities for insightful discussions. The study starts at 10:00 AM and concludes at 11:00 AM.
URL:https://mendocinochristian.org/event/home-bible-study/2026-06-22/
LOCATION:Mendocino Christian Fellowship\, Member's Home\, Mendocino\, California
END:VEVENT
BEGIN:VEVENT
DTSTART;TZID=America/Los_Angeles:20260629T100000
DTEND;TZID=America/Los_Angeles:20260629T100000
DTSTAMP:20260424T135815
CREATED:20250630T210326Z
LAST-MODIFIED:20250630T210450Z
UID:10000586-1782727200-1782727200@mendocinochristian.org
SUMMARY:Home Bible Study
DESCRIPTION:Every Monday we meet for a study that is moving us through the bible. Come and enjoy the Livingroom atmosphere of learning God’s Word. Unlike preaching\, a bible study allows for questions and answers and opportunities for insightful discussions. The study starts at 10:00 AM and concludes at 11:00 AM.
URL:https://mendocinochristian.org/event/home-bible-study/2026-06-29/
LOCATION:Mendocino Christian Fellowship\, Member's Home\, Mendocino\, California
END:VEVENT
BEGIN:VEVENT
DTSTART;TZID=America/Los_Angeles:20260706T100000
DTEND;TZID=America/Los_Angeles:20260706T100000
DTSTAMP:20260424T135815
CREATED:20250630T210326Z
LAST-MODIFIED:20250630T210450Z
UID:10000587-1783332000-1783332000@mendocinochristian.org
SUMMARY:Home Bible Study
DESCRIPTION:Every Monday we meet for a study that is moving us through the bible. Come and enjoy the Livingroom atmosphere of learning God’s Word. Unlike preaching\, a bible study allows for questions and answers and opportunities for insightful discussions. The study starts at 10:00 AM and concludes at 11:00 AM.
URL:https://mendocinochristian.org/event/home-bible-study/2026-07-06/
LOCATION:Mendocino Christian Fellowship\, Member's Home\, Mendocino\, California
END:VEVENT
BEGIN:VEVENT
DTSTART;TZID=America/Los_Angeles:20260713T100000
DTEND;TZID=America/Los_Angeles:20260713T100000
DTSTAMP:20260424T135815
CREATED:20250630T210326Z
LAST-MODIFIED:20250630T210450Z
UID:10000588-1783936800-1783936800@mendocinochristian.org
SUMMARY:Home Bible Study
DESCRIPTION:Every Monday we meet for a study that is moving us through the bible. Come and enjoy the Livingroom atmosphere of learning God’s Word. Unlike preaching\, a bible study allows for questions and answers and opportunities for insightful discussions. The study starts at 10:00 AM and concludes at 11:00 AM.
URL:https://mendocinochristian.org/event/home-bible-study/2026-07-13/
LOCATION:Mendocino Christian Fellowship\, Member's Home\, Mendocino\, California
END:VEVENT
BEGIN:VEVENT
DTSTART;TZID=America/Los_Angeles:20260720T100000
DTEND;TZID=America/Los_Angeles:20260720T100000
DTSTAMP:20260424T135815
CREATED:20250630T210326Z
LAST-MODIFIED:20250630T210450Z
UID:10000589-1784541600-1784541600@mendocinochristian.org
SUMMARY:Home Bible Study
DESCRIPTION:Every Monday we meet for a study that is moving us through the bible. Come and enjoy the Livingroom atmosphere of learning God’s Word. Unlike preaching\, a bible study allows for questions and answers and opportunities for insightful discussions. The study starts at 10:00 AM and concludes at 11:00 AM.
URL:https://mendocinochristian.org/event/home-bible-study/2026-07-20/
LOCATION:Mendocino Christian Fellowship\, Member's Home\, Mendocino\, California
END:VEVENT
BEGIN:VEVENT
DTSTART;TZID=America/Los_Angeles:20260727T100000
DTEND;TZID=America/Los_Angeles:20260727T100000
DTSTAMP:20260424T135815
CREATED:20250630T210326Z
LAST-MODIFIED:20250630T210450Z
UID:10000590-1785146400-1785146400@mendocinochristian.org
SUMMARY:Home Bible Study
DESCRIPTION:Every Monday we meet for a study that is moving us through the bible. Come and enjoy the Livingroom atmosphere of learning God’s Word. Unlike preaching\, a bible study allows for questions and answers and opportunities for insightful discussions. The study starts at 10:00 AM and concludes at 11:00 AM.
URL:https://mendocinochristian.org/event/home-bible-study/2026-07-27/
LOCATION:Mendocino Christian Fellowship\, Member's Home\, Mendocino\, California
END:VEVENT
BEGIN:VEVENT
DTSTART;TZID=America/Los_Angeles:20260803T100000
DTEND;TZID=America/Los_Angeles:20260803T100000
DTSTAMP:20260424T135815
CREATED:20250630T210326Z
LAST-MODIFIED:20250630T210450Z
UID:10000591-1785751200-1785751200@mendocinochristian.org
SUMMARY:Home Bible Study
DESCRIPTION:Every Monday we meet for a study that is moving us through the bible. Come and enjoy the Livingroom atmosphere of learning God’s Word. Unlike preaching\, a bible study allows for questions and answers and opportunities for insightful discussions. The study starts at 10:00 AM and concludes at 11:00 AM.
URL:https://mendocinochristian.org/event/home-bible-study/2026-08-03/
LOCATION:Mendocino Christian Fellowship\, Member's Home\, Mendocino\, California
END:VEVENT
BEGIN:VEVENT
DTSTART;TZID=America/Los_Angeles:20260810T100000
DTEND;TZID=America/Los_Angeles:20260810T100000
DTSTAMP:20260424T135815
CREATED:20250630T210326Z
LAST-MODIFIED:20250630T210450Z
UID:10000592-1786356000-1786356000@mendocinochristian.org
SUMMARY:Home Bible Study
DESCRIPTION:Every Monday we meet for a study that is moving us through the bible. Come and enjoy the Livingroom atmosphere of learning God’s Word. Unlike preaching\, a bible study allows for questions and answers and opportunities for insightful discussions. The study starts at 10:00 AM and concludes at 11:00 AM.
URL:https://mendocinochristian.org/event/home-bible-study/2026-08-10/
LOCATION:Mendocino Christian Fellowship\, Member's Home\, Mendocino\, California
END:VEVENT
BEGIN:VEVENT
DTSTART;TZID=America/Los_Angeles:20260817T100000
DTEND;TZID=America/Los_Angeles:20260817T100000
DTSTAMP:20260424T135815
CREATED:20250630T210326Z
LAST-MODIFIED:20250630T210450Z
UID:10000593-1786960800-1786960800@mendocinochristian.org
SUMMARY:Home Bible Study
DESCRIPTION:Every Monday we meet for a study that is moving us through the bible. Come and enjoy the Livingroom atmosphere of learning God’s Word. Unlike preaching\, a bible study allows for questions and answers and opportunities for insightful discussions. The study starts at 10:00 AM and concludes at 11:00 AM.
URL:https://mendocinochristian.org/event/home-bible-study/2026-08-17/
LOCATION:Mendocino Christian Fellowship\, Member's Home\, Mendocino\, California
END:VEVENT
BEGIN:VEVENT
DTSTART;TZID=America/Los_Angeles:20260824T100000
DTEND;TZID=America/Los_Angeles:20260824T100000
DTSTAMP:20260424T135815
CREATED:20250630T210326Z
LAST-MODIFIED:20250630T210450Z
UID:10000594-1787565600-1787565600@mendocinochristian.org
SUMMARY:Home Bible Study
DESCRIPTION:Every Monday we meet for a study that is moving us through the bible. Come and enjoy the Livingroom atmosphere of learning God’s Word. Unlike preaching\, a bible study allows for questions and answers and opportunities for insightful discussions. The study starts at 10:00 AM and concludes at 11:00 AM.
URL:https://mendocinochristian.org/event/home-bible-study/2026-08-24/
LOCATION:Mendocino Christian Fellowship\, Member's Home\, Mendocino\, California
END:VEVENT
BEGIN:VEVENT
DTSTART;TZID=America/Los_Angeles:20260831T100000
DTEND;TZID=America/Los_Angeles:20260831T100000
DTSTAMP:20260424T135815
CREATED:20250630T210326Z
LAST-MODIFIED:20250630T210450Z
UID:10000595-1788170400-1788170400@mendocinochristian.org
SUMMARY:Home Bible Study
DESCRIPTION:Every Monday we meet for a study that is moving us through the bible. Come and enjoy the Livingroom atmosphere of learning God’s Word. Unlike preaching\, a bible study allows for questions and answers and opportunities for insightful discussions. The study starts at 10:00 AM and concludes at 11:00 AM.
URL:https://mendocinochristian.org/event/home-bible-study/2026-08-31/
LOCATION:Mendocino Christian Fellowship\, Member's Home\, Mendocino\, California
END:VEVENT
BEGIN:VEVENT
DTSTART;TZID=America/Los_Angeles:20260907T100000
DTEND;TZID=America/Los_Angeles:20260907T100000
DTSTAMP:20260424T135815
CREATED:20250630T210326Z
LAST-MODIFIED:20250630T210450Z
UID:10000596-1788775200-1788775200@mendocinochristian.org
SUMMARY:Home Bible Study
DESCRIPTION:Every Monday we meet for a study that is moving us through the bible. Come and enjoy the Livingroom atmosphere of learning God’s Word. Unlike preaching\, a bible study allows for questions and answers and opportunities for insightful discussions. The study starts at 10:00 AM and concludes at 11:00 AM.
URL:https://mendocinochristian.org/event/home-bible-study/2026-09-07/
LOCATION:Mendocino Christian Fellowship\, Member's Home\, Mendocino\, California
END:VEVENT
BEGIN:VEVENT
DTSTART;TZID=America/Los_Angeles:20260914T100000
DTEND;TZID=America/Los_Angeles:20260914T100000
DTSTAMP:20260424T135815
CREATED:20250630T210326Z
LAST-MODIFIED:20250630T210450Z
UID:10000597-1789380000-1789380000@mendocinochristian.org
SUMMARY:Home Bible Study
DESCRIPTION:Every Monday we meet for a study that is moving us through the bible. Come and enjoy the Livingroom atmosphere of learning God’s Word. Unlike preaching\, a bible study allows for questions and answers and opportunities for insightful discussions. The study starts at 10:00 AM and concludes at 11:00 AM.
URL:https://mendocinochristian.org/event/home-bible-study/2026-09-14/
LOCATION:Mendocino Christian Fellowship\, Member's Home\, Mendocino\, California
END:VEVENT
BEGIN:VEVENT
DTSTART;TZID=America/Los_Angeles:20260921T100000
DTEND;TZID=America/Los_Angeles:20260921T100000
DTSTAMP:20260424T135815
CREATED:20250630T210326Z
LAST-MODIFIED:20250630T210450Z
UID:10000598-1789984800-1789984800@mendocinochristian.org
SUMMARY:Home Bible Study
DESCRIPTION:Every Monday we meet for a study that is moving us through the bible. Come and enjoy the Livingroom atmosphere of learning God’s Word. Unlike preaching\, a bible study allows for questions and answers and opportunities for insightful discussions. The study starts at 10:00 AM and concludes at 11:00 AM.
URL:https://mendocinochristian.org/event/home-bible-study/2026-09-21/
LOCATION:Mendocino Christian Fellowship\, Member's Home\, Mendocino\, California
END:VEVENT
BEGIN:VEVENT
DTSTART;TZID=America/Los_Angeles:20260928T100000
DTEND;TZID=America/Los_Angeles:20260928T100000
DTSTAMP:20260424T135815
CREATED:20250630T210326Z
LAST-MODIFIED:20250630T210450Z
UID:10000599-1790589600-1790589600@mendocinochristian.org
SUMMARY:Home Bible Study
DESCRIPTION:Every Monday we meet for a study that is moving us through the bible. Come and enjoy the Livingroom atmosphere of learning God’s Word. Unlike preaching\, a bible study allows for questions and answers and opportunities for insightful discussions. The study starts at 10:00 AM and concludes at 11:00 AM.
URL:https://mendocinochristian.org/event/home-bible-study/2026-09-28/
LOCATION:Mendocino Christian Fellowship\, Member's Home\, Mendocino\, California
END:VEVENT
BEGIN:VEVENT
DTSTART;TZID=America/Los_Angeles:20261005T100000
DTEND;TZID=America/Los_Angeles:20261005T100000
DTSTAMP:20260424T135815
CREATED:20250630T210326Z
LAST-MODIFIED:20250630T210450Z
UID:10000600-1791194400-1791194400@mendocinochristian.org
SUMMARY:Home Bible Study
DESCRIPTION:Every Monday we meet for a study that is moving us through the bible. Come and enjoy the Livingroom atmosphere of learning God’s Word. Unlike preaching\, a bible study allows for questions and answers and opportunities for insightful discussions. The study starts at 10:00 AM and concludes at 11:00 AM.
URL:https://mendocinochristian.org/event/home-bible-study/2026-10-05/
LOCATION:Mendocino Christian Fellowship\, Member's Home\, Mendocino\, California
END:VEVENT
BEGIN:VEVENT
DTSTART;TZID=America/Los_Angeles:20261012T100000
DTEND;TZID=America/Los_Angeles:20261012T100000
DTSTAMP:20260424T135815
CREATED:20250630T210326Z
LAST-MODIFIED:20250630T210450Z
UID:10000601-1791799200-1791799200@mendocinochristian.org
SUMMARY:Home Bible Study
DESCRIPTION:Every Monday we meet for a study that is moving us through the bible. Come and enjoy the Livingroom atmosphere of learning God’s Word. Unlike preaching\, a bible study allows for questions and answers and opportunities for insightful discussions. The study starts at 10:00 AM and concludes at 11:00 AM.
URL:https://mendocinochristian.org/event/home-bible-study/2026-10-12/
LOCATION:Mendocino Christian Fellowship\, Member's Home\, Mendocino\, California
END:VEVENT
BEGIN:VEVENT
DTSTART;TZID=America/Los_Angeles:20261019T100000
DTEND;TZID=America/Los_Angeles:20261019T100000
DTSTAMP:20260424T135815
CREATED:20250630T210326Z
LAST-MODIFIED:20250630T210450Z
UID:10000602-1792404000-1792404000@mendocinochristian.org
SUMMARY:Home Bible Study
DESCRIPTION:Every Monday we meet for a study that is moving us through the bible. Come and enjoy the Livingroom atmosphere of learning God’s Word. Unlike preaching\, a bible study allows for questions and answers and opportunities for insightful discussions. The study starts at 10:00 AM and concludes at 11:00 AM.
URL:https://mendocinochristian.org/event/home-bible-study/2026-10-19/
LOCATION:Mendocino Christian Fellowship\, Member's Home\, Mendocino\, California
END:VEVENT
BEGIN:VEVENT
DTSTART;TZID=America/Los_Angeles:20261026T100000
DTEND;TZID=America/Los_Angeles:20261026T100000
DTSTAMP:20260424T135815
CREATED:20250630T210326Z
LAST-MODIFIED:20250630T210450Z
UID:10000603-1793008800-1793008800@mendocinochristian.org
SUMMARY:Home Bible Study
DESCRIPTION:Every Monday we meet for a study that is moving us through the bible. Come and enjoy the Livingroom atmosphere of learning God’s Word. Unlike preaching\, a bible study allows for questions and answers and opportunities for insightful discussions. The study starts at 10:00 AM and concludes at 11:00 AM.
URL:https://mendocinochristian.org/event/home-bible-study/2026-10-26/
LOCATION:Mendocino Christian Fellowship\, Member's Home\, Mendocino\, California
END:VEVENT
BEGIN:VEVENT
DTSTART;TZID=America/Los_Angeles:20261102T100000
DTEND;TZID=America/Los_Angeles:20261102T100000
DTSTAMP:20260424T135815
CREATED:20250630T210326Z
LAST-MODIFIED:20250630T210450Z
UID:10000604-1793613600-1793613600@mendocinochristian.org
SUMMARY:Home Bible Study
DESCRIPTION:Every Monday we meet for a study that is moving us through the bible. Come and enjoy the Livingroom atmosphere of learning God’s Word. Unlike preaching\, a bible study allows for questions and answers and opportunities for insightful discussions. The study starts at 10:00 AM and concludes at 11:00 AM.
URL:https://mendocinochristian.org/event/home-bible-study/2026-11-02/
LOCATION:Mendocino Christian Fellowship\, Member's Home\, Mendocino\, California
END:VEVENT
BEGIN:VEVENT
DTSTART;TZID=America/Los_Angeles:20261109T100000
DTEND;TZID=America/Los_Angeles:20261109T100000
DTSTAMP:20260424T135815
CREATED:20250630T210326Z
LAST-MODIFIED:20250630T210450Z
UID:10000605-1794218400-1794218400@mendocinochristian.org
SUMMARY:Home Bible Study
DESCRIPTION:Every Monday we meet for a study that is moving us through the bible. Come and enjoy the Livingroom atmosphere of learning God’s Word. Unlike preaching\, a bible study allows for questions and answers and opportunities for insightful discussions. The study starts at 10:00 AM and concludes at 11:00 AM.
URL:https://mendocinochristian.org/event/home-bible-study/2026-11-09/
LOCATION:Mendocino Christian Fellowship\, Member's Home\, Mendocino\, California
END:VEVENT
BEGIN:VEVENT
DTSTART;TZID=America/Los_Angeles:20261116T100000
DTEND;TZID=America/Los_Angeles:20261116T100000
DTSTAMP:20260424T135815
CREATED:20250630T210326Z
LAST-MODIFIED:20250630T210450Z
UID:10000606-1794823200-1794823200@mendocinochristian.org
SUMMARY:Home Bible Study
DESCRIPTION:Every Monday we meet for a study that is moving us through the bible. Come and enjoy the Livingroom atmosphere of learning God’s Word. Unlike preaching\, a bible study allows for questions and answers and opportunities for insightful discussions. The study starts at 10:00 AM and concludes at 11:00 AM.
URL:https://mendocinochristian.org/event/home-bible-study/2026-11-16/
LOCATION:Mendocino Christian Fellowship\, Member's Home\, Mendocino\, California
END:VEVENT
END:VCALENDAR