BEGIN:VCALENDAR
VERSION:2.0
PRODID:-// - ECPv6.15.20//NONSGML v1.0//EN
CALSCALE:GREGORIAN
METHOD:PUBLISH
X-ORIGINAL-URL:https://mendocinochristian.org
X-WR-CALDESC:Events for 
REFRESH-INTERVAL;VALUE=DURATION:PT1H
X-Robots-Tag:noindex
X-PUBLISHED-TTL:PT1H
BEGIN:VTIMEZONE
TZID:America/Los_Angeles
BEGIN:DAYLIGHT
TZOFFSETFROM:-0800
TZOFFSETTO:-0700
TZNAME:PDT
DTSTART:20250309T100000
END:DAYLIGHT
BEGIN:STANDARD
TZOFFSETFROM:-0700
TZOFFSETTO:-0800
TZNAME:PST
DTSTART:20251102T090000
END:STANDARD
BEGIN:DAYLIGHT
TZOFFSETFROM:-0800
TZOFFSETTO:-0700
TZNAME:PDT
DTSTART:20260308T100000
END:DAYLIGHT
BEGIN:STANDARD
TZOFFSETFROM:-0700
TZOFFSETTO:-0800
TZNAME:PST
DTSTART:20261101T090000
END:STANDARD
BEGIN:DAYLIGHT
TZOFFSETFROM:-0800
TZOFFSETTO:-0700
TZNAME:PDT
DTSTART:20270314T100000
END:DAYLIGHT
BEGIN:STANDARD
TZOFFSETFROM:-0700
TZOFFSETTO:-0800
TZNAME:PST
DTSTART:20271107T090000
END:STANDARD
BEGIN:DAYLIGHT
TZOFFSETFROM:-0800
TZOFFSETTO:-0700
TZNAME:PDT
DTSTART:20280312T100000
END:DAYLIGHT
BEGIN:STANDARD
TZOFFSETFROM:-0700
TZOFFSETTO:-0800
TZNAME:PST
DTSTART:20281105T090000
END:STANDARD
BEGIN:DAYLIGHT
TZOFFSETFROM:-0800
TZOFFSETTO:-0700
TZNAME:PDT
DTSTART:20290311T100000
END:DAYLIGHT
BEGIN:STANDARD
TZOFFSETFROM:-0700
TZOFFSETTO:-0800
TZNAME:PST
DTSTART:20291104T090000
END:STANDARD
END:VTIMEZONE
BEGIN:VEVENT
DTSTART;TZID=America/Los_Angeles:20260503T123000
DTEND;TZID=America/Los_Angeles:20260503T133000
DTSTAMP:20260424T135757
CREATED:20240912T000528Z
LAST-MODIFIED:20240912T034502Z
UID:10000493-1777811400-1777815000@mendocinochristian.org
SUMMARY:Potluck Sunday
DESCRIPTION:Bring your favorite Sunday food to add to our family after-service lunch together.
URL:https://mendocinochristian.org/event/potluck-sunday/2026-05-03/
LOCATION:Mendocino Christian Fellowship\, Member's Home\, Mendocino\, California
END:VEVENT
BEGIN:VEVENT
DTSTART;TZID=America/Los_Angeles:20260607T123000
DTEND;TZID=America/Los_Angeles:20260607T133000
DTSTAMP:20260424T135757
CREATED:20240912T000528Z
LAST-MODIFIED:20240912T034502Z
UID:10000494-1780835400-1780839000@mendocinochristian.org
SUMMARY:Potluck Sunday
DESCRIPTION:Bring your favorite Sunday food to add to our family after-service lunch together.
URL:https://mendocinochristian.org/event/potluck-sunday/2026-06-07/
LOCATION:Mendocino Christian Fellowship\, Member's Home\, Mendocino\, California
END:VEVENT
BEGIN:VEVENT
DTSTART;TZID=America/Los_Angeles:20260705T123000
DTEND;TZID=America/Los_Angeles:20260705T133000
DTSTAMP:20260424T135757
CREATED:20240912T000528Z
LAST-MODIFIED:20240912T034502Z
UID:10000495-1783254600-1783258200@mendocinochristian.org
SUMMARY:Potluck Sunday
DESCRIPTION:Bring your favorite Sunday food to add to our family after-service lunch together.
URL:https://mendocinochristian.org/event/potluck-sunday/2026-07-05/
LOCATION:Mendocino Christian Fellowship\, Member's Home\, Mendocino\, California
END:VEVENT
BEGIN:VEVENT
DTSTART;TZID=America/Los_Angeles:20260802T123000
DTEND;TZID=America/Los_Angeles:20260802T133000
DTSTAMP:20260424T135757
CREATED:20240912T000528Z
LAST-MODIFIED:20240912T034502Z
UID:10000496-1785673800-1785677400@mendocinochristian.org
SUMMARY:Potluck Sunday
DESCRIPTION:Bring your favorite Sunday food to add to our family after-service lunch together.
URL:https://mendocinochristian.org/event/potluck-sunday/2026-08-02/
LOCATION:Mendocino Christian Fellowship\, Member's Home\, Mendocino\, California
END:VEVENT
BEGIN:VEVENT
DTSTART;TZID=America/Los_Angeles:20260906T123000
DTEND;TZID=America/Los_Angeles:20260906T133000
DTSTAMP:20260424T135757
CREATED:20240912T000528Z
LAST-MODIFIED:20240912T034502Z
UID:10000497-1788697800-1788701400@mendocinochristian.org
SUMMARY:Potluck Sunday
DESCRIPTION:Bring your favorite Sunday food to add to our family after-service lunch together.
URL:https://mendocinochristian.org/event/potluck-sunday/2026-09-06/
LOCATION:Mendocino Christian Fellowship\, Member's Home\, Mendocino\, California
END:VEVENT
BEGIN:VEVENT
DTSTART;TZID=America/Los_Angeles:20261004T123000
DTEND;TZID=America/Los_Angeles:20261004T133000
DTSTAMP:20260424T135757
CREATED:20240912T000528Z
LAST-MODIFIED:20240912T034502Z
UID:10000498-1791117000-1791120600@mendocinochristian.org
SUMMARY:Potluck Sunday
DESCRIPTION:Bring your favorite Sunday food to add to our family after-service lunch together.
URL:https://mendocinochristian.org/event/potluck-sunday/2026-10-04/
LOCATION:Mendocino Christian Fellowship\, Member's Home\, Mendocino\, California
END:VEVENT
BEGIN:VEVENT
DTSTART;TZID=America/Los_Angeles:20261101T123000
DTEND;TZID=America/Los_Angeles:20261101T133000
DTSTAMP:20260424T135757
CREATED:20240912T000528Z
LAST-MODIFIED:20240912T034502Z
UID:10000499-1793536200-1793539800@mendocinochristian.org
SUMMARY:Potluck Sunday
DESCRIPTION:Bring your favorite Sunday food to add to our family after-service lunch together.
URL:https://mendocinochristian.org/event/potluck-sunday/2026-11-01/
LOCATION:Mendocino Christian Fellowship\, Member's Home\, Mendocino\, California
END:VEVENT
BEGIN:VEVENT
DTSTART;TZID=America/Los_Angeles:20261206T123000
DTEND;TZID=America/Los_Angeles:20261206T133000
DTSTAMP:20260424T135757
CREATED:20240912T000528Z
LAST-MODIFIED:20240912T034502Z
UID:10000500-1796560200-1796563800@mendocinochristian.org
SUMMARY:Potluck Sunday
DESCRIPTION:Bring your favorite Sunday food to add to our family after-service lunch together.
URL:https://mendocinochristian.org/event/potluck-sunday/2026-12-06/
LOCATION:Mendocino Christian Fellowship\, Member's Home\, Mendocino\, California
END:VEVENT
BEGIN:VEVENT
DTSTART;TZID=America/Los_Angeles:20270103T123000
DTEND;TZID=America/Los_Angeles:20270103T133000
DTSTAMP:20260424T135757
CREATED:20240912T000528Z
LAST-MODIFIED:20240912T034502Z
UID:10000501-1798979400-1798983000@mendocinochristian.org
SUMMARY:Potluck Sunday
DESCRIPTION:Bring your favorite Sunday food to add to our family after-service lunch together.
URL:https://mendocinochristian.org/event/potluck-sunday/2027-01-03/
LOCATION:Mendocino Christian Fellowship\, Member's Home\, Mendocino\, California
END:VEVENT
BEGIN:VEVENT
DTSTART;TZID=America/Los_Angeles:20270207T123000
DTEND;TZID=America/Los_Angeles:20270207T133000
DTSTAMP:20260424T135757
CREATED:20240912T000528Z
LAST-MODIFIED:20240912T034502Z
UID:10000502-1802003400-1802007000@mendocinochristian.org
SUMMARY:Potluck Sunday
DESCRIPTION:Bring your favorite Sunday food to add to our family after-service lunch together.
URL:https://mendocinochristian.org/event/potluck-sunday/2027-02-07/
LOCATION:Mendocino Christian Fellowship\, Member's Home\, Mendocino\, California
END:VEVENT
BEGIN:VEVENT
DTSTART;TZID=America/Los_Angeles:20270307T123000
DTEND;TZID=America/Los_Angeles:20270307T133000
DTSTAMP:20260424T135757
CREATED:20240912T000528Z
LAST-MODIFIED:20240912T034502Z
UID:10000503-1804422600-1804426200@mendocinochristian.org
SUMMARY:Potluck Sunday
DESCRIPTION:Bring your favorite Sunday food to add to our family after-service lunch together.
URL:https://mendocinochristian.org/event/potluck-sunday/2027-03-07/
LOCATION:Mendocino Christian Fellowship\, Member's Home\, Mendocino\, California
END:VEVENT
BEGIN:VEVENT
DTSTART;TZID=America/Los_Angeles:20270404T123000
DTEND;TZID=America/Los_Angeles:20270404T133000
DTSTAMP:20260424T135757
CREATED:20240912T000528Z
LAST-MODIFIED:20240912T034502Z
UID:10000504-1806841800-1806845400@mendocinochristian.org
SUMMARY:Potluck Sunday
DESCRIPTION:Bring your favorite Sunday food to add to our family after-service lunch together.
URL:https://mendocinochristian.org/event/potluck-sunday/2027-04-04/
LOCATION:Mendocino Christian Fellowship\, Member's Home\, Mendocino\, California
END:VEVENT
BEGIN:VEVENT
DTSTART;TZID=America/Los_Angeles:20270502T123000
DTEND;TZID=America/Los_Angeles:20270502T133000
DTSTAMP:20260424T135757
CREATED:20240912T000528Z
LAST-MODIFIED:20240912T034502Z
UID:10000505-1809261000-1809264600@mendocinochristian.org
SUMMARY:Potluck Sunday
DESCRIPTION:Bring your favorite Sunday food to add to our family after-service lunch together.
URL:https://mendocinochristian.org/event/potluck-sunday/2027-05-02/
LOCATION:Mendocino Christian Fellowship\, Member's Home\, Mendocino\, California
END:VEVENT
BEGIN:VEVENT
DTSTART;TZID=America/Los_Angeles:20270606T123000
DTEND;TZID=America/Los_Angeles:20270606T133000
DTSTAMP:20260424T135757
CREATED:20240912T000528Z
LAST-MODIFIED:20240912T034502Z
UID:10000506-1812285000-1812288600@mendocinochristian.org
SUMMARY:Potluck Sunday
DESCRIPTION:Bring your favorite Sunday food to add to our family after-service lunch together.
URL:https://mendocinochristian.org/event/potluck-sunday/2027-06-06/
LOCATION:Mendocino Christian Fellowship\, Member's Home\, Mendocino\, California
END:VEVENT
BEGIN:VEVENT
DTSTART;TZID=America/Los_Angeles:20270704T123000
DTEND;TZID=America/Los_Angeles:20270704T133000
DTSTAMP:20260424T135757
CREATED:20240912T000528Z
LAST-MODIFIED:20240912T034502Z
UID:10000507-1814704200-1814707800@mendocinochristian.org
SUMMARY:Potluck Sunday
DESCRIPTION:Bring your favorite Sunday food to add to our family after-service lunch together.
URL:https://mendocinochristian.org/event/potluck-sunday/2027-07-04/
LOCATION:Mendocino Christian Fellowship\, Member's Home\, Mendocino\, California
END:VEVENT
BEGIN:VEVENT
DTSTART;TZID=America/Los_Angeles:20270801T123000
DTEND;TZID=America/Los_Angeles:20270801T133000
DTSTAMP:20260424T135757
CREATED:20240912T000528Z
LAST-MODIFIED:20240912T034502Z
UID:10000508-1817123400-1817127000@mendocinochristian.org
SUMMARY:Potluck Sunday
DESCRIPTION:Bring your favorite Sunday food to add to our family after-service lunch together.
URL:https://mendocinochristian.org/event/potluck-sunday/2027-08-01/
LOCATION:Mendocino Christian Fellowship\, Member's Home\, Mendocino\, California
END:VEVENT
BEGIN:VEVENT
DTSTART;TZID=America/Los_Angeles:20270905T123000
DTEND;TZID=America/Los_Angeles:20270905T133000
DTSTAMP:20260424T135757
CREATED:20240912T000528Z
LAST-MODIFIED:20240912T034502Z
UID:10000509-1820147400-1820151000@mendocinochristian.org
SUMMARY:Potluck Sunday
DESCRIPTION:Bring your favorite Sunday food to add to our family after-service lunch together.
URL:https://mendocinochristian.org/event/potluck-sunday/2027-09-05/
LOCATION:Mendocino Christian Fellowship\, Member's Home\, Mendocino\, California
END:VEVENT
BEGIN:VEVENT
DTSTART;TZID=America/Los_Angeles:20271003T123000
DTEND;TZID=America/Los_Angeles:20271003T133000
DTSTAMP:20260424T135757
CREATED:20240912T000528Z
LAST-MODIFIED:20240912T034502Z
UID:10000510-1822566600-1822570200@mendocinochristian.org
SUMMARY:Potluck Sunday
DESCRIPTION:Bring your favorite Sunday food to add to our family after-service lunch together.
URL:https://mendocinochristian.org/event/potluck-sunday/2027-10-03/
LOCATION:Mendocino Christian Fellowship\, Member's Home\, Mendocino\, California
END:VEVENT
BEGIN:VEVENT
DTSTART;TZID=America/Los_Angeles:20271107T123000
DTEND;TZID=America/Los_Angeles:20271107T133000
DTSTAMP:20260424T135757
CREATED:20240912T000528Z
LAST-MODIFIED:20240912T034502Z
UID:10000511-1825590600-1825594200@mendocinochristian.org
SUMMARY:Potluck Sunday
DESCRIPTION:Bring your favorite Sunday food to add to our family after-service lunch together.
URL:https://mendocinochristian.org/event/potluck-sunday/2027-11-07/
LOCATION:Mendocino Christian Fellowship\, Member's Home\, Mendocino\, California
END:VEVENT
BEGIN:VEVENT
DTSTART;TZID=America/Los_Angeles:20271205T123000
DTEND;TZID=America/Los_Angeles:20271205T133000
DTSTAMP:20260424T135757
CREATED:20240912T000528Z
LAST-MODIFIED:20240912T034502Z
UID:10000512-1828009800-1828013400@mendocinochristian.org
SUMMARY:Potluck Sunday
DESCRIPTION:Bring your favorite Sunday food to add to our family after-service lunch together.
URL:https://mendocinochristian.org/event/potluck-sunday/2027-12-05/
LOCATION:Mendocino Christian Fellowship\, Member's Home\, Mendocino\, California
END:VEVENT
BEGIN:VEVENT
DTSTART;TZID=America/Los_Angeles:20280102T123000
DTEND;TZID=America/Los_Angeles:20280102T133000
DTSTAMP:20260424T135757
CREATED:20240912T000528Z
LAST-MODIFIED:20240912T034502Z
UID:10000513-1830429000-1830432600@mendocinochristian.org
SUMMARY:Potluck Sunday
DESCRIPTION:Bring your favorite Sunday food to add to our family after-service lunch together.
URL:https://mendocinochristian.org/event/potluck-sunday/2028-01-02/
LOCATION:Mendocino Christian Fellowship\, Member's Home\, Mendocino\, California
END:VEVENT
BEGIN:VEVENT
DTSTART;TZID=America/Los_Angeles:20280206T123000
DTEND;TZID=America/Los_Angeles:20280206T133000
DTSTAMP:20260424T135757
CREATED:20240912T000528Z
LAST-MODIFIED:20240912T034502Z
UID:10000514-1833453000-1833456600@mendocinochristian.org
SUMMARY:Potluck Sunday
DESCRIPTION:Bring your favorite Sunday food to add to our family after-service lunch together.
URL:https://mendocinochristian.org/event/potluck-sunday/2028-02-06/
LOCATION:Mendocino Christian Fellowship\, Member's Home\, Mendocino\, California
END:VEVENT
BEGIN:VEVENT
DTSTART;TZID=America/Los_Angeles:20280305T123000
DTEND;TZID=America/Los_Angeles:20280305T133000
DTSTAMP:20260424T135757
CREATED:20240912T000528Z
LAST-MODIFIED:20240912T034502Z
UID:10000515-1835872200-1835875800@mendocinochristian.org
SUMMARY:Potluck Sunday
DESCRIPTION:Bring your favorite Sunday food to add to our family after-service lunch together.
URL:https://mendocinochristian.org/event/potluck-sunday/2028-03-05/
LOCATION:Mendocino Christian Fellowship\, Member's Home\, Mendocino\, California
END:VEVENT
BEGIN:VEVENT
DTSTART;TZID=America/Los_Angeles:20280402T123000
DTEND;TZID=America/Los_Angeles:20280402T133000
DTSTAMP:20260424T135757
CREATED:20240912T000528Z
LAST-MODIFIED:20240912T034502Z
UID:10000516-1838291400-1838295000@mendocinochristian.org
SUMMARY:Potluck Sunday
DESCRIPTION:Bring your favorite Sunday food to add to our family after-service lunch together.
URL:https://mendocinochristian.org/event/potluck-sunday/2028-04-02/
LOCATION:Mendocino Christian Fellowship\, Member's Home\, Mendocino\, California
END:VEVENT
BEGIN:VEVENT
DTSTART;TZID=America/Los_Angeles:20280507T123000
DTEND;TZID=America/Los_Angeles:20280507T133000
DTSTAMP:20260424T135757
CREATED:20240912T000528Z
LAST-MODIFIED:20240912T034502Z
UID:10000517-1841315400-1841319000@mendocinochristian.org
SUMMARY:Potluck Sunday
DESCRIPTION:Bring your favorite Sunday food to add to our family after-service lunch together.
URL:https://mendocinochristian.org/event/potluck-sunday/2028-05-07/
LOCATION:Mendocino Christian Fellowship\, Member's Home\, Mendocino\, California
END:VEVENT
BEGIN:VEVENT
DTSTART;TZID=America/Los_Angeles:20280604T123000
DTEND;TZID=America/Los_Angeles:20280604T133000
DTSTAMP:20260424T135757
CREATED:20240912T000528Z
LAST-MODIFIED:20240912T034502Z
UID:10000518-1843734600-1843738200@mendocinochristian.org
SUMMARY:Potluck Sunday
DESCRIPTION:Bring your favorite Sunday food to add to our family after-service lunch together.
URL:https://mendocinochristian.org/event/potluck-sunday/2028-06-04/
LOCATION:Mendocino Christian Fellowship\, Member's Home\, Mendocino\, California
END:VEVENT
BEGIN:VEVENT
DTSTART;TZID=America/Los_Angeles:20280702T123000
DTEND;TZID=America/Los_Angeles:20280702T133000
DTSTAMP:20260424T135757
CREATED:20240912T000528Z
LAST-MODIFIED:20240912T034502Z
UID:10000519-1846153800-1846157400@mendocinochristian.org
SUMMARY:Potluck Sunday
DESCRIPTION:Bring your favorite Sunday food to add to our family after-service lunch together.
URL:https://mendocinochristian.org/event/potluck-sunday/2028-07-02/
LOCATION:Mendocino Christian Fellowship\, Member's Home\, Mendocino\, California
END:VEVENT
BEGIN:VEVENT
DTSTART;TZID=America/Los_Angeles:20280806T123000
DTEND;TZID=America/Los_Angeles:20280806T133000
DTSTAMP:20260424T135757
CREATED:20240912T000528Z
LAST-MODIFIED:20240912T034502Z
UID:10000520-1849177800-1849181400@mendocinochristian.org
SUMMARY:Potluck Sunday
DESCRIPTION:Bring your favorite Sunday food to add to our family after-service lunch together.
URL:https://mendocinochristian.org/event/potluck-sunday/2028-08-06/
LOCATION:Mendocino Christian Fellowship\, Member's Home\, Mendocino\, California
END:VEVENT
BEGIN:VEVENT
DTSTART;TZID=America/Los_Angeles:20280903T123000
DTEND;TZID=America/Los_Angeles:20280903T133000
DTSTAMP:20260424T135757
CREATED:20240912T000528Z
LAST-MODIFIED:20240912T034502Z
UID:10000521-1851597000-1851600600@mendocinochristian.org
SUMMARY:Potluck Sunday
DESCRIPTION:Bring your favorite Sunday food to add to our family after-service lunch together.
URL:https://mendocinochristian.org/event/potluck-sunday/2028-09-03/
LOCATION:Mendocino Christian Fellowship\, Member's Home\, Mendocino\, California
END:VEVENT
BEGIN:VEVENT
DTSTART;TZID=America/Los_Angeles:20281001T123000
DTEND;TZID=America/Los_Angeles:20281001T133000
DTSTAMP:20260424T135757
CREATED:20240912T000528Z
LAST-MODIFIED:20240912T034502Z
UID:10000522-1854016200-1854019800@mendocinochristian.org
SUMMARY:Potluck Sunday
DESCRIPTION:Bring your favorite Sunday food to add to our family after-service lunch together.
URL:https://mendocinochristian.org/event/potluck-sunday/2028-10-01/
LOCATION:Mendocino Christian Fellowship\, Member's Home\, Mendocino\, California
END:VEVENT
END:VCALENDAR