BEGIN:VCALENDAR
VERSION:2.0
PRODID:-// - ECPv6.15.20//NONSGML v1.0//EN
CALSCALE:GREGORIAN
METHOD:PUBLISH
X-ORIGINAL-URL:https://mendocinochristian.org
X-WR-CALDESC:Events for 
REFRESH-INTERVAL;VALUE=DURATION:PT1H
X-Robots-Tag:noindex
X-PUBLISHED-TTL:PT1H
BEGIN:VTIMEZONE
TZID:America/Los_Angeles
BEGIN:DAYLIGHT
TZOFFSETFROM:-0800
TZOFFSETTO:-0700
TZNAME:PDT
DTSTART:20250309T100000
END:DAYLIGHT
BEGIN:STANDARD
TZOFFSETFROM:-0700
TZOFFSETTO:-0800
TZNAME:PST
DTSTART:20251102T090000
END:STANDARD
BEGIN:DAYLIGHT
TZOFFSETFROM:-0800
TZOFFSETTO:-0700
TZNAME:PDT
DTSTART:20260308T100000
END:DAYLIGHT
BEGIN:STANDARD
TZOFFSETFROM:-0700
TZOFFSETTO:-0800
TZNAME:PST
DTSTART:20261101T090000
END:STANDARD
BEGIN:DAYLIGHT
TZOFFSETFROM:-0800
TZOFFSETTO:-0700
TZNAME:PDT
DTSTART:20270314T100000
END:DAYLIGHT
BEGIN:STANDARD
TZOFFSETFROM:-0700
TZOFFSETTO:-0800
TZNAME:PST
DTSTART:20271107T090000
END:STANDARD
END:VTIMEZONE
BEGIN:VEVENT
DTSTART;TZID=America/Los_Angeles:20260426T110000
DTEND;TZID=America/Los_Angeles:20260426T123000
DTSTAMP:20260424T135756
CREATED:20240910T220855Z
LAST-MODIFIED:20240910T220855Z
UID:10000127-1777201200-1777206600@mendocinochristian.org
SUMMARY:Sunday Services 11:00 AM to 12:30 PM
DESCRIPTION:
URL:https://mendocinochristian.org/event/sunday-services-1100-am-to-1230-pm/2026-04-26/
LOCATION:Mendocino Christian Fellowship\, Member's Home\, Mendocino\, California
END:VEVENT
BEGIN:VEVENT
DTSTART;TZID=America/Los_Angeles:20260503T110000
DTEND;TZID=America/Los_Angeles:20260503T123000
DTSTAMP:20260424T135756
CREATED:20240910T220855Z
LAST-MODIFIED:20240910T220855Z
UID:10000128-1777806000-1777811400@mendocinochristian.org
SUMMARY:Sunday Services 11:00 AM to 12:30 PM
DESCRIPTION:
URL:https://mendocinochristian.org/event/sunday-services-1100-am-to-1230-pm/2026-05-03/
LOCATION:Mendocino Christian Fellowship\, Member's Home\, Mendocino\, California
END:VEVENT
BEGIN:VEVENT
DTSTART;TZID=America/Los_Angeles:20260510T110000
DTEND;TZID=America/Los_Angeles:20260510T123000
DTSTAMP:20260424T135756
CREATED:20240910T220855Z
LAST-MODIFIED:20240910T220855Z
UID:10000129-1778410800-1778416200@mendocinochristian.org
SUMMARY:Sunday Services 11:00 AM to 12:30 PM
DESCRIPTION:
URL:https://mendocinochristian.org/event/sunday-services-1100-am-to-1230-pm/2026-05-10/
LOCATION:Mendocino Christian Fellowship\, Member's Home\, Mendocino\, California
END:VEVENT
BEGIN:VEVENT
DTSTART;TZID=America/Los_Angeles:20260517T110000
DTEND;TZID=America/Los_Angeles:20260517T123000
DTSTAMP:20260424T135756
CREATED:20240910T220855Z
LAST-MODIFIED:20240910T220855Z
UID:10000130-1779015600-1779021000@mendocinochristian.org
SUMMARY:Sunday Services 11:00 AM to 12:30 PM
DESCRIPTION:
URL:https://mendocinochristian.org/event/sunday-services-1100-am-to-1230-pm/2026-05-17/
LOCATION:Mendocino Christian Fellowship\, Member's Home\, Mendocino\, California
END:VEVENT
BEGIN:VEVENT
DTSTART;TZID=America/Los_Angeles:20260524T110000
DTEND;TZID=America/Los_Angeles:20260524T123000
DTSTAMP:20260424T135756
CREATED:20240910T220855Z
LAST-MODIFIED:20240910T220855Z
UID:10000131-1779620400-1779625800@mendocinochristian.org
SUMMARY:Sunday Services 11:00 AM to 12:30 PM
DESCRIPTION:
URL:https://mendocinochristian.org/event/sunday-services-1100-am-to-1230-pm/2026-05-24/
LOCATION:Mendocino Christian Fellowship\, Member's Home\, Mendocino\, California
END:VEVENT
BEGIN:VEVENT
DTSTART;TZID=America/Los_Angeles:20260531T110000
DTEND;TZID=America/Los_Angeles:20260531T123000
DTSTAMP:20260424T135756
CREATED:20240910T220855Z
LAST-MODIFIED:20240910T220855Z
UID:10000132-1780225200-1780230600@mendocinochristian.org
SUMMARY:Sunday Services 11:00 AM to 12:30 PM
DESCRIPTION:
URL:https://mendocinochristian.org/event/sunday-services-1100-am-to-1230-pm/2026-05-31/
LOCATION:Mendocino Christian Fellowship\, Member's Home\, Mendocino\, California
END:VEVENT
BEGIN:VEVENT
DTSTART;TZID=America/Los_Angeles:20260607T110000
DTEND;TZID=America/Los_Angeles:20260607T123000
DTSTAMP:20260424T135756
CREATED:20240910T220855Z
LAST-MODIFIED:20240910T220855Z
UID:10000133-1780830000-1780835400@mendocinochristian.org
SUMMARY:Sunday Services 11:00 AM to 12:30 PM
DESCRIPTION:
URL:https://mendocinochristian.org/event/sunday-services-1100-am-to-1230-pm/2026-06-07/
LOCATION:Mendocino Christian Fellowship\, Member's Home\, Mendocino\, California
END:VEVENT
BEGIN:VEVENT
DTSTART;TZID=America/Los_Angeles:20260614T110000
DTEND;TZID=America/Los_Angeles:20260614T123000
DTSTAMP:20260424T135756
CREATED:20240910T220855Z
LAST-MODIFIED:20240910T220855Z
UID:10000134-1781434800-1781440200@mendocinochristian.org
SUMMARY:Sunday Services 11:00 AM to 12:30 PM
DESCRIPTION:
URL:https://mendocinochristian.org/event/sunday-services-1100-am-to-1230-pm/2026-06-14/
LOCATION:Mendocino Christian Fellowship\, Member's Home\, Mendocino\, California
END:VEVENT
BEGIN:VEVENT
DTSTART;TZID=America/Los_Angeles:20260621T110000
DTEND;TZID=America/Los_Angeles:20260621T123000
DTSTAMP:20260424T135756
CREATED:20240910T220855Z
LAST-MODIFIED:20240910T220855Z
UID:10000135-1782039600-1782045000@mendocinochristian.org
SUMMARY:Sunday Services 11:00 AM to 12:30 PM
DESCRIPTION:
URL:https://mendocinochristian.org/event/sunday-services-1100-am-to-1230-pm/2026-06-21/
LOCATION:Mendocino Christian Fellowship\, Member's Home\, Mendocino\, California
END:VEVENT
BEGIN:VEVENT
DTSTART;TZID=America/Los_Angeles:20260628T110000
DTEND;TZID=America/Los_Angeles:20260628T123000
DTSTAMP:20260424T135756
CREATED:20240910T220855Z
LAST-MODIFIED:20240910T220855Z
UID:10000136-1782644400-1782649800@mendocinochristian.org
SUMMARY:Sunday Services 11:00 AM to 12:30 PM
DESCRIPTION:
URL:https://mendocinochristian.org/event/sunday-services-1100-am-to-1230-pm/2026-06-28/
LOCATION:Mendocino Christian Fellowship\, Member's Home\, Mendocino\, California
END:VEVENT
BEGIN:VEVENT
DTSTART;TZID=America/Los_Angeles:20260705T110000
DTEND;TZID=America/Los_Angeles:20260705T123000
DTSTAMP:20260424T135756
CREATED:20240910T220855Z
LAST-MODIFIED:20240910T220855Z
UID:10000137-1783249200-1783254600@mendocinochristian.org
SUMMARY:Sunday Services 11:00 AM to 12:30 PM
DESCRIPTION:
URL:https://mendocinochristian.org/event/sunday-services-1100-am-to-1230-pm/2026-07-05/
LOCATION:Mendocino Christian Fellowship\, Member's Home\, Mendocino\, California
END:VEVENT
BEGIN:VEVENT
DTSTART;TZID=America/Los_Angeles:20260712T110000
DTEND;TZID=America/Los_Angeles:20260712T123000
DTSTAMP:20260424T135756
CREATED:20240910T220855Z
LAST-MODIFIED:20240910T220855Z
UID:10000138-1783854000-1783859400@mendocinochristian.org
SUMMARY:Sunday Services 11:00 AM to 12:30 PM
DESCRIPTION:
URL:https://mendocinochristian.org/event/sunday-services-1100-am-to-1230-pm/2026-07-12/
LOCATION:Mendocino Christian Fellowship\, Member's Home\, Mendocino\, California
END:VEVENT
BEGIN:VEVENT
DTSTART;TZID=America/Los_Angeles:20260719T110000
DTEND;TZID=America/Los_Angeles:20260719T123000
DTSTAMP:20260424T135756
CREATED:20240910T220855Z
LAST-MODIFIED:20240910T220855Z
UID:10000139-1784458800-1784464200@mendocinochristian.org
SUMMARY:Sunday Services 11:00 AM to 12:30 PM
DESCRIPTION:
URL:https://mendocinochristian.org/event/sunday-services-1100-am-to-1230-pm/2026-07-19/
LOCATION:Mendocino Christian Fellowship\, Member's Home\, Mendocino\, California
END:VEVENT
BEGIN:VEVENT
DTSTART;TZID=America/Los_Angeles:20260726T110000
DTEND;TZID=America/Los_Angeles:20260726T123000
DTSTAMP:20260424T135756
CREATED:20240910T220855Z
LAST-MODIFIED:20240910T220855Z
UID:10000140-1785063600-1785069000@mendocinochristian.org
SUMMARY:Sunday Services 11:00 AM to 12:30 PM
DESCRIPTION:
URL:https://mendocinochristian.org/event/sunday-services-1100-am-to-1230-pm/2026-07-26/
LOCATION:Mendocino Christian Fellowship\, Member's Home\, Mendocino\, California
END:VEVENT
BEGIN:VEVENT
DTSTART;TZID=America/Los_Angeles:20260802T110000
DTEND;TZID=America/Los_Angeles:20260802T123000
DTSTAMP:20260424T135756
CREATED:20240910T220855Z
LAST-MODIFIED:20240910T220855Z
UID:10000141-1785668400-1785673800@mendocinochristian.org
SUMMARY:Sunday Services 11:00 AM to 12:30 PM
DESCRIPTION:
URL:https://mendocinochristian.org/event/sunday-services-1100-am-to-1230-pm/2026-08-02/
LOCATION:Mendocino Christian Fellowship\, Member's Home\, Mendocino\, California
END:VEVENT
BEGIN:VEVENT
DTSTART;TZID=America/Los_Angeles:20260809T110000
DTEND;TZID=America/Los_Angeles:20260809T123000
DTSTAMP:20260424T135756
CREATED:20240910T220855Z
LAST-MODIFIED:20240910T220855Z
UID:10000142-1786273200-1786278600@mendocinochristian.org
SUMMARY:Sunday Services 11:00 AM to 12:30 PM
DESCRIPTION:
URL:https://mendocinochristian.org/event/sunday-services-1100-am-to-1230-pm/2026-08-09/
LOCATION:Mendocino Christian Fellowship\, Member's Home\, Mendocino\, California
END:VEVENT
BEGIN:VEVENT
DTSTART;TZID=America/Los_Angeles:20260816T110000
DTEND;TZID=America/Los_Angeles:20260816T123000
DTSTAMP:20260424T135756
CREATED:20240910T220855Z
LAST-MODIFIED:20240910T220855Z
UID:10000143-1786878000-1786883400@mendocinochristian.org
SUMMARY:Sunday Services 11:00 AM to 12:30 PM
DESCRIPTION:
URL:https://mendocinochristian.org/event/sunday-services-1100-am-to-1230-pm/2026-08-16/
LOCATION:Mendocino Christian Fellowship\, Member's Home\, Mendocino\, California
END:VEVENT
BEGIN:VEVENT
DTSTART;TZID=America/Los_Angeles:20260823T110000
DTEND;TZID=America/Los_Angeles:20260823T123000
DTSTAMP:20260424T135756
CREATED:20240910T220855Z
LAST-MODIFIED:20240910T220855Z
UID:10000144-1787482800-1787488200@mendocinochristian.org
SUMMARY:Sunday Services 11:00 AM to 12:30 PM
DESCRIPTION:
URL:https://mendocinochristian.org/event/sunday-services-1100-am-to-1230-pm/2026-08-23/
LOCATION:Mendocino Christian Fellowship\, Member's Home\, Mendocino\, California
END:VEVENT
BEGIN:VEVENT
DTSTART;TZID=America/Los_Angeles:20260830T110000
DTEND;TZID=America/Los_Angeles:20260830T123000
DTSTAMP:20260424T135756
CREATED:20240910T220855Z
LAST-MODIFIED:20240910T220855Z
UID:10000145-1788087600-1788093000@mendocinochristian.org
SUMMARY:Sunday Services 11:00 AM to 12:30 PM
DESCRIPTION:
URL:https://mendocinochristian.org/event/sunday-services-1100-am-to-1230-pm/2026-08-30/
LOCATION:Mendocino Christian Fellowship\, Member's Home\, Mendocino\, California
END:VEVENT
BEGIN:VEVENT
DTSTART;TZID=America/Los_Angeles:20260906T110000
DTEND;TZID=America/Los_Angeles:20260906T123000
DTSTAMP:20260424T135756
CREATED:20240910T220855Z
LAST-MODIFIED:20240910T220855Z
UID:10000146-1788692400-1788697800@mendocinochristian.org
SUMMARY:Sunday Services 11:00 AM to 12:30 PM
DESCRIPTION:
URL:https://mendocinochristian.org/event/sunday-services-1100-am-to-1230-pm/2026-09-06/
LOCATION:Mendocino Christian Fellowship\, Member's Home\, Mendocino\, California
END:VEVENT
BEGIN:VEVENT
DTSTART;TZID=America/Los_Angeles:20260913T110000
DTEND;TZID=America/Los_Angeles:20260913T123000
DTSTAMP:20260424T135756
CREATED:20240910T220855Z
LAST-MODIFIED:20240910T220855Z
UID:10000147-1789297200-1789302600@mendocinochristian.org
SUMMARY:Sunday Services 11:00 AM to 12:30 PM
DESCRIPTION:
URL:https://mendocinochristian.org/event/sunday-services-1100-am-to-1230-pm/2026-09-13/
LOCATION:Mendocino Christian Fellowship\, Member's Home\, Mendocino\, California
END:VEVENT
BEGIN:VEVENT
DTSTART;TZID=America/Los_Angeles:20260920T110000
DTEND;TZID=America/Los_Angeles:20260920T123000
DTSTAMP:20260424T135756
CREATED:20240910T220855Z
LAST-MODIFIED:20240910T220855Z
UID:10000148-1789902000-1789907400@mendocinochristian.org
SUMMARY:Sunday Services 11:00 AM to 12:30 PM
DESCRIPTION:
URL:https://mendocinochristian.org/event/sunday-services-1100-am-to-1230-pm/2026-09-20/
LOCATION:Mendocino Christian Fellowship\, Member's Home\, Mendocino\, California
END:VEVENT
BEGIN:VEVENT
DTSTART;TZID=America/Los_Angeles:20260927T110000
DTEND;TZID=America/Los_Angeles:20260927T123000
DTSTAMP:20260424T135757
CREATED:20240910T220855Z
LAST-MODIFIED:20240910T220855Z
UID:10000149-1790506800-1790512200@mendocinochristian.org
SUMMARY:Sunday Services 11:00 AM to 12:30 PM
DESCRIPTION:
URL:https://mendocinochristian.org/event/sunday-services-1100-am-to-1230-pm/2026-09-27/
LOCATION:Mendocino Christian Fellowship\, Member's Home\, Mendocino\, California
END:VEVENT
BEGIN:VEVENT
DTSTART;TZID=America/Los_Angeles:20261004T110000
DTEND;TZID=America/Los_Angeles:20261004T123000
DTSTAMP:20260424T135757
CREATED:20240910T220855Z
LAST-MODIFIED:20240910T220855Z
UID:10000150-1791111600-1791117000@mendocinochristian.org
SUMMARY:Sunday Services 11:00 AM to 12:30 PM
DESCRIPTION:
URL:https://mendocinochristian.org/event/sunday-services-1100-am-to-1230-pm/2026-10-04/
LOCATION:Mendocino Christian Fellowship\, Member's Home\, Mendocino\, California
END:VEVENT
BEGIN:VEVENT
DTSTART;TZID=America/Los_Angeles:20261011T110000
DTEND;TZID=America/Los_Angeles:20261011T123000
DTSTAMP:20260424T135757
CREATED:20240910T220855Z
LAST-MODIFIED:20240910T220855Z
UID:10000151-1791716400-1791721800@mendocinochristian.org
SUMMARY:Sunday Services 11:00 AM to 12:30 PM
DESCRIPTION:
URL:https://mendocinochristian.org/event/sunday-services-1100-am-to-1230-pm/2026-10-11/
LOCATION:Mendocino Christian Fellowship\, Member's Home\, Mendocino\, California
END:VEVENT
BEGIN:VEVENT
DTSTART;TZID=America/Los_Angeles:20261018T110000
DTEND;TZID=America/Los_Angeles:20261018T123000
DTSTAMP:20260424T135757
CREATED:20240910T220855Z
LAST-MODIFIED:20240910T220855Z
UID:10000152-1792321200-1792326600@mendocinochristian.org
SUMMARY:Sunday Services 11:00 AM to 12:30 PM
DESCRIPTION:
URL:https://mendocinochristian.org/event/sunday-services-1100-am-to-1230-pm/2026-10-18/
LOCATION:Mendocino Christian Fellowship\, Member's Home\, Mendocino\, California
END:VEVENT
BEGIN:VEVENT
DTSTART;TZID=America/Los_Angeles:20261025T110000
DTEND;TZID=America/Los_Angeles:20261025T123000
DTSTAMP:20260424T135757
CREATED:20240910T220855Z
LAST-MODIFIED:20240910T220855Z
UID:10000153-1792926000-1792931400@mendocinochristian.org
SUMMARY:Sunday Services 11:00 AM to 12:30 PM
DESCRIPTION:
URL:https://mendocinochristian.org/event/sunday-services-1100-am-to-1230-pm/2026-10-25/
LOCATION:Mendocino Christian Fellowship\, Member's Home\, Mendocino\, California
END:VEVENT
BEGIN:VEVENT
DTSTART;TZID=America/Los_Angeles:20261101T110000
DTEND;TZID=America/Los_Angeles:20261101T123000
DTSTAMP:20260424T135757
CREATED:20240910T220855Z
LAST-MODIFIED:20240910T220855Z
UID:10000154-1793530800-1793536200@mendocinochristian.org
SUMMARY:Sunday Services 11:00 AM to 12:30 PM
DESCRIPTION:
URL:https://mendocinochristian.org/event/sunday-services-1100-am-to-1230-pm/2026-11-01/
LOCATION:Mendocino Christian Fellowship\, Member's Home\, Mendocino\, California
END:VEVENT
BEGIN:VEVENT
DTSTART;TZID=America/Los_Angeles:20261108T110000
DTEND;TZID=America/Los_Angeles:20261108T123000
DTSTAMP:20260424T135757
CREATED:20240910T220855Z
LAST-MODIFIED:20240910T220855Z
UID:10000155-1794135600-1794141000@mendocinochristian.org
SUMMARY:Sunday Services 11:00 AM to 12:30 PM
DESCRIPTION:
URL:https://mendocinochristian.org/event/sunday-services-1100-am-to-1230-pm/2026-11-08/
LOCATION:Mendocino Christian Fellowship\, Member's Home\, Mendocino\, California
END:VEVENT
BEGIN:VEVENT
DTSTART;TZID=America/Los_Angeles:20261115T110000
DTEND;TZID=America/Los_Angeles:20261115T123000
DTSTAMP:20260424T135757
CREATED:20240910T220855Z
LAST-MODIFIED:20240910T220855Z
UID:10000156-1794740400-1794745800@mendocinochristian.org
SUMMARY:Sunday Services 11:00 AM to 12:30 PM
DESCRIPTION:
URL:https://mendocinochristian.org/event/sunday-services-1100-am-to-1230-pm/2026-11-15/
LOCATION:Mendocino Christian Fellowship\, Member's Home\, Mendocino\, California
END:VEVENT
END:VCALENDAR