BEGIN:VCALENDAR
VERSION:2.0
PRODID:-// - ECPv6.15.20//NONSGML v1.0//EN
CALSCALE:GREGORIAN
METHOD:PUBLISH
X-ORIGINAL-URL:https://mendocinochristian.org
X-WR-CALDESC:Events for 
REFRESH-INTERVAL;VALUE=DURATION:PT1H
X-Robots-Tag:noindex
X-PUBLISHED-TTL:PT1H
BEGIN:VTIMEZONE
TZID:America/Los_Angeles
BEGIN:DAYLIGHT
TZOFFSETFROM:-0800
TZOFFSETTO:-0700
TZNAME:PDT
DTSTART:20250309T100000
END:DAYLIGHT
BEGIN:STANDARD
TZOFFSETFROM:-0700
TZOFFSETTO:-0800
TZNAME:PST
DTSTART:20251102T090000
END:STANDARD
BEGIN:DAYLIGHT
TZOFFSETFROM:-0800
TZOFFSETTO:-0700
TZNAME:PDT
DTSTART:20260308T100000
END:DAYLIGHT
BEGIN:STANDARD
TZOFFSETFROM:-0700
TZOFFSETTO:-0800
TZNAME:PST
DTSTART:20261101T090000
END:STANDARD
BEGIN:DAYLIGHT
TZOFFSETFROM:-0800
TZOFFSETTO:-0700
TZNAME:PDT
DTSTART:20270314T100000
END:DAYLIGHT
BEGIN:STANDARD
TZOFFSETFROM:-0700
TZOFFSETTO:-0800
TZNAME:PST
DTSTART:20271107T090000
END:STANDARD
END:VTIMEZONE
BEGIN:VEVENT
DTSTART;TZID=America/Los_Angeles:20260308T110000
DTEND;TZID=America/Los_Angeles:20260308T123000
DTSTAMP:20260425T054728
CREATED:20240910T220855Z
LAST-MODIFIED:20240910T220855Z
UID:10000120-1772967600-1772973000@mendocinochristian.org
SUMMARY:Sunday Services 11:00 AM to 12:30 PM
DESCRIPTION:
URL:https://mendocinochristian.org/event/sunday-services-1100-am-to-1230-pm/2026-03-08/
LOCATION:Mendocino Christian Fellowship\, Member's Home\, Mendocino\, California
END:VEVENT
BEGIN:VEVENT
DTSTART;TZID=America/Los_Angeles:20260309T100000
DTEND;TZID=America/Los_Angeles:20260309T100000
DTSTAMP:20260425T054728
CREATED:20250630T210326Z
LAST-MODIFIED:20250630T210450Z
UID:10000570-1773050400-1773050400@mendocinochristian.org
SUMMARY:Home Bible Study
DESCRIPTION:Every Monday we meet for a study that is moving us through the bible. Come and enjoy the Livingroom atmosphere of learning God’s Word. Unlike preaching\, a bible study allows for questions and answers and opportunities for insightful discussions. The study starts at 10:00 AM and concludes at 11:00 AM.
URL:https://mendocinochristian.org/event/home-bible-study/2026-03-09/
LOCATION:Mendocino Christian Fellowship\, Member's Home\, Mendocino\, California
END:VEVENT
BEGIN:VEVENT
DTSTART;TZID=America/Los_Angeles:20260310T100000
DTEND;TZID=America/Los_Angeles:20260310T120000
DTSTAMP:20260425T054728
CREATED:20250706T021225Z
LAST-MODIFIED:20250706T021225Z
UID:10000876-1773136800-1773144000@mendocinochristian.org
SUMMARY:Prayer Table From 10am to 12 Noon
DESCRIPTION:The Prayer Table is out in front of our church every Tuesday from 10 to 12 noon. We meet our neighbors and visitors from outside of Mendocino who drop by to ask for prayer or just share their heart with us. Hardly a Tuesday goes by where we don’t meet people who are grateful that this ministry exists. We have had this prayer table ministry going steadily for many years now and people in the neighborhood or out-of-town visitors wave and smile  knowing this is a great thing for a church to do and offer to the community. We have seen seven conversions to Christ in the last few years and we have witnessed God’s goodness towards many with answered prayers and miracles of healing. Please stop by if you need prayer or just to see the blessings happening.
URL:https://mendocinochristian.org/event/prayer-table-from-10am-to-12-noon/2026-03-10/
LOCATION:Mendocino Christian Fellowship\, Member's Home\, Mendocino\, California
END:VEVENT
BEGIN:VEVENT
DTSTART;TZID=America/Los_Angeles:20260315T110000
DTEND;TZID=America/Los_Angeles:20260315T123000
DTSTAMP:20260425T054728
CREATED:20240910T220855Z
LAST-MODIFIED:20240910T220855Z
UID:10000121-1773572400-1773577800@mendocinochristian.org
SUMMARY:Sunday Services 11:00 AM to 12:30 PM
DESCRIPTION:
URL:https://mendocinochristian.org/event/sunday-services-1100-am-to-1230-pm/2026-03-15/
LOCATION:Mendocino Christian Fellowship\, Member's Home\, Mendocino\, California
END:VEVENT
BEGIN:VEVENT
DTSTART;TZID=America/Los_Angeles:20260316T100000
DTEND;TZID=America/Los_Angeles:20260316T100000
DTSTAMP:20260425T054728
CREATED:20250630T210326Z
LAST-MODIFIED:20250630T210450Z
UID:10000571-1773655200-1773655200@mendocinochristian.org
SUMMARY:Home Bible Study
DESCRIPTION:Every Monday we meet for a study that is moving us through the bible. Come and enjoy the Livingroom atmosphere of learning God’s Word. Unlike preaching\, a bible study allows for questions and answers and opportunities for insightful discussions. The study starts at 10:00 AM and concludes at 11:00 AM.
URL:https://mendocinochristian.org/event/home-bible-study/2026-03-16/
LOCATION:Mendocino Christian Fellowship\, Member's Home\, Mendocino\, California
END:VEVENT
BEGIN:VEVENT
DTSTART;TZID=America/Los_Angeles:20260317T100000
DTEND;TZID=America/Los_Angeles:20260317T120000
DTSTAMP:20260425T054728
CREATED:20250706T021225Z
LAST-MODIFIED:20250706T021225Z
UID:10000877-1773741600-1773748800@mendocinochristian.org
SUMMARY:Prayer Table From 10am to 12 Noon
DESCRIPTION:The Prayer Table is out in front of our church every Tuesday from 10 to 12 noon. We meet our neighbors and visitors from outside of Mendocino who drop by to ask for prayer or just share their heart with us. Hardly a Tuesday goes by where we don’t meet people who are grateful that this ministry exists. We have had this prayer table ministry going steadily for many years now and people in the neighborhood or out-of-town visitors wave and smile  knowing this is a great thing for a church to do and offer to the community. We have seen seven conversions to Christ in the last few years and we have witnessed God’s goodness towards many with answered prayers and miracles of healing. Please stop by if you need prayer or just to see the blessings happening.
URL:https://mendocinochristian.org/event/prayer-table-from-10am-to-12-noon/2026-03-17/
LOCATION:Mendocino Christian Fellowship\, Member's Home\, Mendocino\, California
END:VEVENT
BEGIN:VEVENT
DTSTART;TZID=America/Los_Angeles:20260322T110000
DTEND;TZID=America/Los_Angeles:20260322T123000
DTSTAMP:20260425T054728
CREATED:20240910T220855Z
LAST-MODIFIED:20240910T220855Z
UID:10000122-1774177200-1774182600@mendocinochristian.org
SUMMARY:Sunday Services 11:00 AM to 12:30 PM
DESCRIPTION:
URL:https://mendocinochristian.org/event/sunday-services-1100-am-to-1230-pm/2026-03-22/
LOCATION:Mendocino Christian Fellowship\, Member's Home\, Mendocino\, California
END:VEVENT
BEGIN:VEVENT
DTSTART;TZID=America/Los_Angeles:20260323T100000
DTEND;TZID=America/Los_Angeles:20260323T100000
DTSTAMP:20260425T054728
CREATED:20250630T210326Z
LAST-MODIFIED:20250630T210450Z
UID:10000572-1774260000-1774260000@mendocinochristian.org
SUMMARY:Home Bible Study
DESCRIPTION:Every Monday we meet for a study that is moving us through the bible. Come and enjoy the Livingroom atmosphere of learning God’s Word. Unlike preaching\, a bible study allows for questions and answers and opportunities for insightful discussions. The study starts at 10:00 AM and concludes at 11:00 AM.
URL:https://mendocinochristian.org/event/home-bible-study/2026-03-23/
LOCATION:Mendocino Christian Fellowship\, Member's Home\, Mendocino\, California
END:VEVENT
BEGIN:VEVENT
DTSTART;TZID=America/Los_Angeles:20260324T100000
DTEND;TZID=America/Los_Angeles:20260324T120000
DTSTAMP:20260425T054728
CREATED:20250706T021225Z
LAST-MODIFIED:20250706T021225Z
UID:10000878-1774346400-1774353600@mendocinochristian.org
SUMMARY:Prayer Table From 10am to 12 Noon
DESCRIPTION:The Prayer Table is out in front of our church every Tuesday from 10 to 12 noon. We meet our neighbors and visitors from outside of Mendocino who drop by to ask for prayer or just share their heart with us. Hardly a Tuesday goes by where we don’t meet people who are grateful that this ministry exists. We have had this prayer table ministry going steadily for many years now and people in the neighborhood or out-of-town visitors wave and smile  knowing this is a great thing for a church to do and offer to the community. We have seen seven conversions to Christ in the last few years and we have witnessed God’s goodness towards many with answered prayers and miracles of healing. Please stop by if you need prayer or just to see the blessings happening.
URL:https://mendocinochristian.org/event/prayer-table-from-10am-to-12-noon/2026-03-24/
LOCATION:Mendocino Christian Fellowship\, Member's Home\, Mendocino\, California
END:VEVENT
BEGIN:VEVENT
DTSTART;TZID=America/Los_Angeles:20260329T110000
DTEND;TZID=America/Los_Angeles:20260329T123000
DTSTAMP:20260425T054728
CREATED:20240910T220855Z
LAST-MODIFIED:20240910T220855Z
UID:10000123-1774782000-1774787400@mendocinochristian.org
SUMMARY:Sunday Services 11:00 AM to 12:30 PM
DESCRIPTION:
URL:https://mendocinochristian.org/event/sunday-services-1100-am-to-1230-pm/2026-03-29/
LOCATION:Mendocino Christian Fellowship\, Member's Home\, Mendocino\, California
END:VEVENT
BEGIN:VEVENT
DTSTART;VALUE=DATE:20260330
DTEND;VALUE=DATE:20260403
DTSTAMP:20260425T054728
CREATED:20260331T032425Z
LAST-MODIFIED:20260331T170758Z
UID:10001104-1774828800-1775174399@mendocinochristian.org
SUMMARY:Church closed for termite removal. Sunday service will be held at Grace Community Church on April 5.
DESCRIPTION:The church will not be available today.
URL:https://mendocinochristian.org/event/church-closed/
LOCATION:Mendocino Christian Fellowship\, Member's Home\, Mendocino\, California
END:VEVENT
BEGIN:VEVENT
DTSTART;TZID=America/Los_Angeles:20260330T100000
DTEND;TZID=America/Los_Angeles:20260330T100000
DTSTAMP:20260425T054729
CREATED:20250630T210326Z
LAST-MODIFIED:20250630T210450Z
UID:10000573-1774864800-1774864800@mendocinochristian.org
SUMMARY:Home Bible Study
DESCRIPTION:Every Monday we meet for a study that is moving us through the bible. Come and enjoy the Livingroom atmosphere of learning God’s Word. Unlike preaching\, a bible study allows for questions and answers and opportunities for insightful discussions. The study starts at 10:00 AM and concludes at 11:00 AM.
URL:https://mendocinochristian.org/event/home-bible-study/2026-03-30/
LOCATION:Mendocino Christian Fellowship\, Member's Home\, Mendocino\, California
END:VEVENT
BEGIN:VEVENT
DTSTART;TZID=America/Los_Angeles:20260331T100000
DTEND;TZID=America/Los_Angeles:20260331T120000
DTSTAMP:20260425T054729
CREATED:20250706T021225Z
LAST-MODIFIED:20250706T021225Z
UID:10000879-1774951200-1774958400@mendocinochristian.org
SUMMARY:Prayer Table From 10am to 12 Noon
DESCRIPTION:The Prayer Table is out in front of our church every Tuesday from 10 to 12 noon. We meet our neighbors and visitors from outside of Mendocino who drop by to ask for prayer or just share their heart with us. Hardly a Tuesday goes by where we don’t meet people who are grateful that this ministry exists. We have had this prayer table ministry going steadily for many years now and people in the neighborhood or out-of-town visitors wave and smile  knowing this is a great thing for a church to do and offer to the community. We have seen seven conversions to Christ in the last few years and we have witnessed God’s goodness towards many with answered prayers and miracles of healing. Please stop by if you need prayer or just to see the blessings happening.
URL:https://mendocinochristian.org/event/prayer-table-from-10am-to-12-noon/2026-03-31/
LOCATION:Mendocino Christian Fellowship\, Member's Home\, Mendocino\, California
END:VEVENT
BEGIN:VEVENT
DTSTART;TZID=America/Los_Angeles:20260405T110000
DTEND;TZID=America/Los_Angeles:20260405T123000
DTSTAMP:20260425T054729
CREATED:20240910T220855Z
LAST-MODIFIED:20240910T220855Z
UID:10000124-1775386800-1775392200@mendocinochristian.org
SUMMARY:Sunday Services 11:00 AM to 12:30 PM
DESCRIPTION:
URL:https://mendocinochristian.org/event/sunday-services-1100-am-to-1230-pm/2026-04-05/
LOCATION:Mendocino Christian Fellowship\, Member's Home\, Mendocino\, California
END:VEVENT
BEGIN:VEVENT
DTSTART;TZID=America/Los_Angeles:20260405T120000
DTEND;TZID=America/Los_Angeles:20260405T123000
DTSTAMP:20260425T054729
CREATED:20240911T235828Z
LAST-MODIFIED:20240912T032207Z
UID:10000439-1775390400-1775392200@mendocinochristian.org
SUMMARY:Communion Sunday
DESCRIPTION:
URL:https://mendocinochristian.org/event/communion-sunday/2026-04-05/
LOCATION:Mendocino Christian Fellowship\, Member's Home\, Mendocino\, California
END:VEVENT
BEGIN:VEVENT
DTSTART;TZID=America/Los_Angeles:20260405T123000
DTEND;TZID=America/Los_Angeles:20260405T133000
DTSTAMP:20260425T054729
CREATED:20240912T000528Z
LAST-MODIFIED:20240912T034502Z
UID:10000492-1775392200-1775395800@mendocinochristian.org
SUMMARY:Potluck Sunday
DESCRIPTION:Bring your favorite Sunday food to add to our family after-service lunch together.
URL:https://mendocinochristian.org/event/potluck-sunday/2026-04-05/
LOCATION:Mendocino Christian Fellowship\, Member's Home\, Mendocino\, California
END:VEVENT
BEGIN:VEVENT
DTSTART;TZID=America/Los_Angeles:20260406T100000
DTEND;TZID=America/Los_Angeles:20260406T100000
DTSTAMP:20260425T054729
CREATED:20250630T210326Z
LAST-MODIFIED:20250630T210450Z
UID:10000574-1775469600-1775469600@mendocinochristian.org
SUMMARY:Home Bible Study
DESCRIPTION:Every Monday we meet for a study that is moving us through the bible. Come and enjoy the Livingroom atmosphere of learning God’s Word. Unlike preaching\, a bible study allows for questions and answers and opportunities for insightful discussions. The study starts at 10:00 AM and concludes at 11:00 AM.
URL:https://mendocinochristian.org/event/home-bible-study/2026-04-06/
LOCATION:Mendocino Christian Fellowship\, Member's Home\, Mendocino\, California
END:VEVENT
BEGIN:VEVENT
DTSTART;TZID=America/Los_Angeles:20260407T100000
DTEND;TZID=America/Los_Angeles:20260407T120000
DTSTAMP:20260425T054729
CREATED:20250706T021225Z
LAST-MODIFIED:20250706T021225Z
UID:10000880-1775556000-1775563200@mendocinochristian.org
SUMMARY:Prayer Table From 10am to 12 Noon
DESCRIPTION:The Prayer Table is out in front of our church every Tuesday from 10 to 12 noon. We meet our neighbors and visitors from outside of Mendocino who drop by to ask for prayer or just share their heart with us. Hardly a Tuesday goes by where we don’t meet people who are grateful that this ministry exists. We have had this prayer table ministry going steadily for many years now and people in the neighborhood or out-of-town visitors wave and smile  knowing this is a great thing for a church to do and offer to the community. We have seen seven conversions to Christ in the last few years and we have witnessed God’s goodness towards many with answered prayers and miracles of healing. Please stop by if you need prayer or just to see the blessings happening.
URL:https://mendocinochristian.org/event/prayer-table-from-10am-to-12-noon/2026-04-07/
LOCATION:Mendocino Christian Fellowship\, Member's Home\, Mendocino\, California
END:VEVENT
BEGIN:VEVENT
DTSTART;TZID=America/Los_Angeles:20260412T110000
DTEND;TZID=America/Los_Angeles:20260412T123000
DTSTAMP:20260425T054729
CREATED:20240910T220855Z
LAST-MODIFIED:20240910T220855Z
UID:10000125-1775991600-1775997000@mendocinochristian.org
SUMMARY:Sunday Services 11:00 AM to 12:30 PM
DESCRIPTION:
URL:https://mendocinochristian.org/event/sunday-services-1100-am-to-1230-pm/2026-04-12/
LOCATION:Mendocino Christian Fellowship\, Member's Home\, Mendocino\, California
END:VEVENT
BEGIN:VEVENT
DTSTART;TZID=America/Los_Angeles:20260413T100000
DTEND;TZID=America/Los_Angeles:20260413T100000
DTSTAMP:20260425T054729
CREATED:20250630T210326Z
LAST-MODIFIED:20250630T210450Z
UID:10000575-1776074400-1776074400@mendocinochristian.org
SUMMARY:Home Bible Study
DESCRIPTION:Every Monday we meet for a study that is moving us through the bible. Come and enjoy the Livingroom atmosphere of learning God’s Word. Unlike preaching\, a bible study allows for questions and answers and opportunities for insightful discussions. The study starts at 10:00 AM and concludes at 11:00 AM.
URL:https://mendocinochristian.org/event/home-bible-study/2026-04-13/
LOCATION:Mendocino Christian Fellowship\, Member's Home\, Mendocino\, California
END:VEVENT
BEGIN:VEVENT
DTSTART;TZID=America/Los_Angeles:20260414T100000
DTEND;TZID=America/Los_Angeles:20260414T120000
DTSTAMP:20260425T054729
CREATED:20250706T021225Z
LAST-MODIFIED:20250706T021225Z
UID:10000881-1776160800-1776168000@mendocinochristian.org
SUMMARY:Prayer Table From 10am to 12 Noon
DESCRIPTION:The Prayer Table is out in front of our church every Tuesday from 10 to 12 noon. We meet our neighbors and visitors from outside of Mendocino who drop by to ask for prayer or just share their heart with us. Hardly a Tuesday goes by where we don’t meet people who are grateful that this ministry exists. We have had this prayer table ministry going steadily for many years now and people in the neighborhood or out-of-town visitors wave and smile  knowing this is a great thing for a church to do and offer to the community. We have seen seven conversions to Christ in the last few years and we have witnessed God’s goodness towards many with answered prayers and miracles of healing. Please stop by if you need prayer or just to see the blessings happening.
URL:https://mendocinochristian.org/event/prayer-table-from-10am-to-12-noon/2026-04-14/
LOCATION:Mendocino Christian Fellowship\, Member's Home\, Mendocino\, California
END:VEVENT
BEGIN:VEVENT
DTSTART;TZID=America/Los_Angeles:20260419T110000
DTEND;TZID=America/Los_Angeles:20260419T123000
DTSTAMP:20260425T054729
CREATED:20240910T220855Z
LAST-MODIFIED:20240910T220855Z
UID:10000126-1776596400-1776601800@mendocinochristian.org
SUMMARY:Sunday Services 11:00 AM to 12:30 PM
DESCRIPTION:
URL:https://mendocinochristian.org/event/sunday-services-1100-am-to-1230-pm/2026-04-19/
LOCATION:Mendocino Christian Fellowship\, Member's Home\, Mendocino\, California
END:VEVENT
BEGIN:VEVENT
DTSTART;TZID=America/Los_Angeles:20260420T100000
DTEND;TZID=America/Los_Angeles:20260420T100000
DTSTAMP:20260425T054729
CREATED:20250630T210326Z
LAST-MODIFIED:20250630T210450Z
UID:10000576-1776679200-1776679200@mendocinochristian.org
SUMMARY:Home Bible Study
DESCRIPTION:Every Monday we meet for a study that is moving us through the bible. Come and enjoy the Livingroom atmosphere of learning God’s Word. Unlike preaching\, a bible study allows for questions and answers and opportunities for insightful discussions. The study starts at 10:00 AM and concludes at 11:00 AM.
URL:https://mendocinochristian.org/event/home-bible-study/2026-04-20/
LOCATION:Mendocino Christian Fellowship\, Member's Home\, Mendocino\, California
END:VEVENT
BEGIN:VEVENT
DTSTART;TZID=America/Los_Angeles:20260421T100000
DTEND;TZID=America/Los_Angeles:20260421T120000
DTSTAMP:20260425T054729
CREATED:20250706T021225Z
LAST-MODIFIED:20250706T021225Z
UID:10000882-1776765600-1776772800@mendocinochristian.org
SUMMARY:Prayer Table From 10am to 12 Noon
DESCRIPTION:The Prayer Table is out in front of our church every Tuesday from 10 to 12 noon. We meet our neighbors and visitors from outside of Mendocino who drop by to ask for prayer or just share their heart with us. Hardly a Tuesday goes by where we don’t meet people who are grateful that this ministry exists. We have had this prayer table ministry going steadily for many years now and people in the neighborhood or out-of-town visitors wave and smile  knowing this is a great thing for a church to do and offer to the community. We have seen seven conversions to Christ in the last few years and we have witnessed God’s goodness towards many with answered prayers and miracles of healing. Please stop by if you need prayer or just to see the blessings happening.
URL:https://mendocinochristian.org/event/prayer-table-from-10am-to-12-noon/2026-04-21/
LOCATION:Mendocino Christian Fellowship\, Member's Home\, Mendocino\, California
END:VEVENT
BEGIN:VEVENT
DTSTART;TZID=America/Los_Angeles:20260426T110000
DTEND;TZID=America/Los_Angeles:20260426T123000
DTSTAMP:20260425T054729
CREATED:20240910T220855Z
LAST-MODIFIED:20240910T220855Z
UID:10000127-1777201200-1777206600@mendocinochristian.org
SUMMARY:Sunday Services 11:00 AM to 12:30 PM
DESCRIPTION:
URL:https://mendocinochristian.org/event/sunday-services-1100-am-to-1230-pm/2026-04-26/
LOCATION:Mendocino Christian Fellowship\, Member's Home\, Mendocino\, California
END:VEVENT
BEGIN:VEVENT
DTSTART;TZID=America/Los_Angeles:20260427T100000
DTEND;TZID=America/Los_Angeles:20260427T100000
DTSTAMP:20260425T054729
CREATED:20250630T210326Z
LAST-MODIFIED:20250630T210450Z
UID:10000577-1777284000-1777284000@mendocinochristian.org
SUMMARY:Home Bible Study
DESCRIPTION:Every Monday we meet for a study that is moving us through the bible. Come and enjoy the Livingroom atmosphere of learning God’s Word. Unlike preaching\, a bible study allows for questions and answers and opportunities for insightful discussions. The study starts at 10:00 AM and concludes at 11:00 AM.
URL:https://mendocinochristian.org/event/home-bible-study/2026-04-27/
LOCATION:Mendocino Christian Fellowship\, Member's Home\, Mendocino\, California
END:VEVENT
BEGIN:VEVENT
DTSTART;TZID=America/Los_Angeles:20260428T100000
DTEND;TZID=America/Los_Angeles:20260428T120000
DTSTAMP:20260425T054729
CREATED:20250706T021225Z
LAST-MODIFIED:20250706T021225Z
UID:10000883-1777370400-1777377600@mendocinochristian.org
SUMMARY:Prayer Table From 10am to 12 Noon
DESCRIPTION:The Prayer Table is out in front of our church every Tuesday from 10 to 12 noon. We meet our neighbors and visitors from outside of Mendocino who drop by to ask for prayer or just share their heart with us. Hardly a Tuesday goes by where we don’t meet people who are grateful that this ministry exists. We have had this prayer table ministry going steadily for many years now and people in the neighborhood or out-of-town visitors wave and smile  knowing this is a great thing for a church to do and offer to the community. We have seen seven conversions to Christ in the last few years and we have witnessed God’s goodness towards many with answered prayers and miracles of healing. Please stop by if you need prayer or just to see the blessings happening.
URL:https://mendocinochristian.org/event/prayer-table-from-10am-to-12-noon/2026-04-28/
LOCATION:Mendocino Christian Fellowship\, Member's Home\, Mendocino\, California
END:VEVENT
BEGIN:VEVENT
DTSTART;TZID=America/Los_Angeles:20260503T110000
DTEND;TZID=America/Los_Angeles:20260503T123000
DTSTAMP:20260425T054729
CREATED:20240910T220855Z
LAST-MODIFIED:20240910T220855Z
UID:10000128-1777806000-1777811400@mendocinochristian.org
SUMMARY:Sunday Services 11:00 AM to 12:30 PM
DESCRIPTION:
URL:https://mendocinochristian.org/event/sunday-services-1100-am-to-1230-pm/2026-05-03/
LOCATION:Mendocino Christian Fellowship\, Member's Home\, Mendocino\, California
END:VEVENT
BEGIN:VEVENT
DTSTART;TZID=America/Los_Angeles:20260503T120000
DTEND;TZID=America/Los_Angeles:20260503T123000
DTSTAMP:20260425T054729
CREATED:20240911T235828Z
LAST-MODIFIED:20240912T032207Z
UID:10000440-1777809600-1777811400@mendocinochristian.org
SUMMARY:Communion Sunday
DESCRIPTION:
URL:https://mendocinochristian.org/event/communion-sunday/2026-05-03/
LOCATION:Mendocino Christian Fellowship\, Member's Home\, Mendocino\, California
END:VEVENT
BEGIN:VEVENT
DTSTART;TZID=America/Los_Angeles:20260503T123000
DTEND;TZID=America/Los_Angeles:20260503T133000
DTSTAMP:20260425T054729
CREATED:20240912T000528Z
LAST-MODIFIED:20240912T034502Z
UID:10000493-1777811400-1777815000@mendocinochristian.org
SUMMARY:Potluck Sunday
DESCRIPTION:Bring your favorite Sunday food to add to our family after-service lunch together.
URL:https://mendocinochristian.org/event/potluck-sunday/2026-05-03/
LOCATION:Mendocino Christian Fellowship\, Member's Home\, Mendocino\, California
END:VEVENT
END:VCALENDAR