BEGIN:VCALENDAR
VERSION:2.0
PRODID:-// - ECPv6.15.20//NONSGML v1.0//EN
CALSCALE:GREGORIAN
METHOD:PUBLISH
X-ORIGINAL-URL:https://mendocinochristian.org
X-WR-CALDESC:Events for 
REFRESH-INTERVAL;VALUE=DURATION:PT1H
X-Robots-Tag:noindex
X-PUBLISHED-TTL:PT1H
BEGIN:VTIMEZONE
TZID:America/Los_Angeles
BEGIN:DAYLIGHT
TZOFFSETFROM:-0800
TZOFFSETTO:-0700
TZNAME:PDT
DTSTART:20240310T100000
END:DAYLIGHT
BEGIN:STANDARD
TZOFFSETFROM:-0700
TZOFFSETTO:-0800
TZNAME:PST
DTSTART:20241103T090000
END:STANDARD
BEGIN:DAYLIGHT
TZOFFSETFROM:-0800
TZOFFSETTO:-0700
TZNAME:PDT
DTSTART:20250309T100000
END:DAYLIGHT
BEGIN:STANDARD
TZOFFSETFROM:-0700
TZOFFSETTO:-0800
TZNAME:PST
DTSTART:20251102T090000
END:STANDARD
BEGIN:DAYLIGHT
TZOFFSETFROM:-0800
TZOFFSETTO:-0700
TZNAME:PDT
DTSTART:20260308T100000
END:DAYLIGHT
BEGIN:STANDARD
TZOFFSETFROM:-0700
TZOFFSETTO:-0800
TZNAME:PST
DTSTART:20261101T090000
END:STANDARD
END:VTIMEZONE
BEGIN:VEVENT
DTSTART;TZID=America/Los_Angeles:20251230T100000
DTEND;TZID=America/Los_Angeles:20251230T120000
DTSTAMP:20260425T090742
CREATED:20250706T021225Z
LAST-MODIFIED:20250706T021225Z
UID:10000866-1767088800-1767096000@mendocinochristian.org
SUMMARY:Prayer Table From 10am to 12 Noon
DESCRIPTION:The Prayer Table is out in front of our church every Tuesday from 10 to 12 noon. We meet our neighbors and visitors from outside of Mendocino who drop by to ask for prayer or just share their heart with us. Hardly a Tuesday goes by where we don’t meet people who are grateful that this ministry exists. We have had this prayer table ministry going steadily for many years now and people in the neighborhood or out-of-town visitors wave and smile  knowing this is a great thing for a church to do and offer to the community. We have seen seven conversions to Christ in the last few years and we have witnessed God’s goodness towards many with answered prayers and miracles of healing. Please stop by if you need prayer or just to see the blessings happening.
URL:https://mendocinochristian.org/event/prayer-table-from-10am-to-12-noon/2025-12-30/
LOCATION:Mendocino Christian Fellowship\, Member's Home\, Mendocino\, California
END:VEVENT
BEGIN:VEVENT
DTSTART;TZID=America/Los_Angeles:20251229T100000
DTEND;TZID=America/Los_Angeles:20251229T100000
DTSTAMP:20260425T090742
CREATED:20250630T210326Z
LAST-MODIFIED:20250630T210450Z
UID:10000560-1767002400-1767002400@mendocinochristian.org
SUMMARY:Home Bible Study
DESCRIPTION:Every Monday we meet for a study that is moving us through the bible. Come and enjoy the Livingroom atmosphere of learning God’s Word. Unlike preaching\, a bible study allows for questions and answers and opportunities for insightful discussions. The study starts at 10:00 AM and concludes at 11:00 AM.
URL:https://mendocinochristian.org/event/home-bible-study/2025-12-29/
LOCATION:Mendocino Christian Fellowship\, Member's Home\, Mendocino\, California
END:VEVENT
BEGIN:VEVENT
DTSTART;TZID=America/Los_Angeles:20251228T110000
DTEND;TZID=America/Los_Angeles:20251228T123000
DTSTAMP:20260425T090742
CREATED:20240910T220855Z
LAST-MODIFIED:20240910T220855Z
UID:10000110-1766919600-1766925000@mendocinochristian.org
SUMMARY:Sunday Services 11:00 AM to 12:30 PM
DESCRIPTION:
URL:https://mendocinochristian.org/event/sunday-services-1100-am-to-1230-pm/2025-12-28/
LOCATION:Mendocino Christian Fellowship\, Member's Home\, Mendocino\, California
END:VEVENT
BEGIN:VEVENT
DTSTART;TZID=America/Los_Angeles:20251228T100000
DTEND;TZID=America/Los_Angeles:20251228T104500
DTSTAMP:20260425T090742
CREATED:20250704T225933Z
LAST-MODIFIED:20250706T015923Z
UID:10000840-1766916000-1766918700@mendocinochristian.org
SUMMARY:Discipleship Training
DESCRIPTION:There are 20 videos in this course that cover most everything you need to know to be able to talk to people about the Bible. In these lessons\, you will discover how to answer many questions that unbelievers may ask. Mostly recorded outside in beautiful Mendocino\, each class is designed to equip the believer with tools for “going into all the world and making disciples” as Jesus instructed before He returned to His Father in heaven. These are very enjoyable lessons and highly illustrated for further understanding. The class will include discussion questions taken from each video presently being viewed. The class will last 45 minutes and will be held at 10 AM at Mendocino Christian Fellowship on the corner of Little Lake and Kasten in Mendocino. Invite friends and these classes will deepen their understanding as well and increase their appreciation of the Christian calling to thoroughly equipped\, a workman needing not to be ashamed.
URL:https://mendocinochristian.org/event/discipleship-training/2025-12-28/
LOCATION:Mendocino Christian Fellowship\, Member's Home\, Mendocino\, California
END:VEVENT
BEGIN:VEVENT
DTSTART;TZID=America/Los_Angeles:20251223T100000
DTEND;TZID=America/Los_Angeles:20251223T120000
DTSTAMP:20260425T090742
CREATED:20250706T021225Z
LAST-MODIFIED:20250706T021225Z
UID:10000865-1766484000-1766491200@mendocinochristian.org
SUMMARY:Prayer Table From 10am to 12 Noon
DESCRIPTION:The Prayer Table is out in front of our church every Tuesday from 10 to 12 noon. We meet our neighbors and visitors from outside of Mendocino who drop by to ask for prayer or just share their heart with us. Hardly a Tuesday goes by where we don’t meet people who are grateful that this ministry exists. We have had this prayer table ministry going steadily for many years now and people in the neighborhood or out-of-town visitors wave and smile  knowing this is a great thing for a church to do and offer to the community. We have seen seven conversions to Christ in the last few years and we have witnessed God’s goodness towards many with answered prayers and miracles of healing. Please stop by if you need prayer or just to see the blessings happening.
URL:https://mendocinochristian.org/event/prayer-table-from-10am-to-12-noon/2025-12-23/
LOCATION:Mendocino Christian Fellowship\, Member's Home\, Mendocino\, California
END:VEVENT
BEGIN:VEVENT
DTSTART;TZID=America/Los_Angeles:20251222T100000
DTEND;TZID=America/Los_Angeles:20251222T100000
DTSTAMP:20260425T090742
CREATED:20250630T210326Z
LAST-MODIFIED:20250630T210450Z
UID:10000559-1766397600-1766397600@mendocinochristian.org
SUMMARY:Home Bible Study
DESCRIPTION:Every Monday we meet for a study that is moving us through the bible. Come and enjoy the Livingroom atmosphere of learning God’s Word. Unlike preaching\, a bible study allows for questions and answers and opportunities for insightful discussions. The study starts at 10:00 AM and concludes at 11:00 AM.
URL:https://mendocinochristian.org/event/home-bible-study/2025-12-22/
LOCATION:Mendocino Christian Fellowship\, Member's Home\, Mendocino\, California
END:VEVENT
BEGIN:VEVENT
DTSTART;TZID=America/Los_Angeles:20251221T110000
DTEND;TZID=America/Los_Angeles:20251221T123000
DTSTAMP:20260425T090742
CREATED:20240910T220855Z
LAST-MODIFIED:20240910T220855Z
UID:10000109-1766314800-1766320200@mendocinochristian.org
SUMMARY:Sunday Services 11:00 AM to 12:30 PM
DESCRIPTION:
URL:https://mendocinochristian.org/event/sunday-services-1100-am-to-1230-pm/2025-12-21/
LOCATION:Mendocino Christian Fellowship\, Member's Home\, Mendocino\, California
END:VEVENT
BEGIN:VEVENT
DTSTART;TZID=America/Los_Angeles:20251221T100000
DTEND;TZID=America/Los_Angeles:20251221T104500
DTSTAMP:20260425T090742
CREATED:20250704T225933Z
LAST-MODIFIED:20250706T015923Z
UID:10000838-1766311200-1766313900@mendocinochristian.org
SUMMARY:Discipleship Training
DESCRIPTION:There are 20 videos in this course that cover most everything you need to know to be able to talk to people about the Bible. In these lessons\, you will discover how to answer many questions that unbelievers may ask. Mostly recorded outside in beautiful Mendocino\, each class is designed to equip the believer with tools for “going into all the world and making disciples” as Jesus instructed before He returned to His Father in heaven. These are very enjoyable lessons and highly illustrated for further understanding. The class will include discussion questions taken from each video presently being viewed. The class will last 45 minutes and will be held at 10 AM at Mendocino Christian Fellowship on the corner of Little Lake and Kasten in Mendocino. Invite friends and these classes will deepen their understanding as well and increase their appreciation of the Christian calling to thoroughly equipped\, a workman needing not to be ashamed.
URL:https://mendocinochristian.org/event/discipleship-training/2025-12-21/
LOCATION:Mendocino Christian Fellowship\, Member's Home\, Mendocino\, California
END:VEVENT
BEGIN:VEVENT
DTSTART;TZID=America/Los_Angeles:20251216T100000
DTEND;TZID=America/Los_Angeles:20251216T120000
DTSTAMP:20260425T090742
CREATED:20250706T021225Z
LAST-MODIFIED:20250706T021225Z
UID:10000864-1765879200-1765886400@mendocinochristian.org
SUMMARY:Prayer Table From 10am to 12 Noon
DESCRIPTION:The Prayer Table is out in front of our church every Tuesday from 10 to 12 noon. We meet our neighbors and visitors from outside of Mendocino who drop by to ask for prayer or just share their heart with us. Hardly a Tuesday goes by where we don’t meet people who are grateful that this ministry exists. We have had this prayer table ministry going steadily for many years now and people in the neighborhood or out-of-town visitors wave and smile  knowing this is a great thing for a church to do and offer to the community. We have seen seven conversions to Christ in the last few years and we have witnessed God’s goodness towards many with answered prayers and miracles of healing. Please stop by if you need prayer or just to see the blessings happening.
URL:https://mendocinochristian.org/event/prayer-table-from-10am-to-12-noon/2025-12-16/
LOCATION:Mendocino Christian Fellowship\, Member's Home\, Mendocino\, California
END:VEVENT
BEGIN:VEVENT
DTSTART;TZID=America/Los_Angeles:20251215T100000
DTEND;TZID=America/Los_Angeles:20251215T100000
DTSTAMP:20260425T090742
CREATED:20250630T210326Z
LAST-MODIFIED:20250630T210450Z
UID:10000558-1765792800-1765792800@mendocinochristian.org
SUMMARY:Home Bible Study
DESCRIPTION:Every Monday we meet for a study that is moving us through the bible. Come and enjoy the Livingroom atmosphere of learning God’s Word. Unlike preaching\, a bible study allows for questions and answers and opportunities for insightful discussions. The study starts at 10:00 AM and concludes at 11:00 AM.
URL:https://mendocinochristian.org/event/home-bible-study/2025-12-15/
LOCATION:Mendocino Christian Fellowship\, Member's Home\, Mendocino\, California
END:VEVENT
BEGIN:VEVENT
DTSTART;TZID=America/Los_Angeles:20251214T110000
DTEND;TZID=America/Los_Angeles:20251214T123000
DTSTAMP:20260425T090742
CREATED:20240910T220855Z
LAST-MODIFIED:20240910T220855Z
UID:10000108-1765710000-1765715400@mendocinochristian.org
SUMMARY:Sunday Services 11:00 AM to 12:30 PM
DESCRIPTION:
URL:https://mendocinochristian.org/event/sunday-services-1100-am-to-1230-pm/2025-12-14/
LOCATION:Mendocino Christian Fellowship\, Member's Home\, Mendocino\, California
END:VEVENT
BEGIN:VEVENT
DTSTART;TZID=America/Los_Angeles:20251214T100000
DTEND;TZID=America/Los_Angeles:20251214T104500
DTSTAMP:20260425T090742
CREATED:20250704T225933Z
LAST-MODIFIED:20250706T015923Z
UID:10000836-1765706400-1765709100@mendocinochristian.org
SUMMARY:Discipleship Training
DESCRIPTION:There are 20 videos in this course that cover most everything you need to know to be able to talk to people about the Bible. In these lessons\, you will discover how to answer many questions that unbelievers may ask. Mostly recorded outside in beautiful Mendocino\, each class is designed to equip the believer with tools for “going into all the world and making disciples” as Jesus instructed before He returned to His Father in heaven. These are very enjoyable lessons and highly illustrated for further understanding. The class will include discussion questions taken from each video presently being viewed. The class will last 45 minutes and will be held at 10 AM at Mendocino Christian Fellowship on the corner of Little Lake and Kasten in Mendocino. Invite friends and these classes will deepen their understanding as well and increase their appreciation of the Christian calling to thoroughly equipped\, a workman needing not to be ashamed.
URL:https://mendocinochristian.org/event/discipleship-training/2025-12-14/
LOCATION:Mendocino Christian Fellowship\, Member's Home\, Mendocino\, California
END:VEVENT
BEGIN:VEVENT
DTSTART;TZID=America/Los_Angeles:20251209T100000
DTEND;TZID=America/Los_Angeles:20251209T120000
DTSTAMP:20260425T090742
CREATED:20250706T021225Z
LAST-MODIFIED:20250706T021225Z
UID:10000863-1765274400-1765281600@mendocinochristian.org
SUMMARY:Prayer Table From 10am to 12 Noon
DESCRIPTION:The Prayer Table is out in front of our church every Tuesday from 10 to 12 noon. We meet our neighbors and visitors from outside of Mendocino who drop by to ask for prayer or just share their heart with us. Hardly a Tuesday goes by where we don’t meet people who are grateful that this ministry exists. We have had this prayer table ministry going steadily for many years now and people in the neighborhood or out-of-town visitors wave and smile  knowing this is a great thing for a church to do and offer to the community. We have seen seven conversions to Christ in the last few years and we have witnessed God’s goodness towards many with answered prayers and miracles of healing. Please stop by if you need prayer or just to see the blessings happening.
URL:https://mendocinochristian.org/event/prayer-table-from-10am-to-12-noon/2025-12-09/
LOCATION:Mendocino Christian Fellowship\, Member's Home\, Mendocino\, California
END:VEVENT
BEGIN:VEVENT
DTSTART;TZID=America/Los_Angeles:20251208T100000
DTEND;TZID=America/Los_Angeles:20251208T100000
DTSTAMP:20260425T090742
CREATED:20250630T210326Z
LAST-MODIFIED:20250630T210450Z
UID:10000557-1765188000-1765188000@mendocinochristian.org
SUMMARY:Home Bible Study
DESCRIPTION:Every Monday we meet for a study that is moving us through the bible. Come and enjoy the Livingroom atmosphere of learning God’s Word. Unlike preaching\, a bible study allows for questions and answers and opportunities for insightful discussions. The study starts at 10:00 AM and concludes at 11:00 AM.
URL:https://mendocinochristian.org/event/home-bible-study/2025-12-08/
LOCATION:Mendocino Christian Fellowship\, Member's Home\, Mendocino\, California
END:VEVENT
BEGIN:VEVENT
DTSTART;TZID=America/Los_Angeles:20251207T123000
DTEND;TZID=America/Los_Angeles:20251207T133000
DTSTAMP:20260425T090742
CREATED:20240912T000528Z
LAST-MODIFIED:20240912T034502Z
UID:10000488-1765110600-1765114200@mendocinochristian.org
SUMMARY:Potluck Sunday
DESCRIPTION:Bring your favorite Sunday food to add to our family after-service lunch together.
URL:https://mendocinochristian.org/event/potluck-sunday/2025-12-07/
LOCATION:Mendocino Christian Fellowship\, Member's Home\, Mendocino\, California
END:VEVENT
BEGIN:VEVENT
DTSTART;TZID=America/Los_Angeles:20251207T120000
DTEND;TZID=America/Los_Angeles:20251207T123000
DTSTAMP:20260425T090742
CREATED:20240911T235828Z
LAST-MODIFIED:20240912T032207Z
UID:10000435-1765108800-1765110600@mendocinochristian.org
SUMMARY:Communion Sunday
DESCRIPTION:
URL:https://mendocinochristian.org/event/communion-sunday/2025-12-07/
LOCATION:Mendocino Christian Fellowship\, Member's Home\, Mendocino\, California
END:VEVENT
BEGIN:VEVENT
DTSTART;TZID=America/Los_Angeles:20251207T110000
DTEND;TZID=America/Los_Angeles:20251207T123000
DTSTAMP:20260425T090742
CREATED:20240910T220855Z
LAST-MODIFIED:20240910T220855Z
UID:10000107-1765105200-1765110600@mendocinochristian.org
SUMMARY:Sunday Services 11:00 AM to 12:30 PM
DESCRIPTION:
URL:https://mendocinochristian.org/event/sunday-services-1100-am-to-1230-pm/2025-12-07/
LOCATION:Mendocino Christian Fellowship\, Member's Home\, Mendocino\, California
END:VEVENT
BEGIN:VEVENT
DTSTART;TZID=America/Los_Angeles:20251207T100000
DTEND;TZID=America/Los_Angeles:20251207T104500
DTSTAMP:20260425T090742
CREATED:20250704T225933Z
LAST-MODIFIED:20250706T015923Z
UID:10000834-1765101600-1765104300@mendocinochristian.org
SUMMARY:Discipleship Training
DESCRIPTION:There are 20 videos in this course that cover most everything you need to know to be able to talk to people about the Bible. In these lessons\, you will discover how to answer many questions that unbelievers may ask. Mostly recorded outside in beautiful Mendocino\, each class is designed to equip the believer with tools for “going into all the world and making disciples” as Jesus instructed before He returned to His Father in heaven. These are very enjoyable lessons and highly illustrated for further understanding. The class will include discussion questions taken from each video presently being viewed. The class will last 45 minutes and will be held at 10 AM at Mendocino Christian Fellowship on the corner of Little Lake and Kasten in Mendocino. Invite friends and these classes will deepen their understanding as well and increase their appreciation of the Christian calling to thoroughly equipped\, a workman needing not to be ashamed.
URL:https://mendocinochristian.org/event/discipleship-training/2025-12-07/
LOCATION:Mendocino Christian Fellowship\, Member's Home\, Mendocino\, California
END:VEVENT
BEGIN:VEVENT
DTSTART;TZID=America/Los_Angeles:20251202T100000
DTEND;TZID=America/Los_Angeles:20251202T120000
DTSTAMP:20260425T090742
CREATED:20250706T021225Z
LAST-MODIFIED:20250706T021225Z
UID:10000862-1764669600-1764676800@mendocinochristian.org
SUMMARY:Prayer Table From 10am to 12 Noon
DESCRIPTION:The Prayer Table is out in front of our church every Tuesday from 10 to 12 noon. We meet our neighbors and visitors from outside of Mendocino who drop by to ask for prayer or just share their heart with us. Hardly a Tuesday goes by where we don’t meet people who are grateful that this ministry exists. We have had this prayer table ministry going steadily for many years now and people in the neighborhood or out-of-town visitors wave and smile  knowing this is a great thing for a church to do and offer to the community. We have seen seven conversions to Christ in the last few years and we have witnessed God’s goodness towards many with answered prayers and miracles of healing. Please stop by if you need prayer or just to see the blessings happening.
URL:https://mendocinochristian.org/event/prayer-table-from-10am-to-12-noon/2025-12-02/
LOCATION:Mendocino Christian Fellowship\, Member's Home\, Mendocino\, California
END:VEVENT
BEGIN:VEVENT
DTSTART;TZID=America/Los_Angeles:20251201T100000
DTEND;TZID=America/Los_Angeles:20251201T100000
DTSTAMP:20260425T090742
CREATED:20250630T210326Z
LAST-MODIFIED:20250630T210450Z
UID:10000556-1764583200-1764583200@mendocinochristian.org
SUMMARY:Home Bible Study
DESCRIPTION:Every Monday we meet for a study that is moving us through the bible. Come and enjoy the Livingroom atmosphere of learning God’s Word. Unlike preaching\, a bible study allows for questions and answers and opportunities for insightful discussions. The study starts at 10:00 AM and concludes at 11:00 AM.
URL:https://mendocinochristian.org/event/home-bible-study/2025-12-01/
LOCATION:Mendocino Christian Fellowship\, Member's Home\, Mendocino\, California
END:VEVENT
BEGIN:VEVENT
DTSTART;TZID=America/Los_Angeles:20251130T110000
DTEND;TZID=America/Los_Angeles:20251130T123000
DTSTAMP:20260425T090742
CREATED:20240910T220855Z
LAST-MODIFIED:20240910T220855Z
UID:10000106-1764500400-1764505800@mendocinochristian.org
SUMMARY:Sunday Services 11:00 AM to 12:30 PM
DESCRIPTION:
URL:https://mendocinochristian.org/event/sunday-services-1100-am-to-1230-pm/2025-11-30/
LOCATION:Mendocino Christian Fellowship\, Member's Home\, Mendocino\, California
END:VEVENT
BEGIN:VEVENT
DTSTART;TZID=America/Los_Angeles:20251130T100000
DTEND;TZID=America/Los_Angeles:20251130T104500
DTSTAMP:20260425T090742
CREATED:20250704T225933Z
LAST-MODIFIED:20250706T015923Z
UID:10000832-1764496800-1764499500@mendocinochristian.org
SUMMARY:Discipleship Training
DESCRIPTION:There are 20 videos in this course that cover most everything you need to know to be able to talk to people about the Bible. In these lessons\, you will discover how to answer many questions that unbelievers may ask. Mostly recorded outside in beautiful Mendocino\, each class is designed to equip the believer with tools for “going into all the world and making disciples” as Jesus instructed before He returned to His Father in heaven. These are very enjoyable lessons and highly illustrated for further understanding. The class will include discussion questions taken from each video presently being viewed. The class will last 45 minutes and will be held at 10 AM at Mendocino Christian Fellowship on the corner of Little Lake and Kasten in Mendocino. Invite friends and these classes will deepen their understanding as well and increase their appreciation of the Christian calling to thoroughly equipped\, a workman needing not to be ashamed.
URL:https://mendocinochristian.org/event/discipleship-training/2025-11-30/
LOCATION:Mendocino Christian Fellowship\, Member's Home\, Mendocino\, California
END:VEVENT
BEGIN:VEVENT
DTSTART;TZID=America/Los_Angeles:20251125T100000
DTEND;TZID=America/Los_Angeles:20251125T120000
DTSTAMP:20260425T090742
CREATED:20250706T021225Z
LAST-MODIFIED:20250706T021225Z
UID:10000861-1764064800-1764072000@mendocinochristian.org
SUMMARY:Prayer Table From 10am to 12 Noon
DESCRIPTION:The Prayer Table is out in front of our church every Tuesday from 10 to 12 noon. We meet our neighbors and visitors from outside of Mendocino who drop by to ask for prayer or just share their heart with us. Hardly a Tuesday goes by where we don’t meet people who are grateful that this ministry exists. We have had this prayer table ministry going steadily for many years now and people in the neighborhood or out-of-town visitors wave and smile  knowing this is a great thing for a church to do and offer to the community. We have seen seven conversions to Christ in the last few years and we have witnessed God’s goodness towards many with answered prayers and miracles of healing. Please stop by if you need prayer or just to see the blessings happening.
URL:https://mendocinochristian.org/event/prayer-table-from-10am-to-12-noon/2025-11-25/
LOCATION:Mendocino Christian Fellowship\, Member's Home\, Mendocino\, California
END:VEVENT
BEGIN:VEVENT
DTSTART;TZID=America/Los_Angeles:20251124T100000
DTEND;TZID=America/Los_Angeles:20251124T100000
DTSTAMP:20260425T090742
CREATED:20250630T210326Z
LAST-MODIFIED:20250630T210450Z
UID:10000555-1763978400-1763978400@mendocinochristian.org
SUMMARY:Home Bible Study
DESCRIPTION:Every Monday we meet for a study that is moving us through the bible. Come and enjoy the Livingroom atmosphere of learning God’s Word. Unlike preaching\, a bible study allows for questions and answers and opportunities for insightful discussions. The study starts at 10:00 AM and concludes at 11:00 AM.
URL:https://mendocinochristian.org/event/home-bible-study/2025-11-24/
LOCATION:Mendocino Christian Fellowship\, Member's Home\, Mendocino\, California
END:VEVENT
BEGIN:VEVENT
DTSTART;TZID=America/Los_Angeles:20251123T110000
DTEND;TZID=America/Los_Angeles:20251123T123000
DTSTAMP:20260425T090742
CREATED:20240910T220855Z
LAST-MODIFIED:20240910T220855Z
UID:10000105-1763895600-1763901000@mendocinochristian.org
SUMMARY:Sunday Services 11:00 AM to 12:30 PM
DESCRIPTION:
URL:https://mendocinochristian.org/event/sunday-services-1100-am-to-1230-pm/2025-11-23/
LOCATION:Mendocino Christian Fellowship\, Member's Home\, Mendocino\, California
END:VEVENT
BEGIN:VEVENT
DTSTART;TZID=America/Los_Angeles:20251123T100000
DTEND;TZID=America/Los_Angeles:20251123T104500
DTSTAMP:20260425T090742
CREATED:20250704T225933Z
LAST-MODIFIED:20250706T015923Z
UID:10000830-1763892000-1763894700@mendocinochristian.org
SUMMARY:Discipleship Training
DESCRIPTION:There are 20 videos in this course that cover most everything you need to know to be able to talk to people about the Bible. In these lessons\, you will discover how to answer many questions that unbelievers may ask. Mostly recorded outside in beautiful Mendocino\, each class is designed to equip the believer with tools for “going into all the world and making disciples” as Jesus instructed before He returned to His Father in heaven. These are very enjoyable lessons and highly illustrated for further understanding. The class will include discussion questions taken from each video presently being viewed. The class will last 45 minutes and will be held at 10 AM at Mendocino Christian Fellowship on the corner of Little Lake and Kasten in Mendocino. Invite friends and these classes will deepen their understanding as well and increase their appreciation of the Christian calling to thoroughly equipped\, a workman needing not to be ashamed.
URL:https://mendocinochristian.org/event/discipleship-training/2025-11-23/
LOCATION:Mendocino Christian Fellowship\, Member's Home\, Mendocino\, California
END:VEVENT
BEGIN:VEVENT
DTSTART;TZID=America/Los_Angeles:20251118T100000
DTEND;TZID=America/Los_Angeles:20251118T120000
DTSTAMP:20260425T090742
CREATED:20250706T021225Z
LAST-MODIFIED:20250706T021225Z
UID:10000860-1763460000-1763467200@mendocinochristian.org
SUMMARY:Prayer Table From 10am to 12 Noon
DESCRIPTION:The Prayer Table is out in front of our church every Tuesday from 10 to 12 noon. We meet our neighbors and visitors from outside of Mendocino who drop by to ask for prayer or just share their heart with us. Hardly a Tuesday goes by where we don’t meet people who are grateful that this ministry exists. We have had this prayer table ministry going steadily for many years now and people in the neighborhood or out-of-town visitors wave and smile  knowing this is a great thing for a church to do and offer to the community. We have seen seven conversions to Christ in the last few years and we have witnessed God’s goodness towards many with answered prayers and miracles of healing. Please stop by if you need prayer or just to see the blessings happening.
URL:https://mendocinochristian.org/event/prayer-table-from-10am-to-12-noon/2025-11-18/
LOCATION:Mendocino Christian Fellowship\, Member's Home\, Mendocino\, California
END:VEVENT
BEGIN:VEVENT
DTSTART;TZID=America/Los_Angeles:20251117T100000
DTEND;TZID=America/Los_Angeles:20251117T100000
DTSTAMP:20260425T090742
CREATED:20250630T210326Z
LAST-MODIFIED:20250630T210450Z
UID:10000554-1763373600-1763373600@mendocinochristian.org
SUMMARY:Home Bible Study
DESCRIPTION:Every Monday we meet for a study that is moving us through the bible. Come and enjoy the Livingroom atmosphere of learning God’s Word. Unlike preaching\, a bible study allows for questions and answers and opportunities for insightful discussions. The study starts at 10:00 AM and concludes at 11:00 AM.
URL:https://mendocinochristian.org/event/home-bible-study/2025-11-17/
LOCATION:Mendocino Christian Fellowship\, Member's Home\, Mendocino\, California
END:VEVENT
BEGIN:VEVENT
DTSTART;TZID=America/Los_Angeles:20251116T110000
DTEND;TZID=America/Los_Angeles:20251116T123000
DTSTAMP:20260425T090742
CREATED:20240910T220855Z
LAST-MODIFIED:20240910T220855Z
UID:10000104-1763290800-1763296200@mendocinochristian.org
SUMMARY:Sunday Services 11:00 AM to 12:30 PM
DESCRIPTION:
URL:https://mendocinochristian.org/event/sunday-services-1100-am-to-1230-pm/2025-11-16/
LOCATION:Mendocino Christian Fellowship\, Member's Home\, Mendocino\, California
END:VEVENT
BEGIN:VEVENT
DTSTART;TZID=America/Los_Angeles:20251116T100000
DTEND;TZID=America/Los_Angeles:20251116T104500
DTSTAMP:20260425T090742
CREATED:20250704T225933Z
LAST-MODIFIED:20250706T015923Z
UID:10000828-1763287200-1763289900@mendocinochristian.org
SUMMARY:Discipleship Training
DESCRIPTION:There are 20 videos in this course that cover most everything you need to know to be able to talk to people about the Bible. In these lessons\, you will discover how to answer many questions that unbelievers may ask. Mostly recorded outside in beautiful Mendocino\, each class is designed to equip the believer with tools for “going into all the world and making disciples” as Jesus instructed before He returned to His Father in heaven. These are very enjoyable lessons and highly illustrated for further understanding. The class will include discussion questions taken from each video presently being viewed. The class will last 45 minutes and will be held at 10 AM at Mendocino Christian Fellowship on the corner of Little Lake and Kasten in Mendocino. Invite friends and these classes will deepen their understanding as well and increase their appreciation of the Christian calling to thoroughly equipped\, a workman needing not to be ashamed.
URL:https://mendocinochristian.org/event/discipleship-training/2025-11-16/
LOCATION:Mendocino Christian Fellowship\, Member's Home\, Mendocino\, California
END:VEVENT
END:VCALENDAR