BEGIN:VCALENDAR
VERSION:2.0
PRODID:-// - ECPv6.15.20//NONSGML v1.0//EN
CALSCALE:GREGORIAN
METHOD:PUBLISH
X-ORIGINAL-URL:https://mendocinochristian.org
X-WR-CALDESC:Events for 
REFRESH-INTERVAL;VALUE=DURATION:PT1H
X-Robots-Tag:noindex
X-PUBLISHED-TTL:PT1H
BEGIN:VTIMEZONE
TZID:America/Los_Angeles
BEGIN:DAYLIGHT
TZOFFSETFROM:-0800
TZOFFSETTO:-0700
TZNAME:PDT
DTSTART:20250309T100000
END:DAYLIGHT
BEGIN:STANDARD
TZOFFSETFROM:-0700
TZOFFSETTO:-0800
TZNAME:PST
DTSTART:20251102T090000
END:STANDARD
BEGIN:DAYLIGHT
TZOFFSETFROM:-0800
TZOFFSETTO:-0700
TZNAME:PDT
DTSTART:20260308T100000
END:DAYLIGHT
BEGIN:STANDARD
TZOFFSETFROM:-0700
TZOFFSETTO:-0800
TZNAME:PST
DTSTART:20261101T090000
END:STANDARD
BEGIN:DAYLIGHT
TZOFFSETFROM:-0800
TZOFFSETTO:-0700
TZNAME:PDT
DTSTART:20270314T100000
END:DAYLIGHT
BEGIN:STANDARD
TZOFFSETFROM:-0700
TZOFFSETTO:-0800
TZNAME:PST
DTSTART:20271107T090000
END:STANDARD
END:VTIMEZONE
BEGIN:VEVENT
DTSTART;TZID=America/Los_Angeles:20260118T110000
DTEND;TZID=America/Los_Angeles:20260118T123000
DTSTAMP:20260425T032651
CREATED:20240910T220855Z
LAST-MODIFIED:20240910T220855Z
UID:10000113-1768734000-1768739400@mendocinochristian.org
SUMMARY:Sunday Services 11:00 AM to 12:30 PM
DESCRIPTION:
URL:https://mendocinochristian.org/event/sunday-services-1100-am-to-1230-pm/2026-01-18/
LOCATION:Mendocino Christian Fellowship\, Member's Home\, Mendocino\, California
END:VEVENT
BEGIN:VEVENT
DTSTART;TZID=America/Los_Angeles:20260118T120000
DTEND;TZID=America/Los_Angeles:20260118T130000
DTSTAMP:20260425T032651
CREATED:20260116T232047Z
LAST-MODIFIED:20260116T232047Z
UID:10001103-1768737600-1768741200@mendocinochristian.org
SUMMARY:Congregational Business Meeting
DESCRIPTION:
URL:https://mendocinochristian.org/event/congregational-business-meeting/
LOCATION:Mendocino Baptist Church\, 45171 Little Lake St.\, Mendocino\, CA\, 95460\, United States
END:VEVENT
BEGIN:VEVENT
DTSTART;TZID=America/Los_Angeles:20260119T100000
DTEND;TZID=America/Los_Angeles:20260119T100000
DTSTAMP:20260425T032651
CREATED:20250630T210326Z
LAST-MODIFIED:20250630T210450Z
UID:10000563-1768816800-1768816800@mendocinochristian.org
SUMMARY:Home Bible Study
DESCRIPTION:Every Monday we meet for a study that is moving us through the bible. Come and enjoy the Livingroom atmosphere of learning God’s Word. Unlike preaching\, a bible study allows for questions and answers and opportunities for insightful discussions. The study starts at 10:00 AM and concludes at 11:00 AM.
URL:https://mendocinochristian.org/event/home-bible-study/2026-01-19/
LOCATION:Mendocino Christian Fellowship\, Member's Home\, Mendocino\, California
END:VEVENT
BEGIN:VEVENT
DTSTART;TZID=America/Los_Angeles:20260120T100000
DTEND;TZID=America/Los_Angeles:20260120T120000
DTSTAMP:20260425T032651
CREATED:20250706T021225Z
LAST-MODIFIED:20250706T021225Z
UID:10000869-1768903200-1768910400@mendocinochristian.org
SUMMARY:Prayer Table From 10am to 12 Noon
DESCRIPTION:The Prayer Table is out in front of our church every Tuesday from 10 to 12 noon. We meet our neighbors and visitors from outside of Mendocino who drop by to ask for prayer or just share their heart with us. Hardly a Tuesday goes by where we don’t meet people who are grateful that this ministry exists. We have had this prayer table ministry going steadily for many years now and people in the neighborhood or out-of-town visitors wave and smile  knowing this is a great thing for a church to do and offer to the community. We have seen seven conversions to Christ in the last few years and we have witnessed God’s goodness towards many with answered prayers and miracles of healing. Please stop by if you need prayer or just to see the blessings happening.
URL:https://mendocinochristian.org/event/prayer-table-from-10am-to-12-noon/2026-01-20/
LOCATION:Mendocino Christian Fellowship\, Member's Home\, Mendocino\, California
END:VEVENT
BEGIN:VEVENT
DTSTART;TZID=America/Los_Angeles:20260125T110000
DTEND;TZID=America/Los_Angeles:20260125T123000
DTSTAMP:20260425T032651
CREATED:20240910T220855Z
LAST-MODIFIED:20240910T220855Z
UID:10000114-1769338800-1769344200@mendocinochristian.org
SUMMARY:Sunday Services 11:00 AM to 12:30 PM
DESCRIPTION:
URL:https://mendocinochristian.org/event/sunday-services-1100-am-to-1230-pm/2026-01-25/
LOCATION:Mendocino Christian Fellowship\, Member's Home\, Mendocino\, California
END:VEVENT
BEGIN:VEVENT
DTSTART;TZID=America/Los_Angeles:20260126T100000
DTEND;TZID=America/Los_Angeles:20260126T100000
DTSTAMP:20260425T032651
CREATED:20250630T210326Z
LAST-MODIFIED:20250630T210450Z
UID:10000564-1769421600-1769421600@mendocinochristian.org
SUMMARY:Home Bible Study
DESCRIPTION:Every Monday we meet for a study that is moving us through the bible. Come and enjoy the Livingroom atmosphere of learning God’s Word. Unlike preaching\, a bible study allows for questions and answers and opportunities for insightful discussions. The study starts at 10:00 AM and concludes at 11:00 AM.
URL:https://mendocinochristian.org/event/home-bible-study/2026-01-26/
LOCATION:Mendocino Christian Fellowship\, Member's Home\, Mendocino\, California
END:VEVENT
BEGIN:VEVENT
DTSTART;TZID=America/Los_Angeles:20260127T100000
DTEND;TZID=America/Los_Angeles:20260127T120000
DTSTAMP:20260425T032651
CREATED:20250706T021225Z
LAST-MODIFIED:20250706T021225Z
UID:10000870-1769508000-1769515200@mendocinochristian.org
SUMMARY:Prayer Table From 10am to 12 Noon
DESCRIPTION:The Prayer Table is out in front of our church every Tuesday from 10 to 12 noon. We meet our neighbors and visitors from outside of Mendocino who drop by to ask for prayer or just share their heart with us. Hardly a Tuesday goes by where we don’t meet people who are grateful that this ministry exists. We have had this prayer table ministry going steadily for many years now and people in the neighborhood or out-of-town visitors wave and smile  knowing this is a great thing for a church to do and offer to the community. We have seen seven conversions to Christ in the last few years and we have witnessed God’s goodness towards many with answered prayers and miracles of healing. Please stop by if you need prayer or just to see the blessings happening.
URL:https://mendocinochristian.org/event/prayer-table-from-10am-to-12-noon/2026-01-27/
LOCATION:Mendocino Christian Fellowship\, Member's Home\, Mendocino\, California
END:VEVENT
BEGIN:VEVENT
DTSTART;TZID=America/Los_Angeles:20260201T110000
DTEND;TZID=America/Los_Angeles:20260201T123000
DTSTAMP:20260425T032651
CREATED:20240910T220855Z
LAST-MODIFIED:20240910T220855Z
UID:10000115-1769943600-1769949000@mendocinochristian.org
SUMMARY:Sunday Services 11:00 AM to 12:30 PM
DESCRIPTION:
URL:https://mendocinochristian.org/event/sunday-services-1100-am-to-1230-pm/2026-02-01/
LOCATION:Mendocino Christian Fellowship\, Member's Home\, Mendocino\, California
END:VEVENT
BEGIN:VEVENT
DTSTART;TZID=America/Los_Angeles:20260201T120000
DTEND;TZID=America/Los_Angeles:20260201T123000
DTSTAMP:20260425T032652
CREATED:20240911T235828Z
LAST-MODIFIED:20240912T032207Z
UID:10000437-1769947200-1769949000@mendocinochristian.org
SUMMARY:Communion Sunday
DESCRIPTION:
URL:https://mendocinochristian.org/event/communion-sunday/2026-02-01/
LOCATION:Mendocino Christian Fellowship\, Member's Home\, Mendocino\, California
END:VEVENT
BEGIN:VEVENT
DTSTART;TZID=America/Los_Angeles:20260201T123000
DTEND;TZID=America/Los_Angeles:20260201T133000
DTSTAMP:20260425T032652
CREATED:20240912T000528Z
LAST-MODIFIED:20240912T034502Z
UID:10000490-1769949000-1769952600@mendocinochristian.org
SUMMARY:Potluck Sunday
DESCRIPTION:Bring your favorite Sunday food to add to our family after-service lunch together.
URL:https://mendocinochristian.org/event/potluck-sunday/2026-02-01/
LOCATION:Mendocino Christian Fellowship\, Member's Home\, Mendocino\, California
END:VEVENT
BEGIN:VEVENT
DTSTART;TZID=America/Los_Angeles:20260202T100000
DTEND;TZID=America/Los_Angeles:20260202T100000
DTSTAMP:20260425T032652
CREATED:20250630T210326Z
LAST-MODIFIED:20250630T210450Z
UID:10000565-1770026400-1770026400@mendocinochristian.org
SUMMARY:Home Bible Study
DESCRIPTION:Every Monday we meet for a study that is moving us through the bible. Come and enjoy the Livingroom atmosphere of learning God’s Word. Unlike preaching\, a bible study allows for questions and answers and opportunities for insightful discussions. The study starts at 10:00 AM and concludes at 11:00 AM.
URL:https://mendocinochristian.org/event/home-bible-study/2026-02-02/
LOCATION:Mendocino Christian Fellowship\, Member's Home\, Mendocino\, California
END:VEVENT
BEGIN:VEVENT
DTSTART;TZID=America/Los_Angeles:20260203T100000
DTEND;TZID=America/Los_Angeles:20260203T120000
DTSTAMP:20260425T032652
CREATED:20250706T021225Z
LAST-MODIFIED:20250706T021225Z
UID:10000871-1770112800-1770120000@mendocinochristian.org
SUMMARY:Prayer Table From 10am to 12 Noon
DESCRIPTION:The Prayer Table is out in front of our church every Tuesday from 10 to 12 noon. We meet our neighbors and visitors from outside of Mendocino who drop by to ask for prayer or just share their heart with us. Hardly a Tuesday goes by where we don’t meet people who are grateful that this ministry exists. We have had this prayer table ministry going steadily for many years now and people in the neighborhood or out-of-town visitors wave and smile  knowing this is a great thing for a church to do and offer to the community. We have seen seven conversions to Christ in the last few years and we have witnessed God’s goodness towards many with answered prayers and miracles of healing. Please stop by if you need prayer or just to see the blessings happening.
URL:https://mendocinochristian.org/event/prayer-table-from-10am-to-12-noon/2026-02-03/
LOCATION:Mendocino Christian Fellowship\, Member's Home\, Mendocino\, California
END:VEVENT
BEGIN:VEVENT
DTSTART;TZID=America/Los_Angeles:20260208T110000
DTEND;TZID=America/Los_Angeles:20260208T123000
DTSTAMP:20260425T032652
CREATED:20240910T220855Z
LAST-MODIFIED:20240910T220855Z
UID:10000116-1770548400-1770553800@mendocinochristian.org
SUMMARY:Sunday Services 11:00 AM to 12:30 PM
DESCRIPTION:
URL:https://mendocinochristian.org/event/sunday-services-1100-am-to-1230-pm/2026-02-08/
LOCATION:Mendocino Christian Fellowship\, Member's Home\, Mendocino\, California
END:VEVENT
BEGIN:VEVENT
DTSTART;TZID=America/Los_Angeles:20260209T100000
DTEND;TZID=America/Los_Angeles:20260209T100000
DTSTAMP:20260425T032652
CREATED:20250630T210326Z
LAST-MODIFIED:20250630T210450Z
UID:10000566-1770631200-1770631200@mendocinochristian.org
SUMMARY:Home Bible Study
DESCRIPTION:Every Monday we meet for a study that is moving us through the bible. Come and enjoy the Livingroom atmosphere of learning God’s Word. Unlike preaching\, a bible study allows for questions and answers and opportunities for insightful discussions. The study starts at 10:00 AM and concludes at 11:00 AM.
URL:https://mendocinochristian.org/event/home-bible-study/2026-02-09/
LOCATION:Mendocino Christian Fellowship\, Member's Home\, Mendocino\, California
END:VEVENT
BEGIN:VEVENT
DTSTART;TZID=America/Los_Angeles:20260210T100000
DTEND;TZID=America/Los_Angeles:20260210T120000
DTSTAMP:20260425T032652
CREATED:20250706T021225Z
LAST-MODIFIED:20250706T021225Z
UID:10000872-1770717600-1770724800@mendocinochristian.org
SUMMARY:Prayer Table From 10am to 12 Noon
DESCRIPTION:The Prayer Table is out in front of our church every Tuesday from 10 to 12 noon. We meet our neighbors and visitors from outside of Mendocino who drop by to ask for prayer or just share their heart with us. Hardly a Tuesday goes by where we don’t meet people who are grateful that this ministry exists. We have had this prayer table ministry going steadily for many years now and people in the neighborhood or out-of-town visitors wave and smile  knowing this is a great thing for a church to do and offer to the community. We have seen seven conversions to Christ in the last few years and we have witnessed God’s goodness towards many with answered prayers and miracles of healing. Please stop by if you need prayer or just to see the blessings happening.
URL:https://mendocinochristian.org/event/prayer-table-from-10am-to-12-noon/2026-02-10/
LOCATION:Mendocino Christian Fellowship\, Member's Home\, Mendocino\, California
END:VEVENT
BEGIN:VEVENT
DTSTART;TZID=America/Los_Angeles:20260215T110000
DTEND;TZID=America/Los_Angeles:20260215T123000
DTSTAMP:20260425T032652
CREATED:20240910T220855Z
LAST-MODIFIED:20240910T220855Z
UID:10000117-1771153200-1771158600@mendocinochristian.org
SUMMARY:Sunday Services 11:00 AM to 12:30 PM
DESCRIPTION:
URL:https://mendocinochristian.org/event/sunday-services-1100-am-to-1230-pm/2026-02-15/
LOCATION:Mendocino Christian Fellowship\, Member's Home\, Mendocino\, California
END:VEVENT
BEGIN:VEVENT
DTSTART;TZID=America/Los_Angeles:20260216T100000
DTEND;TZID=America/Los_Angeles:20260216T100000
DTSTAMP:20260425T032652
CREATED:20250630T210326Z
LAST-MODIFIED:20250630T210450Z
UID:10000567-1771236000-1771236000@mendocinochristian.org
SUMMARY:Home Bible Study
DESCRIPTION:Every Monday we meet for a study that is moving us through the bible. Come and enjoy the Livingroom atmosphere of learning God’s Word. Unlike preaching\, a bible study allows for questions and answers and opportunities for insightful discussions. The study starts at 10:00 AM and concludes at 11:00 AM.
URL:https://mendocinochristian.org/event/home-bible-study/2026-02-16/
LOCATION:Mendocino Christian Fellowship\, Member's Home\, Mendocino\, California
END:VEVENT
BEGIN:VEVENT
DTSTART;TZID=America/Los_Angeles:20260217T100000
DTEND;TZID=America/Los_Angeles:20260217T120000
DTSTAMP:20260425T032652
CREATED:20250706T021225Z
LAST-MODIFIED:20250706T021225Z
UID:10000873-1771322400-1771329600@mendocinochristian.org
SUMMARY:Prayer Table From 10am to 12 Noon
DESCRIPTION:The Prayer Table is out in front of our church every Tuesday from 10 to 12 noon. We meet our neighbors and visitors from outside of Mendocino who drop by to ask for prayer or just share their heart with us. Hardly a Tuesday goes by where we don’t meet people who are grateful that this ministry exists. We have had this prayer table ministry going steadily for many years now and people in the neighborhood or out-of-town visitors wave and smile  knowing this is a great thing for a church to do and offer to the community. We have seen seven conversions to Christ in the last few years and we have witnessed God’s goodness towards many with answered prayers and miracles of healing. Please stop by if you need prayer or just to see the blessings happening.
URL:https://mendocinochristian.org/event/prayer-table-from-10am-to-12-noon/2026-02-17/
LOCATION:Mendocino Christian Fellowship\, Member's Home\, Mendocino\, California
END:VEVENT
BEGIN:VEVENT
DTSTART;TZID=America/Los_Angeles:20260222T110000
DTEND;TZID=America/Los_Angeles:20260222T123000
DTSTAMP:20260425T032652
CREATED:20240910T220855Z
LAST-MODIFIED:20240910T220855Z
UID:10000118-1771758000-1771763400@mendocinochristian.org
SUMMARY:Sunday Services 11:00 AM to 12:30 PM
DESCRIPTION:
URL:https://mendocinochristian.org/event/sunday-services-1100-am-to-1230-pm/2026-02-22/
LOCATION:Mendocino Christian Fellowship\, Member's Home\, Mendocino\, California
END:VEVENT
BEGIN:VEVENT
DTSTART;TZID=America/Los_Angeles:20260223T100000
DTEND;TZID=America/Los_Angeles:20260223T100000
DTSTAMP:20260425T032652
CREATED:20250630T210326Z
LAST-MODIFIED:20250630T210450Z
UID:10000568-1771840800-1771840800@mendocinochristian.org
SUMMARY:Home Bible Study
DESCRIPTION:Every Monday we meet for a study that is moving us through the bible. Come and enjoy the Livingroom atmosphere of learning God’s Word. Unlike preaching\, a bible study allows for questions and answers and opportunities for insightful discussions. The study starts at 10:00 AM and concludes at 11:00 AM.
URL:https://mendocinochristian.org/event/home-bible-study/2026-02-23/
LOCATION:Mendocino Christian Fellowship\, Member's Home\, Mendocino\, California
END:VEVENT
BEGIN:VEVENT
DTSTART;TZID=America/Los_Angeles:20260224T100000
DTEND;TZID=America/Los_Angeles:20260224T120000
DTSTAMP:20260425T032652
CREATED:20250706T021225Z
LAST-MODIFIED:20250706T021225Z
UID:10000874-1771927200-1771934400@mendocinochristian.org
SUMMARY:Prayer Table From 10am to 12 Noon
DESCRIPTION:The Prayer Table is out in front of our church every Tuesday from 10 to 12 noon. We meet our neighbors and visitors from outside of Mendocino who drop by to ask for prayer or just share their heart with us. Hardly a Tuesday goes by where we don’t meet people who are grateful that this ministry exists. We have had this prayer table ministry going steadily for many years now and people in the neighborhood or out-of-town visitors wave and smile  knowing this is a great thing for a church to do and offer to the community. We have seen seven conversions to Christ in the last few years and we have witnessed God’s goodness towards many with answered prayers and miracles of healing. Please stop by if you need prayer or just to see the blessings happening.
URL:https://mendocinochristian.org/event/prayer-table-from-10am-to-12-noon/2026-02-24/
LOCATION:Mendocino Christian Fellowship\, Member's Home\, Mendocino\, California
END:VEVENT
BEGIN:VEVENT
DTSTART;TZID=America/Los_Angeles:20260301T110000
DTEND;TZID=America/Los_Angeles:20260301T123000
DTSTAMP:20260425T032652
CREATED:20240910T220855Z
LAST-MODIFIED:20240910T220855Z
UID:10000119-1772362800-1772368200@mendocinochristian.org
SUMMARY:Sunday Services 11:00 AM to 12:30 PM
DESCRIPTION:
URL:https://mendocinochristian.org/event/sunday-services-1100-am-to-1230-pm/2026-03-01/
LOCATION:Mendocino Christian Fellowship\, Member's Home\, Mendocino\, California
END:VEVENT
BEGIN:VEVENT
DTSTART;TZID=America/Los_Angeles:20260301T120000
DTEND;TZID=America/Los_Angeles:20260301T123000
DTSTAMP:20260425T032652
CREATED:20240911T235828Z
LAST-MODIFIED:20240912T032207Z
UID:10000438-1772366400-1772368200@mendocinochristian.org
SUMMARY:Communion Sunday
DESCRIPTION:
URL:https://mendocinochristian.org/event/communion-sunday/2026-03-01/
LOCATION:Mendocino Christian Fellowship\, Member's Home\, Mendocino\, California
END:VEVENT
BEGIN:VEVENT
DTSTART;TZID=America/Los_Angeles:20260301T123000
DTEND;TZID=America/Los_Angeles:20260301T133000
DTSTAMP:20260425T032652
CREATED:20240912T000528Z
LAST-MODIFIED:20240912T034502Z
UID:10000491-1772368200-1772371800@mendocinochristian.org
SUMMARY:Potluck Sunday
DESCRIPTION:Bring your favorite Sunday food to add to our family after-service lunch together.
URL:https://mendocinochristian.org/event/potluck-sunday/2026-03-01/
LOCATION:Mendocino Christian Fellowship\, Member's Home\, Mendocino\, California
END:VEVENT
BEGIN:VEVENT
DTSTART;TZID=America/Los_Angeles:20260302T100000
DTEND;TZID=America/Los_Angeles:20260302T100000
DTSTAMP:20260425T032652
CREATED:20250630T210326Z
LAST-MODIFIED:20250630T210450Z
UID:10000569-1772445600-1772445600@mendocinochristian.org
SUMMARY:Home Bible Study
DESCRIPTION:Every Monday we meet for a study that is moving us through the bible. Come and enjoy the Livingroom atmosphere of learning God’s Word. Unlike preaching\, a bible study allows for questions and answers and opportunities for insightful discussions. The study starts at 10:00 AM and concludes at 11:00 AM.
URL:https://mendocinochristian.org/event/home-bible-study/2026-03-02/
LOCATION:Mendocino Christian Fellowship\, Member's Home\, Mendocino\, California
END:VEVENT
BEGIN:VEVENT
DTSTART;TZID=America/Los_Angeles:20260303T100000
DTEND;TZID=America/Los_Angeles:20260303T120000
DTSTAMP:20260425T032652
CREATED:20250706T021225Z
LAST-MODIFIED:20250706T021225Z
UID:10000875-1772532000-1772539200@mendocinochristian.org
SUMMARY:Prayer Table From 10am to 12 Noon
DESCRIPTION:The Prayer Table is out in front of our church every Tuesday from 10 to 12 noon. We meet our neighbors and visitors from outside of Mendocino who drop by to ask for prayer or just share their heart with us. Hardly a Tuesday goes by where we don’t meet people who are grateful that this ministry exists. We have had this prayer table ministry going steadily for many years now and people in the neighborhood or out-of-town visitors wave and smile  knowing this is a great thing for a church to do and offer to the community. We have seen seven conversions to Christ in the last few years and we have witnessed God’s goodness towards many with answered prayers and miracles of healing. Please stop by if you need prayer or just to see the blessings happening.
URL:https://mendocinochristian.org/event/prayer-table-from-10am-to-12-noon/2026-03-03/
LOCATION:Mendocino Christian Fellowship\, Member's Home\, Mendocino\, California
END:VEVENT
BEGIN:VEVENT
DTSTART;TZID=America/Los_Angeles:20260308T110000
DTEND;TZID=America/Los_Angeles:20260308T123000
DTSTAMP:20260425T032652
CREATED:20240910T220855Z
LAST-MODIFIED:20240910T220855Z
UID:10000120-1772967600-1772973000@mendocinochristian.org
SUMMARY:Sunday Services 11:00 AM to 12:30 PM
DESCRIPTION:
URL:https://mendocinochristian.org/event/sunday-services-1100-am-to-1230-pm/2026-03-08/
LOCATION:Mendocino Christian Fellowship\, Member's Home\, Mendocino\, California
END:VEVENT
BEGIN:VEVENT
DTSTART;TZID=America/Los_Angeles:20260309T100000
DTEND;TZID=America/Los_Angeles:20260309T100000
DTSTAMP:20260425T032652
CREATED:20250630T210326Z
LAST-MODIFIED:20250630T210450Z
UID:10000570-1773050400-1773050400@mendocinochristian.org
SUMMARY:Home Bible Study
DESCRIPTION:Every Monday we meet for a study that is moving us through the bible. Come and enjoy the Livingroom atmosphere of learning God’s Word. Unlike preaching\, a bible study allows for questions and answers and opportunities for insightful discussions. The study starts at 10:00 AM and concludes at 11:00 AM.
URL:https://mendocinochristian.org/event/home-bible-study/2026-03-09/
LOCATION:Mendocino Christian Fellowship\, Member's Home\, Mendocino\, California
END:VEVENT
BEGIN:VEVENT
DTSTART;TZID=America/Los_Angeles:20260310T100000
DTEND;TZID=America/Los_Angeles:20260310T120000
DTSTAMP:20260425T032652
CREATED:20250706T021225Z
LAST-MODIFIED:20250706T021225Z
UID:10000876-1773136800-1773144000@mendocinochristian.org
SUMMARY:Prayer Table From 10am to 12 Noon
DESCRIPTION:The Prayer Table is out in front of our church every Tuesday from 10 to 12 noon. We meet our neighbors and visitors from outside of Mendocino who drop by to ask for prayer or just share their heart with us. Hardly a Tuesday goes by where we don’t meet people who are grateful that this ministry exists. We have had this prayer table ministry going steadily for many years now and people in the neighborhood or out-of-town visitors wave and smile  knowing this is a great thing for a church to do and offer to the community. We have seen seven conversions to Christ in the last few years and we have witnessed God’s goodness towards many with answered prayers and miracles of healing. Please stop by if you need prayer or just to see the blessings happening.
URL:https://mendocinochristian.org/event/prayer-table-from-10am-to-12-noon/2026-03-10/
LOCATION:Mendocino Christian Fellowship\, Member's Home\, Mendocino\, California
END:VEVENT
BEGIN:VEVENT
DTSTART;TZID=America/Los_Angeles:20260315T110000
DTEND;TZID=America/Los_Angeles:20260315T123000
DTSTAMP:20260425T032652
CREATED:20240910T220855Z
LAST-MODIFIED:20240910T220855Z
UID:10000121-1773572400-1773577800@mendocinochristian.org
SUMMARY:Sunday Services 11:00 AM to 12:30 PM
DESCRIPTION:
URL:https://mendocinochristian.org/event/sunday-services-1100-am-to-1230-pm/2026-03-15/
LOCATION:Mendocino Christian Fellowship\, Member's Home\, Mendocino\, California
END:VEVENT
END:VCALENDAR