BEGIN:VCALENDAR
VERSION:2.0
PRODID:-// - ECPv6.15.20//NONSGML v1.0//EN
CALSCALE:GREGORIAN
METHOD:PUBLISH
X-ORIGINAL-URL:https://mendocinochristian.org
X-WR-CALDESC:Events for 
REFRESH-INTERVAL;VALUE=DURATION:PT1H
X-Robots-Tag:noindex
X-PUBLISHED-TTL:PT1H
BEGIN:VTIMEZONE
TZID:America/Los_Angeles
BEGIN:DAYLIGHT
TZOFFSETFROM:-0800
TZOFFSETTO:-0700
TZNAME:PDT
DTSTART:20240310T100000
END:DAYLIGHT
BEGIN:STANDARD
TZOFFSETFROM:-0700
TZOFFSETTO:-0800
TZNAME:PST
DTSTART:20241103T090000
END:STANDARD
BEGIN:DAYLIGHT
TZOFFSETFROM:-0800
TZOFFSETTO:-0700
TZNAME:PDT
DTSTART:20250309T100000
END:DAYLIGHT
BEGIN:STANDARD
TZOFFSETFROM:-0700
TZOFFSETTO:-0800
TZNAME:PST
DTSTART:20251102T090000
END:STANDARD
BEGIN:DAYLIGHT
TZOFFSETFROM:-0800
TZOFFSETTO:-0700
TZNAME:PDT
DTSTART:20260308T100000
END:DAYLIGHT
BEGIN:STANDARD
TZOFFSETFROM:-0700
TZOFFSETTO:-0800
TZNAME:PST
DTSTART:20261101T090000
END:STANDARD
END:VTIMEZONE
BEGIN:VEVENT
DTSTART;TZID=America/Los_Angeles:20250803T100000
DTEND;TZID=America/Los_Angeles:20250803T104500
DTSTAMP:20260425T071215
CREATED:20250704T225933Z
LAST-MODIFIED:20250706T015923Z
UID:10000798-1754215200-1754217900@mendocinochristian.org
SUMMARY:Discipleship Training
DESCRIPTION:There are 20 videos in this course that cover most everything you need to know to be able to talk to people about the Bible. In these lessons\, you will discover how to answer many questions that unbelievers may ask. Mostly recorded outside in beautiful Mendocino\, each class is designed to equip the believer with tools for “going into all the world and making disciples” as Jesus instructed before He returned to His Father in heaven. These are very enjoyable lessons and highly illustrated for further understanding. The class will include discussion questions taken from each video presently being viewed. The class will last 45 minutes and will be held at 10 AM at Mendocino Christian Fellowship on the corner of Little Lake and Kasten in Mendocino. Invite friends and these classes will deepen their understanding as well and increase their appreciation of the Christian calling to thoroughly equipped\, a workman needing not to be ashamed.
URL:https://mendocinochristian.org/event/discipleship-training/2025-08-03/
LOCATION:Mendocino Christian Fellowship\, Member's Home\, Mendocino\, California
END:VEVENT
BEGIN:VEVENT
DTSTART;TZID=America/Los_Angeles:20250803T110000
DTEND;TZID=America/Los_Angeles:20250803T123000
DTSTAMP:20260425T071215
CREATED:20240910T220855Z
LAST-MODIFIED:20240910T220855Z
UID:10000089-1754218800-1754224200@mendocinochristian.org
SUMMARY:Sunday Services 11:00 AM to 12:30 PM
DESCRIPTION:
URL:https://mendocinochristian.org/event/sunday-services-1100-am-to-1230-pm/2025-08-03/
LOCATION:Mendocino Christian Fellowship\, Member's Home\, Mendocino\, California
END:VEVENT
BEGIN:VEVENT
DTSTART;TZID=America/Los_Angeles:20250803T120000
DTEND;TZID=America/Los_Angeles:20250803T123000
DTSTAMP:20260425T071215
CREATED:20240911T235828Z
LAST-MODIFIED:20240912T032207Z
UID:10000431-1754222400-1754224200@mendocinochristian.org
SUMMARY:Communion Sunday
DESCRIPTION:
URL:https://mendocinochristian.org/event/communion-sunday/2025-08-03/
LOCATION:Mendocino Christian Fellowship\, Member's Home\, Mendocino\, California
END:VEVENT
BEGIN:VEVENT
DTSTART;TZID=America/Los_Angeles:20250803T123000
DTEND;TZID=America/Los_Angeles:20250803T133000
DTSTAMP:20260425T071215
CREATED:20240912T000528Z
LAST-MODIFIED:20240912T034502Z
UID:10000484-1754224200-1754227800@mendocinochristian.org
SUMMARY:Potluck Sunday
DESCRIPTION:Bring your favorite Sunday food to add to our family after-service lunch together.
URL:https://mendocinochristian.org/event/potluck-sunday/2025-08-03/
LOCATION:Mendocino Christian Fellowship\, Member's Home\, Mendocino\, California
END:VEVENT
BEGIN:VEVENT
DTSTART;TZID=America/Los_Angeles:20250804T100000
DTEND;TZID=America/Los_Angeles:20250804T100000
DTSTAMP:20260425T071215
CREATED:20250630T210326Z
LAST-MODIFIED:20250630T210450Z
UID:10000539-1754301600-1754301600@mendocinochristian.org
SUMMARY:Home Bible Study
DESCRIPTION:Every Monday we meet for a study that is moving us through the bible. Come and enjoy the Livingroom atmosphere of learning God’s Word. Unlike preaching\, a bible study allows for questions and answers and opportunities for insightful discussions. The study starts at 10:00 AM and concludes at 11:00 AM.
URL:https://mendocinochristian.org/event/home-bible-study/2025-08-04/
LOCATION:Mendocino Christian Fellowship\, Member's Home\, Mendocino\, California
END:VEVENT
BEGIN:VEVENT
DTSTART;TZID=America/Los_Angeles:20250805T100000
DTEND;TZID=America/Los_Angeles:20250805T120000
DTSTAMP:20260425T071215
CREATED:20250706T021225Z
LAST-MODIFIED:20250706T021225Z
UID:10000845-1754388000-1754395200@mendocinochristian.org
SUMMARY:Prayer Table From 10am to 12 Noon
DESCRIPTION:The Prayer Table is out in front of our church every Tuesday from 10 to 12 noon. We meet our neighbors and visitors from outside of Mendocino who drop by to ask for prayer or just share their heart with us. Hardly a Tuesday goes by where we don’t meet people who are grateful that this ministry exists. We have had this prayer table ministry going steadily for many years now and people in the neighborhood or out-of-town visitors wave and smile  knowing this is a great thing for a church to do and offer to the community. We have seen seven conversions to Christ in the last few years and we have witnessed God’s goodness towards many with answered prayers and miracles of healing. Please stop by if you need prayer or just to see the blessings happening.
URL:https://mendocinochristian.org/event/prayer-table-from-10am-to-12-noon/2025-08-05/
LOCATION:Mendocino Christian Fellowship\, Member's Home\, Mendocino\, California
END:VEVENT
BEGIN:VEVENT
DTSTART;TZID=America/Los_Angeles:20250810T100000
DTEND;TZID=America/Los_Angeles:20250810T104500
DTSTAMP:20260425T071215
CREATED:20250704T225933Z
LAST-MODIFIED:20250706T015923Z
UID:10000800-1754820000-1754822700@mendocinochristian.org
SUMMARY:Discipleship Training
DESCRIPTION:There are 20 videos in this course that cover most everything you need to know to be able to talk to people about the Bible. In these lessons\, you will discover how to answer many questions that unbelievers may ask. Mostly recorded outside in beautiful Mendocino\, each class is designed to equip the believer with tools for “going into all the world and making disciples” as Jesus instructed before He returned to His Father in heaven. These are very enjoyable lessons and highly illustrated for further understanding. The class will include discussion questions taken from each video presently being viewed. The class will last 45 minutes and will be held at 10 AM at Mendocino Christian Fellowship on the corner of Little Lake and Kasten in Mendocino. Invite friends and these classes will deepen their understanding as well and increase their appreciation of the Christian calling to thoroughly equipped\, a workman needing not to be ashamed.
URL:https://mendocinochristian.org/event/discipleship-training/2025-08-10/
LOCATION:Mendocino Christian Fellowship\, Member's Home\, Mendocino\, California
END:VEVENT
BEGIN:VEVENT
DTSTART;TZID=America/Los_Angeles:20250810T110000
DTEND;TZID=America/Los_Angeles:20250810T123000
DTSTAMP:20260425T071215
CREATED:20240910T220855Z
LAST-MODIFIED:20240910T220855Z
UID:10000090-1754823600-1754829000@mendocinochristian.org
SUMMARY:Sunday Services 11:00 AM to 12:30 PM
DESCRIPTION:
URL:https://mendocinochristian.org/event/sunday-services-1100-am-to-1230-pm/2025-08-10/
LOCATION:Mendocino Christian Fellowship\, Member's Home\, Mendocino\, California
END:VEVENT
BEGIN:VEVENT
DTSTART;TZID=America/Los_Angeles:20250811T100000
DTEND;TZID=America/Los_Angeles:20250811T100000
DTSTAMP:20260425T071215
CREATED:20250630T210326Z
LAST-MODIFIED:20250630T210450Z
UID:10000540-1754906400-1754906400@mendocinochristian.org
SUMMARY:Home Bible Study
DESCRIPTION:Every Monday we meet for a study that is moving us through the bible. Come and enjoy the Livingroom atmosphere of learning God’s Word. Unlike preaching\, a bible study allows for questions and answers and opportunities for insightful discussions. The study starts at 10:00 AM and concludes at 11:00 AM.
URL:https://mendocinochristian.org/event/home-bible-study/2025-08-11/
LOCATION:Mendocino Christian Fellowship\, Member's Home\, Mendocino\, California
END:VEVENT
BEGIN:VEVENT
DTSTART;TZID=America/Los_Angeles:20250812T100000
DTEND;TZID=America/Los_Angeles:20250812T120000
DTSTAMP:20260425T071215
CREATED:20250706T021225Z
LAST-MODIFIED:20250706T021225Z
UID:10000846-1754992800-1755000000@mendocinochristian.org
SUMMARY:Prayer Table From 10am to 12 Noon
DESCRIPTION:The Prayer Table is out in front of our church every Tuesday from 10 to 12 noon. We meet our neighbors and visitors from outside of Mendocino who drop by to ask for prayer or just share their heart with us. Hardly a Tuesday goes by where we don’t meet people who are grateful that this ministry exists. We have had this prayer table ministry going steadily for many years now and people in the neighborhood or out-of-town visitors wave and smile  knowing this is a great thing for a church to do and offer to the community. We have seen seven conversions to Christ in the last few years and we have witnessed God’s goodness towards many with answered prayers and miracles of healing. Please stop by if you need prayer or just to see the blessings happening.
URL:https://mendocinochristian.org/event/prayer-table-from-10am-to-12-noon/2025-08-12/
LOCATION:Mendocino Christian Fellowship\, Member's Home\, Mendocino\, California
END:VEVENT
BEGIN:VEVENT
DTSTART;TZID=America/Los_Angeles:20250817T100000
DTEND;TZID=America/Los_Angeles:20250817T104500
DTSTAMP:20260425T071215
CREATED:20250704T225933Z
LAST-MODIFIED:20250706T015923Z
UID:10000802-1755424800-1755427500@mendocinochristian.org
SUMMARY:Discipleship Training
DESCRIPTION:There are 20 videos in this course that cover most everything you need to know to be able to talk to people about the Bible. In these lessons\, you will discover how to answer many questions that unbelievers may ask. Mostly recorded outside in beautiful Mendocino\, each class is designed to equip the believer with tools for “going into all the world and making disciples” as Jesus instructed before He returned to His Father in heaven. These are very enjoyable lessons and highly illustrated for further understanding. The class will include discussion questions taken from each video presently being viewed. The class will last 45 minutes and will be held at 10 AM at Mendocino Christian Fellowship on the corner of Little Lake and Kasten in Mendocino. Invite friends and these classes will deepen their understanding as well and increase their appreciation of the Christian calling to thoroughly equipped\, a workman needing not to be ashamed.
URL:https://mendocinochristian.org/event/discipleship-training/2025-08-17/
LOCATION:Mendocino Christian Fellowship\, Member's Home\, Mendocino\, California
END:VEVENT
BEGIN:VEVENT
DTSTART;TZID=America/Los_Angeles:20250817T110000
DTEND;TZID=America/Los_Angeles:20250817T123000
DTSTAMP:20260425T071215
CREATED:20240910T220855Z
LAST-MODIFIED:20240910T220855Z
UID:10000091-1755428400-1755433800@mendocinochristian.org
SUMMARY:Sunday Services 11:00 AM to 12:30 PM
DESCRIPTION:
URL:https://mendocinochristian.org/event/sunday-services-1100-am-to-1230-pm/2025-08-17/
LOCATION:Mendocino Christian Fellowship\, Member's Home\, Mendocino\, California
END:VEVENT
BEGIN:VEVENT
DTSTART;TZID=America/Los_Angeles:20250818T100000
DTEND;TZID=America/Los_Angeles:20250818T100000
DTSTAMP:20260425T071215
CREATED:20250630T210326Z
LAST-MODIFIED:20250630T210450Z
UID:10000541-1755511200-1755511200@mendocinochristian.org
SUMMARY:Home Bible Study
DESCRIPTION:Every Monday we meet for a study that is moving us through the bible. Come and enjoy the Livingroom atmosphere of learning God’s Word. Unlike preaching\, a bible study allows for questions and answers and opportunities for insightful discussions. The study starts at 10:00 AM and concludes at 11:00 AM.
URL:https://mendocinochristian.org/event/home-bible-study/2025-08-18/
LOCATION:Mendocino Christian Fellowship\, Member's Home\, Mendocino\, California
END:VEVENT
BEGIN:VEVENT
DTSTART;TZID=America/Los_Angeles:20250819T100000
DTEND;TZID=America/Los_Angeles:20250819T120000
DTSTAMP:20260425T071215
CREATED:20250706T021225Z
LAST-MODIFIED:20250706T021225Z
UID:10000847-1755597600-1755604800@mendocinochristian.org
SUMMARY:Prayer Table From 10am to 12 Noon
DESCRIPTION:The Prayer Table is out in front of our church every Tuesday from 10 to 12 noon. We meet our neighbors and visitors from outside of Mendocino who drop by to ask for prayer or just share their heart with us. Hardly a Tuesday goes by where we don’t meet people who are grateful that this ministry exists. We have had this prayer table ministry going steadily for many years now and people in the neighborhood or out-of-town visitors wave and smile  knowing this is a great thing for a church to do and offer to the community. We have seen seven conversions to Christ in the last few years and we have witnessed God’s goodness towards many with answered prayers and miracles of healing. Please stop by if you need prayer or just to see the blessings happening.
URL:https://mendocinochristian.org/event/prayer-table-from-10am-to-12-noon/2025-08-19/
LOCATION:Mendocino Christian Fellowship\, Member's Home\, Mendocino\, California
END:VEVENT
BEGIN:VEVENT
DTSTART;TZID=America/Los_Angeles:20250824T100000
DTEND;TZID=America/Los_Angeles:20250824T104500
DTSTAMP:20260425T071215
CREATED:20250704T225933Z
LAST-MODIFIED:20250706T015923Z
UID:10000804-1756029600-1756032300@mendocinochristian.org
SUMMARY:Discipleship Training
DESCRIPTION:There are 20 videos in this course that cover most everything you need to know to be able to talk to people about the Bible. In these lessons\, you will discover how to answer many questions that unbelievers may ask. Mostly recorded outside in beautiful Mendocino\, each class is designed to equip the believer with tools for “going into all the world and making disciples” as Jesus instructed before He returned to His Father in heaven. These are very enjoyable lessons and highly illustrated for further understanding. The class will include discussion questions taken from each video presently being viewed. The class will last 45 minutes and will be held at 10 AM at Mendocino Christian Fellowship on the corner of Little Lake and Kasten in Mendocino. Invite friends and these classes will deepen their understanding as well and increase their appreciation of the Christian calling to thoroughly equipped\, a workman needing not to be ashamed.
URL:https://mendocinochristian.org/event/discipleship-training/2025-08-24/
LOCATION:Mendocino Christian Fellowship\, Member's Home\, Mendocino\, California
END:VEVENT
BEGIN:VEVENT
DTSTART;TZID=America/Los_Angeles:20250824T110000
DTEND;TZID=America/Los_Angeles:20250824T123000
DTSTAMP:20260425T071215
CREATED:20240910T220855Z
LAST-MODIFIED:20240910T220855Z
UID:10000092-1756033200-1756038600@mendocinochristian.org
SUMMARY:Sunday Services 11:00 AM to 12:30 PM
DESCRIPTION:
URL:https://mendocinochristian.org/event/sunday-services-1100-am-to-1230-pm/2025-08-24/
LOCATION:Mendocino Christian Fellowship\, Member's Home\, Mendocino\, California
END:VEVENT
BEGIN:VEVENT
DTSTART;TZID=America/Los_Angeles:20250825T100000
DTEND;TZID=America/Los_Angeles:20250825T100000
DTSTAMP:20260425T071215
CREATED:20250630T210326Z
LAST-MODIFIED:20250630T210450Z
UID:10000542-1756116000-1756116000@mendocinochristian.org
SUMMARY:Home Bible Study
DESCRIPTION:Every Monday we meet for a study that is moving us through the bible. Come and enjoy the Livingroom atmosphere of learning God’s Word. Unlike preaching\, a bible study allows for questions and answers and opportunities for insightful discussions. The study starts at 10:00 AM and concludes at 11:00 AM.
URL:https://mendocinochristian.org/event/home-bible-study/2025-08-25/
LOCATION:Mendocino Christian Fellowship\, Member's Home\, Mendocino\, California
END:VEVENT
BEGIN:VEVENT
DTSTART;TZID=America/Los_Angeles:20250826T100000
DTEND;TZID=America/Los_Angeles:20250826T120000
DTSTAMP:20260425T071215
CREATED:20250706T021225Z
LAST-MODIFIED:20250706T021225Z
UID:10000848-1756202400-1756209600@mendocinochristian.org
SUMMARY:Prayer Table From 10am to 12 Noon
DESCRIPTION:The Prayer Table is out in front of our church every Tuesday from 10 to 12 noon. We meet our neighbors and visitors from outside of Mendocino who drop by to ask for prayer or just share their heart with us. Hardly a Tuesday goes by where we don’t meet people who are grateful that this ministry exists. We have had this prayer table ministry going steadily for many years now and people in the neighborhood or out-of-town visitors wave and smile  knowing this is a great thing for a church to do and offer to the community. We have seen seven conversions to Christ in the last few years and we have witnessed God’s goodness towards many with answered prayers and miracles of healing. Please stop by if you need prayer or just to see the blessings happening.
URL:https://mendocinochristian.org/event/prayer-table-from-10am-to-12-noon/2025-08-26/
LOCATION:Mendocino Christian Fellowship\, Member's Home\, Mendocino\, California
END:VEVENT
BEGIN:VEVENT
DTSTART;TZID=America/Los_Angeles:20250831T100000
DTEND;TZID=America/Los_Angeles:20250831T104500
DTSTAMP:20260425T071215
CREATED:20250704T225933Z
LAST-MODIFIED:20250706T015923Z
UID:10000806-1756634400-1756637100@mendocinochristian.org
SUMMARY:Discipleship Training
DESCRIPTION:There are 20 videos in this course that cover most everything you need to know to be able to talk to people about the Bible. In these lessons\, you will discover how to answer many questions that unbelievers may ask. Mostly recorded outside in beautiful Mendocino\, each class is designed to equip the believer with tools for “going into all the world and making disciples” as Jesus instructed before He returned to His Father in heaven. These are very enjoyable lessons and highly illustrated for further understanding. The class will include discussion questions taken from each video presently being viewed. The class will last 45 minutes and will be held at 10 AM at Mendocino Christian Fellowship on the corner of Little Lake and Kasten in Mendocino. Invite friends and these classes will deepen their understanding as well and increase their appreciation of the Christian calling to thoroughly equipped\, a workman needing not to be ashamed.
URL:https://mendocinochristian.org/event/discipleship-training/2025-08-31/
LOCATION:Mendocino Christian Fellowship\, Member's Home\, Mendocino\, California
END:VEVENT
BEGIN:VEVENT
DTSTART;TZID=America/Los_Angeles:20250831T110000
DTEND;TZID=America/Los_Angeles:20250831T123000
DTSTAMP:20260425T071215
CREATED:20240910T220855Z
LAST-MODIFIED:20240910T220855Z
UID:10000093-1756638000-1756643400@mendocinochristian.org
SUMMARY:Sunday Services 11:00 AM to 12:30 PM
DESCRIPTION:
URL:https://mendocinochristian.org/event/sunday-services-1100-am-to-1230-pm/2025-08-31/
LOCATION:Mendocino Christian Fellowship\, Member's Home\, Mendocino\, California
END:VEVENT
BEGIN:VEVENT
DTSTART;TZID=America/Los_Angeles:20250901T100000
DTEND;TZID=America/Los_Angeles:20250901T100000
DTSTAMP:20260425T071215
CREATED:20250630T210326Z
LAST-MODIFIED:20250630T210450Z
UID:10000543-1756720800-1756720800@mendocinochristian.org
SUMMARY:Home Bible Study
DESCRIPTION:Every Monday we meet for a study that is moving us through the bible. Come and enjoy the Livingroom atmosphere of learning God’s Word. Unlike preaching\, a bible study allows for questions and answers and opportunities for insightful discussions. The study starts at 10:00 AM and concludes at 11:00 AM.
URL:https://mendocinochristian.org/event/home-bible-study/2025-09-01/
LOCATION:Mendocino Christian Fellowship\, Member's Home\, Mendocino\, California
END:VEVENT
BEGIN:VEVENT
DTSTART;TZID=America/Los_Angeles:20250902T100000
DTEND;TZID=America/Los_Angeles:20250902T120000
DTSTAMP:20260425T071215
CREATED:20250706T021225Z
LAST-MODIFIED:20250706T021225Z
UID:10000849-1756807200-1756814400@mendocinochristian.org
SUMMARY:Prayer Table From 10am to 12 Noon
DESCRIPTION:The Prayer Table is out in front of our church every Tuesday from 10 to 12 noon. We meet our neighbors and visitors from outside of Mendocino who drop by to ask for prayer or just share their heart with us. Hardly a Tuesday goes by where we don’t meet people who are grateful that this ministry exists. We have had this prayer table ministry going steadily for many years now and people in the neighborhood or out-of-town visitors wave and smile  knowing this is a great thing for a church to do and offer to the community. We have seen seven conversions to Christ in the last few years and we have witnessed God’s goodness towards many with answered prayers and miracles of healing. Please stop by if you need prayer or just to see the blessings happening.
URL:https://mendocinochristian.org/event/prayer-table-from-10am-to-12-noon/2025-09-02/
LOCATION:Mendocino Christian Fellowship\, Member's Home\, Mendocino\, California
END:VEVENT
BEGIN:VEVENT
DTSTART;TZID=America/Los_Angeles:20250907T100000
DTEND;TZID=America/Los_Angeles:20250907T104500
DTSTAMP:20260425T071215
CREATED:20250704T225933Z
LAST-MODIFIED:20250706T015923Z
UID:10000808-1757239200-1757241900@mendocinochristian.org
SUMMARY:Discipleship Training
DESCRIPTION:There are 20 videos in this course that cover most everything you need to know to be able to talk to people about the Bible. In these lessons\, you will discover how to answer many questions that unbelievers may ask. Mostly recorded outside in beautiful Mendocino\, each class is designed to equip the believer with tools for “going into all the world and making disciples” as Jesus instructed before He returned to His Father in heaven. These are very enjoyable lessons and highly illustrated for further understanding. The class will include discussion questions taken from each video presently being viewed. The class will last 45 minutes and will be held at 10 AM at Mendocino Christian Fellowship on the corner of Little Lake and Kasten in Mendocino. Invite friends and these classes will deepen their understanding as well and increase their appreciation of the Christian calling to thoroughly equipped\, a workman needing not to be ashamed.
URL:https://mendocinochristian.org/event/discipleship-training/2025-09-07/
LOCATION:Mendocino Christian Fellowship\, Member's Home\, Mendocino\, California
END:VEVENT
BEGIN:VEVENT
DTSTART;TZID=America/Los_Angeles:20250907T110000
DTEND;TZID=America/Los_Angeles:20250907T123000
DTSTAMP:20260425T071215
CREATED:20240910T220855Z
LAST-MODIFIED:20240910T220855Z
UID:10000094-1757242800-1757248200@mendocinochristian.org
SUMMARY:Sunday Services 11:00 AM to 12:30 PM
DESCRIPTION:
URL:https://mendocinochristian.org/event/sunday-services-1100-am-to-1230-pm/2025-09-07/
LOCATION:Mendocino Christian Fellowship\, Member's Home\, Mendocino\, California
END:VEVENT
BEGIN:VEVENT
DTSTART;TZID=America/Los_Angeles:20250907T120000
DTEND;TZID=America/Los_Angeles:20250907T123000
DTSTAMP:20260425T071215
CREATED:20240911T235828Z
LAST-MODIFIED:20240912T032207Z
UID:10000432-1757246400-1757248200@mendocinochristian.org
SUMMARY:Communion Sunday
DESCRIPTION:
URL:https://mendocinochristian.org/event/communion-sunday/2025-09-07/
LOCATION:Mendocino Christian Fellowship\, Member's Home\, Mendocino\, California
END:VEVENT
BEGIN:VEVENT
DTSTART;TZID=America/Los_Angeles:20250907T123000
DTEND;TZID=America/Los_Angeles:20250907T133000
DTSTAMP:20260425T071215
CREATED:20240912T000528Z
LAST-MODIFIED:20240912T034502Z
UID:10000485-1757248200-1757251800@mendocinochristian.org
SUMMARY:Potluck Sunday
DESCRIPTION:Bring your favorite Sunday food to add to our family after-service lunch together.
URL:https://mendocinochristian.org/event/potluck-sunday/2025-09-07/
LOCATION:Mendocino Christian Fellowship\, Member's Home\, Mendocino\, California
END:VEVENT
BEGIN:VEVENT
DTSTART;TZID=America/Los_Angeles:20250908T100000
DTEND;TZID=America/Los_Angeles:20250908T100000
DTSTAMP:20260425T071215
CREATED:20250630T210326Z
LAST-MODIFIED:20250630T210450Z
UID:10000544-1757325600-1757325600@mendocinochristian.org
SUMMARY:Home Bible Study
DESCRIPTION:Every Monday we meet for a study that is moving us through the bible. Come and enjoy the Livingroom atmosphere of learning God’s Word. Unlike preaching\, a bible study allows for questions and answers and opportunities for insightful discussions. The study starts at 10:00 AM and concludes at 11:00 AM.
URL:https://mendocinochristian.org/event/home-bible-study/2025-09-08/
LOCATION:Mendocino Christian Fellowship\, Member's Home\, Mendocino\, California
END:VEVENT
BEGIN:VEVENT
DTSTART;TZID=America/Los_Angeles:20250909T100000
DTEND;TZID=America/Los_Angeles:20250909T120000
DTSTAMP:20260425T071215
CREATED:20250706T021225Z
LAST-MODIFIED:20250706T021225Z
UID:10000850-1757412000-1757419200@mendocinochristian.org
SUMMARY:Prayer Table From 10am to 12 Noon
DESCRIPTION:The Prayer Table is out in front of our church every Tuesday from 10 to 12 noon. We meet our neighbors and visitors from outside of Mendocino who drop by to ask for prayer or just share their heart with us. Hardly a Tuesday goes by where we don’t meet people who are grateful that this ministry exists. We have had this prayer table ministry going steadily for many years now and people in the neighborhood or out-of-town visitors wave and smile  knowing this is a great thing for a church to do and offer to the community. We have seen seven conversions to Christ in the last few years and we have witnessed God’s goodness towards many with answered prayers and miracles of healing. Please stop by if you need prayer or just to see the blessings happening.
URL:https://mendocinochristian.org/event/prayer-table-from-10am-to-12-noon/2025-09-09/
LOCATION:Mendocino Christian Fellowship\, Member's Home\, Mendocino\, California
END:VEVENT
BEGIN:VEVENT
DTSTART;TZID=America/Los_Angeles:20250914T100000
DTEND;TZID=America/Los_Angeles:20250914T104500
DTSTAMP:20260425T071215
CREATED:20250704T225933Z
LAST-MODIFIED:20250706T015923Z
UID:10000810-1757844000-1757846700@mendocinochristian.org
SUMMARY:Discipleship Training
DESCRIPTION:There are 20 videos in this course that cover most everything you need to know to be able to talk to people about the Bible. In these lessons\, you will discover how to answer many questions that unbelievers may ask. Mostly recorded outside in beautiful Mendocino\, each class is designed to equip the believer with tools for “going into all the world and making disciples” as Jesus instructed before He returned to His Father in heaven. These are very enjoyable lessons and highly illustrated for further understanding. The class will include discussion questions taken from each video presently being viewed. The class will last 45 minutes and will be held at 10 AM at Mendocino Christian Fellowship on the corner of Little Lake and Kasten in Mendocino. Invite friends and these classes will deepen their understanding as well and increase their appreciation of the Christian calling to thoroughly equipped\, a workman needing not to be ashamed.
URL:https://mendocinochristian.org/event/discipleship-training/2025-09-14/
LOCATION:Mendocino Christian Fellowship\, Member's Home\, Mendocino\, California
END:VEVENT
BEGIN:VEVENT
DTSTART;TZID=America/Los_Angeles:20250914T110000
DTEND;TZID=America/Los_Angeles:20250914T123000
DTSTAMP:20260425T071215
CREATED:20240910T220855Z
LAST-MODIFIED:20240910T220855Z
UID:10000095-1757847600-1757853000@mendocinochristian.org
SUMMARY:Sunday Services 11:00 AM to 12:30 PM
DESCRIPTION:
URL:https://mendocinochristian.org/event/sunday-services-1100-am-to-1230-pm/2025-09-14/
LOCATION:Mendocino Christian Fellowship\, Member's Home\, Mendocino\, California
END:VEVENT
END:VCALENDAR