BEGIN:VCALENDAR
VERSION:2.0
PRODID:-// - ECPv6.15.20//NONSGML v1.0//EN
CALSCALE:GREGORIAN
METHOD:PUBLISH
X-ORIGINAL-URL:https://mendocinochristian.org
X-WR-CALDESC:Events for 
REFRESH-INTERVAL;VALUE=DURATION:PT1H
X-Robots-Tag:noindex
X-PUBLISHED-TTL:PT1H
BEGIN:VTIMEZONE
TZID:America/Los_Angeles
BEGIN:DAYLIGHT
TZOFFSETFROM:-0800
TZOFFSETTO:-0700
TZNAME:PDT
DTSTART:20240310T100000
END:DAYLIGHT
BEGIN:STANDARD
TZOFFSETFROM:-0700
TZOFFSETTO:-0800
TZNAME:PST
DTSTART:20241103T090000
END:STANDARD
BEGIN:DAYLIGHT
TZOFFSETFROM:-0800
TZOFFSETTO:-0700
TZNAME:PDT
DTSTART:20250309T100000
END:DAYLIGHT
BEGIN:STANDARD
TZOFFSETFROM:-0700
TZOFFSETTO:-0800
TZNAME:PST
DTSTART:20251102T090000
END:STANDARD
BEGIN:DAYLIGHT
TZOFFSETFROM:-0800
TZOFFSETTO:-0700
TZNAME:PDT
DTSTART:20260308T100000
END:DAYLIGHT
BEGIN:STANDARD
TZOFFSETFROM:-0700
TZOFFSETTO:-0800
TZNAME:PST
DTSTART:20261101T090000
END:STANDARD
END:VTIMEZONE
BEGIN:VEVENT
DTSTART;TZID=America/Los_Angeles:20250202T120000
DTEND;TZID=America/Los_Angeles:20250202T123000
DTSTAMP:20260425T093502
CREATED:20240911T235828Z
LAST-MODIFIED:20240912T032207Z
UID:10000427-1738497600-1738499400@mendocinochristian.org
SUMMARY:Communion Sunday
DESCRIPTION:
URL:https://mendocinochristian.org/event/communion-sunday/2025-02-02/
LOCATION:Mendocino Christian Fellowship\, Member's Home\, Mendocino\, California
END:VEVENT
BEGIN:VEVENT
DTSTART;TZID=America/Los_Angeles:20250202T123000
DTEND;TZID=America/Los_Angeles:20250202T133000
DTSTAMP:20260425T093502
CREATED:20240912T000528Z
LAST-MODIFIED:20240912T034502Z
UID:10000478-1738499400-1738503000@mendocinochristian.org
SUMMARY:Potluck Sunday
DESCRIPTION:Bring your favorite Sunday food to add to our family after-service lunch together.
URL:https://mendocinochristian.org/event/potluck-sunday/2025-02-02/
LOCATION:Mendocino Christian Fellowship\, Member's Home\, Mendocino\, California
END:VEVENT
BEGIN:VEVENT
DTSTART;TZID=America/Los_Angeles:20250209T110000
DTEND;TZID=America/Los_Angeles:20250209T123000
DTSTAMP:20260425T093502
CREATED:20240910T220855Z
LAST-MODIFIED:20240910T220855Z
UID:10000064-1739098800-1739104200@mendocinochristian.org
SUMMARY:Sunday Services 11:00 AM to 12:30 PM
DESCRIPTION:
URL:https://mendocinochristian.org/event/sunday-services-1100-am-to-1230-pm/2025-02-09/
LOCATION:Mendocino Christian Fellowship\, Member's Home\, Mendocino\, California
END:VEVENT
BEGIN:VEVENT
DTSTART;TZID=America/Los_Angeles:20250216T110000
DTEND;TZID=America/Los_Angeles:20250216T123000
DTSTAMP:20260425T093502
CREATED:20240910T220855Z
LAST-MODIFIED:20240910T220855Z
UID:10000065-1739703600-1739709000@mendocinochristian.org
SUMMARY:Sunday Services 11:00 AM to 12:30 PM
DESCRIPTION:
URL:https://mendocinochristian.org/event/sunday-services-1100-am-to-1230-pm/2025-02-16/
LOCATION:Mendocino Christian Fellowship\, Member's Home\, Mendocino\, California
END:VEVENT
BEGIN:VEVENT
DTSTART;TZID=America/Los_Angeles:20250223T110000
DTEND;TZID=America/Los_Angeles:20250223T123000
DTSTAMP:20260425T093502
CREATED:20240910T220855Z
LAST-MODIFIED:20240910T220855Z
UID:10000066-1740308400-1740313800@mendocinochristian.org
SUMMARY:Sunday Services 11:00 AM to 12:30 PM
DESCRIPTION:
URL:https://mendocinochristian.org/event/sunday-services-1100-am-to-1230-pm/2025-02-23/
LOCATION:Mendocino Christian Fellowship\, Member's Home\, Mendocino\, California
END:VEVENT
BEGIN:VEVENT
DTSTART;TZID=America/Los_Angeles:20250302T110000
DTEND;TZID=America/Los_Angeles:20250302T123000
DTSTAMP:20260425T093502
CREATED:20240910T220855Z
LAST-MODIFIED:20240910T220855Z
UID:10000067-1740913200-1740918600@mendocinochristian.org
SUMMARY:Sunday Services 11:00 AM to 12:30 PM
DESCRIPTION:
URL:https://mendocinochristian.org/event/sunday-services-1100-am-to-1230-pm/2025-03-02/
LOCATION:Mendocino Christian Fellowship\, Member's Home\, Mendocino\, California
END:VEVENT
BEGIN:VEVENT
DTSTART;TZID=America/Los_Angeles:20250302T120000
DTEND;TZID=America/Los_Angeles:20250302T123000
DTSTAMP:20260425T093502
CREATED:20240911T235828Z
LAST-MODIFIED:20240912T032207Z
UID:10000428-1740916800-1740918600@mendocinochristian.org
SUMMARY:Communion Sunday
DESCRIPTION:
URL:https://mendocinochristian.org/event/communion-sunday/2025-03-02/
LOCATION:Mendocino Christian Fellowship\, Member's Home\, Mendocino\, California
END:VEVENT
BEGIN:VEVENT
DTSTART;TZID=America/Los_Angeles:20250302T123000
DTEND;TZID=America/Los_Angeles:20250302T133000
DTSTAMP:20260425T093502
CREATED:20240912T000528Z
LAST-MODIFIED:20240912T034502Z
UID:10000479-1740918600-1740922200@mendocinochristian.org
SUMMARY:Potluck Sunday
DESCRIPTION:Bring your favorite Sunday food to add to our family after-service lunch together.
URL:https://mendocinochristian.org/event/potluck-sunday/2025-03-02/
LOCATION:Mendocino Christian Fellowship\, Member's Home\, Mendocino\, California
END:VEVENT
BEGIN:VEVENT
DTSTART;TZID=America/Los_Angeles:20250309T110000
DTEND;TZID=America/Los_Angeles:20250309T123000
DTSTAMP:20260425T093502
CREATED:20240910T220855Z
LAST-MODIFIED:20240910T220855Z
UID:10000068-1741518000-1741523400@mendocinochristian.org
SUMMARY:Sunday Services 11:00 AM to 12:30 PM
DESCRIPTION:
URL:https://mendocinochristian.org/event/sunday-services-1100-am-to-1230-pm/2025-03-09/
LOCATION:Mendocino Christian Fellowship\, Member's Home\, Mendocino\, California
END:VEVENT
BEGIN:VEVENT
DTSTART;TZID=America/Los_Angeles:20250316T110000
DTEND;TZID=America/Los_Angeles:20250316T123000
DTSTAMP:20260425T093502
CREATED:20240910T220855Z
LAST-MODIFIED:20240910T220855Z
UID:10000069-1742122800-1742128200@mendocinochristian.org
SUMMARY:Sunday Services 11:00 AM to 12:30 PM
DESCRIPTION:
URL:https://mendocinochristian.org/event/sunday-services-1100-am-to-1230-pm/2025-03-16/
LOCATION:Mendocino Christian Fellowship\, Member's Home\, Mendocino\, California
END:VEVENT
BEGIN:VEVENT
DTSTART;TZID=America/Los_Angeles:20250323T110000
DTEND;TZID=America/Los_Angeles:20250323T123000
DTSTAMP:20260425T093502
CREATED:20240910T220855Z
LAST-MODIFIED:20240910T220855Z
UID:10000070-1742727600-1742733000@mendocinochristian.org
SUMMARY:Sunday Services 11:00 AM to 12:30 PM
DESCRIPTION:
URL:https://mendocinochristian.org/event/sunday-services-1100-am-to-1230-pm/2025-03-23/
LOCATION:Mendocino Christian Fellowship\, Member's Home\, Mendocino\, California
END:VEVENT
BEGIN:VEVENT
DTSTART;TZID=America/Los_Angeles:20250330T110000
DTEND;TZID=America/Los_Angeles:20250330T123000
DTSTAMP:20260425T093502
CREATED:20240910T220855Z
LAST-MODIFIED:20240910T220855Z
UID:10000071-1743332400-1743337800@mendocinochristian.org
SUMMARY:Sunday Services 11:00 AM to 12:30 PM
DESCRIPTION:
URL:https://mendocinochristian.org/event/sunday-services-1100-am-to-1230-pm/2025-03-30/
LOCATION:Mendocino Christian Fellowship\, Member's Home\, Mendocino\, California
END:VEVENT
BEGIN:VEVENT
DTSTART;TZID=America/Los_Angeles:20250406T110000
DTEND;TZID=America/Los_Angeles:20250406T123000
DTSTAMP:20260425T093502
CREATED:20240910T220855Z
LAST-MODIFIED:20240910T220855Z
UID:10000072-1743937200-1743942600@mendocinochristian.org
SUMMARY:Sunday Services 11:00 AM to 12:30 PM
DESCRIPTION:
URL:https://mendocinochristian.org/event/sunday-services-1100-am-to-1230-pm/2025-04-06/
LOCATION:Mendocino Christian Fellowship\, Member's Home\, Mendocino\, California
END:VEVENT
BEGIN:VEVENT
DTSTART;TZID=America/Los_Angeles:20250406T120000
DTEND;TZID=America/Los_Angeles:20250406T123000
DTSTAMP:20260425T093502
CREATED:20240911T235828Z
LAST-MODIFIED:20240912T032207Z
UID:10000310-1743940800-1743942600@mendocinochristian.org
SUMMARY:Communion Sunday
DESCRIPTION:
URL:https://mendocinochristian.org/event/communion-sunday/2025-04-06/
LOCATION:Mendocino Christian Fellowship\, Member's Home\, Mendocino\, California
END:VEVENT
BEGIN:VEVENT
DTSTART;TZID=America/Los_Angeles:20250406T123000
DTEND;TZID=America/Los_Angeles:20250406T133000
DTSTAMP:20260425T093502
CREATED:20240912T000528Z
LAST-MODIFIED:20240912T034502Z
UID:10000480-1743942600-1743946200@mendocinochristian.org
SUMMARY:Potluck Sunday
DESCRIPTION:Bring your favorite Sunday food to add to our family after-service lunch together.
URL:https://mendocinochristian.org/event/potluck-sunday/2025-04-06/
LOCATION:Mendocino Christian Fellowship\, Member's Home\, Mendocino\, California
END:VEVENT
BEGIN:VEVENT
DTSTART;TZID=America/Los_Angeles:20250413T110000
DTEND;TZID=America/Los_Angeles:20250413T123000
DTSTAMP:20260425T093502
CREATED:20240910T220855Z
LAST-MODIFIED:20240910T220855Z
UID:10000073-1744542000-1744547400@mendocinochristian.org
SUMMARY:Sunday Services 11:00 AM to 12:30 PM
DESCRIPTION:
URL:https://mendocinochristian.org/event/sunday-services-1100-am-to-1230-pm/2025-04-13/
LOCATION:Mendocino Christian Fellowship\, Member's Home\, Mendocino\, California
END:VEVENT
BEGIN:VEVENT
DTSTART;TZID=America/Los_Angeles:20250420T110000
DTEND;TZID=America/Los_Angeles:20250420T123000
DTSTAMP:20260425T093502
CREATED:20240910T220855Z
LAST-MODIFIED:20240910T220855Z
UID:10000074-1745146800-1745152200@mendocinochristian.org
SUMMARY:Sunday Services 11:00 AM to 12:30 PM
DESCRIPTION:
URL:https://mendocinochristian.org/event/sunday-services-1100-am-to-1230-pm/2025-04-20/
LOCATION:Mendocino Christian Fellowship\, Member's Home\, Mendocino\, California
END:VEVENT
BEGIN:VEVENT
DTSTART;TZID=America/Los_Angeles:20250427T110000
DTEND;TZID=America/Los_Angeles:20250427T123000
DTSTAMP:20260425T093502
CREATED:20240910T220855Z
LAST-MODIFIED:20240910T220855Z
UID:10000075-1745751600-1745757000@mendocinochristian.org
SUMMARY:Sunday Services 11:00 AM to 12:30 PM
DESCRIPTION:
URL:https://mendocinochristian.org/event/sunday-services-1100-am-to-1230-pm/2025-04-27/
LOCATION:Mendocino Christian Fellowship\, Member's Home\, Mendocino\, California
END:VEVENT
BEGIN:VEVENT
DTSTART;TZID=America/Los_Angeles:20250504T110000
DTEND;TZID=America/Los_Angeles:20250504T123000
DTSTAMP:20260425T093502
CREATED:20240910T220855Z
LAST-MODIFIED:20240910T220855Z
UID:10000076-1746356400-1746361800@mendocinochristian.org
SUMMARY:Sunday Services 11:00 AM to 12:30 PM
DESCRIPTION:
URL:https://mendocinochristian.org/event/sunday-services-1100-am-to-1230-pm/2025-05-04/
LOCATION:Mendocino Christian Fellowship\, Member's Home\, Mendocino\, California
END:VEVENT
BEGIN:VEVENT
DTSTART;TZID=America/Los_Angeles:20250504T120000
DTEND;TZID=America/Los_Angeles:20250504T123000
DTSTAMP:20260425T093502
CREATED:20240911T235828Z
LAST-MODIFIED:20240912T032207Z
UID:10000429-1746360000-1746361800@mendocinochristian.org
SUMMARY:Communion Sunday
DESCRIPTION:
URL:https://mendocinochristian.org/event/communion-sunday/2025-05-04/
LOCATION:Mendocino Christian Fellowship\, Member's Home\, Mendocino\, California
END:VEVENT
BEGIN:VEVENT
DTSTART;TZID=America/Los_Angeles:20250504T123000
DTEND;TZID=America/Los_Angeles:20250504T133000
DTSTAMP:20260425T093502
CREATED:20240912T000528Z
LAST-MODIFIED:20240912T034502Z
UID:10000481-1746361800-1746365400@mendocinochristian.org
SUMMARY:Potluck Sunday
DESCRIPTION:Bring your favorite Sunday food to add to our family after-service lunch together.
URL:https://mendocinochristian.org/event/potluck-sunday/2025-05-04/
LOCATION:Mendocino Christian Fellowship\, Member's Home\, Mendocino\, California
END:VEVENT
BEGIN:VEVENT
DTSTART;TZID=America/Los_Angeles:20250511T110000
DTEND;TZID=America/Los_Angeles:20250511T123000
DTSTAMP:20260425T093502
CREATED:20240910T220855Z
LAST-MODIFIED:20240910T220855Z
UID:10000077-1746961200-1746966600@mendocinochristian.org
SUMMARY:Sunday Services 11:00 AM to 12:30 PM
DESCRIPTION:
URL:https://mendocinochristian.org/event/sunday-services-1100-am-to-1230-pm/2025-05-11/
LOCATION:Mendocino Christian Fellowship\, Member's Home\, Mendocino\, California
END:VEVENT
BEGIN:VEVENT
DTSTART;TZID=America/Los_Angeles:20250518T110000
DTEND;TZID=America/Los_Angeles:20250518T123000
DTSTAMP:20260425T093502
CREATED:20240910T220855Z
LAST-MODIFIED:20240910T220855Z
UID:10000078-1747566000-1747571400@mendocinochristian.org
SUMMARY:Sunday Services 11:00 AM to 12:30 PM
DESCRIPTION:
URL:https://mendocinochristian.org/event/sunday-services-1100-am-to-1230-pm/2025-05-18/
LOCATION:Mendocino Christian Fellowship\, Member's Home\, Mendocino\, California
END:VEVENT
BEGIN:VEVENT
DTSTART;TZID=America/Los_Angeles:20250525T110000
DTEND;TZID=America/Los_Angeles:20250525T123000
DTSTAMP:20260425T093502
CREATED:20240910T220855Z
LAST-MODIFIED:20240910T220855Z
UID:10000079-1748170800-1748176200@mendocinochristian.org
SUMMARY:Sunday Services 11:00 AM to 12:30 PM
DESCRIPTION:
URL:https://mendocinochristian.org/event/sunday-services-1100-am-to-1230-pm/2025-05-25/
LOCATION:Mendocino Christian Fellowship\, Member's Home\, Mendocino\, California
END:VEVENT
BEGIN:VEVENT
DTSTART;TZID=America/Los_Angeles:20250601T110000
DTEND;TZID=America/Los_Angeles:20250601T123000
DTSTAMP:20260425T093502
CREATED:20240910T220855Z
LAST-MODIFIED:20240910T220855Z
UID:10000080-1748775600-1748781000@mendocinochristian.org
SUMMARY:Sunday Services 11:00 AM to 12:30 PM
DESCRIPTION:
URL:https://mendocinochristian.org/event/sunday-services-1100-am-to-1230-pm/2025-06-01/
LOCATION:Mendocino Christian Fellowship\, Member's Home\, Mendocino\, California
END:VEVENT
BEGIN:VEVENT
DTSTART;TZID=America/Los_Angeles:20250601T120000
DTEND;TZID=America/Los_Angeles:20250601T123000
DTSTAMP:20260425T093502
CREATED:20240911T235828Z
LAST-MODIFIED:20240912T032207Z
UID:10000430-1748779200-1748781000@mendocinochristian.org
SUMMARY:Communion Sunday
DESCRIPTION:
URL:https://mendocinochristian.org/event/communion-sunday/2025-06-01/
LOCATION:Mendocino Christian Fellowship\, Member's Home\, Mendocino\, California
END:VEVENT
BEGIN:VEVENT
DTSTART;TZID=America/Los_Angeles:20250601T123000
DTEND;TZID=America/Los_Angeles:20250601T133000
DTSTAMP:20260425T093502
CREATED:20240912T000528Z
LAST-MODIFIED:20240912T034502Z
UID:10000482-1748781000-1748784600@mendocinochristian.org
SUMMARY:Potluck Sunday
DESCRIPTION:Bring your favorite Sunday food to add to our family after-service lunch together.
URL:https://mendocinochristian.org/event/potluck-sunday/2025-06-01/
LOCATION:Mendocino Christian Fellowship\, Member's Home\, Mendocino\, California
END:VEVENT
BEGIN:VEVENT
DTSTART;TZID=America/Los_Angeles:20250608T110000
DTEND;TZID=America/Los_Angeles:20250608T123000
DTSTAMP:20260425T093502
CREATED:20240910T220855Z
LAST-MODIFIED:20240910T220855Z
UID:10000081-1749380400-1749385800@mendocinochristian.org
SUMMARY:Sunday Services 11:00 AM to 12:30 PM
DESCRIPTION:
URL:https://mendocinochristian.org/event/sunday-services-1100-am-to-1230-pm/2025-06-08/
LOCATION:Mendocino Christian Fellowship\, Member's Home\, Mendocino\, California
END:VEVENT
BEGIN:VEVENT
DTSTART;TZID=America/Los_Angeles:20250615T110000
DTEND;TZID=America/Los_Angeles:20250615T123000
DTSTAMP:20260425T093502
CREATED:20240910T220855Z
LAST-MODIFIED:20240910T220855Z
UID:10000082-1749985200-1749990600@mendocinochristian.org
SUMMARY:Sunday Services 11:00 AM to 12:30 PM
DESCRIPTION:
URL:https://mendocinochristian.org/event/sunday-services-1100-am-to-1230-pm/2025-06-15/
LOCATION:Mendocino Christian Fellowship\, Member's Home\, Mendocino\, California
END:VEVENT
BEGIN:VEVENT
DTSTART;TZID=America/Los_Angeles:20250622T110000
DTEND;TZID=America/Los_Angeles:20250622T123000
DTSTAMP:20260425T093502
CREATED:20240910T220855Z
LAST-MODIFIED:20240910T220855Z
UID:10000083-1750590000-1750595400@mendocinochristian.org
SUMMARY:Sunday Services 11:00 AM to 12:30 PM
DESCRIPTION:
URL:https://mendocinochristian.org/event/sunday-services-1100-am-to-1230-pm/2025-06-22/
LOCATION:Mendocino Christian Fellowship\, Member's Home\, Mendocino\, California
END:VEVENT
END:VCALENDAR