BEGIN:VCALENDAR
VERSION:2.0
PRODID:-// - ECPv6.15.20//NONSGML v1.0//EN
CALSCALE:GREGORIAN
METHOD:PUBLISH
X-ORIGINAL-URL:https://mendocinochristian.org
X-WR-CALDESC:Events for 
REFRESH-INTERVAL;VALUE=DURATION:PT1H
X-Robots-Tag:noindex
X-PUBLISHED-TTL:PT1H
BEGIN:VTIMEZONE
TZID:America/Los_Angeles
BEGIN:DAYLIGHT
TZOFFSETFROM:-0800
TZOFFSETTO:-0700
TZNAME:PDT
DTSTART:20250309T100000
END:DAYLIGHT
BEGIN:STANDARD
TZOFFSETFROM:-0700
TZOFFSETTO:-0800
TZNAME:PST
DTSTART:20251102T090000
END:STANDARD
BEGIN:DAYLIGHT
TZOFFSETFROM:-0800
TZOFFSETTO:-0700
TZNAME:PDT
DTSTART:20260308T100000
END:DAYLIGHT
BEGIN:STANDARD
TZOFFSETFROM:-0700
TZOFFSETTO:-0800
TZNAME:PST
DTSTART:20261101T090000
END:STANDARD
BEGIN:DAYLIGHT
TZOFFSETFROM:-0800
TZOFFSETTO:-0700
TZNAME:PDT
DTSTART:20270314T100000
END:DAYLIGHT
BEGIN:STANDARD
TZOFFSETFROM:-0700
TZOFFSETTO:-0800
TZNAME:PST
DTSTART:20271107T090000
END:STANDARD
BEGIN:DAYLIGHT
TZOFFSETFROM:-0800
TZOFFSETTO:-0700
TZNAME:PDT
DTSTART:20280312T100000
END:DAYLIGHT
BEGIN:STANDARD
TZOFFSETFROM:-0700
TZOFFSETTO:-0800
TZNAME:PST
DTSTART:20281105T090000
END:STANDARD
END:VTIMEZONE
BEGIN:VEVENT
DTSTART;TZID=America/Los_Angeles:20261103T100000
DTEND;TZID=America/Los_Angeles:20261103T120000
DTSTAMP:20260425T093605
CREATED:20250706T021225Z
LAST-MODIFIED:20250706T021225Z
UID:10000910-1793700000-1793707200@mendocinochristian.org
SUMMARY:Prayer Table From 10am to 12 Noon
DESCRIPTION:The Prayer Table is out in front of our church every Tuesday from 10 to 12 noon. We meet our neighbors and visitors from outside of Mendocino who drop by to ask for prayer or just share their heart with us. Hardly a Tuesday goes by where we don’t meet people who are grateful that this ministry exists. We have had this prayer table ministry going steadily for many years now and people in the neighborhood or out-of-town visitors wave and smile  knowing this is a great thing for a church to do and offer to the community. We have seen seven conversions to Christ in the last few years and we have witnessed God’s goodness towards many with answered prayers and miracles of healing. Please stop by if you need prayer or just to see the blessings happening.
URL:https://mendocinochristian.org/event/prayer-table-from-10am-to-12-noon/2026-11-03/
LOCATION:Mendocino Christian Fellowship\, Member's Home\, Mendocino\, California
END:VEVENT
BEGIN:VEVENT
DTSTART;TZID=America/Los_Angeles:20261108T110000
DTEND;TZID=America/Los_Angeles:20261108T123000
DTSTAMP:20260425T093605
CREATED:20240910T220855Z
LAST-MODIFIED:20240910T220855Z
UID:10000155-1794135600-1794141000@mendocinochristian.org
SUMMARY:Sunday Services 11:00 AM to 12:30 PM
DESCRIPTION:
URL:https://mendocinochristian.org/event/sunday-services-1100-am-to-1230-pm/2026-11-08/
LOCATION:Mendocino Christian Fellowship\, Member's Home\, Mendocino\, California
END:VEVENT
BEGIN:VEVENT
DTSTART;TZID=America/Los_Angeles:20261109T100000
DTEND;TZID=America/Los_Angeles:20261109T100000
DTSTAMP:20260425T093605
CREATED:20250630T210326Z
LAST-MODIFIED:20250630T210450Z
UID:10000605-1794218400-1794218400@mendocinochristian.org
SUMMARY:Home Bible Study
DESCRIPTION:Every Monday we meet for a study that is moving us through the bible. Come and enjoy the Livingroom atmosphere of learning God’s Word. Unlike preaching\, a bible study allows for questions and answers and opportunities for insightful discussions. The study starts at 10:00 AM and concludes at 11:00 AM.
URL:https://mendocinochristian.org/event/home-bible-study/2026-11-09/
LOCATION:Mendocino Christian Fellowship\, Member's Home\, Mendocino\, California
END:VEVENT
BEGIN:VEVENT
DTSTART;TZID=America/Los_Angeles:20261110T100000
DTEND;TZID=America/Los_Angeles:20261110T120000
DTSTAMP:20260425T093605
CREATED:20250706T021225Z
LAST-MODIFIED:20250706T021225Z
UID:10000911-1794304800-1794312000@mendocinochristian.org
SUMMARY:Prayer Table From 10am to 12 Noon
DESCRIPTION:The Prayer Table is out in front of our church every Tuesday from 10 to 12 noon. We meet our neighbors and visitors from outside of Mendocino who drop by to ask for prayer or just share their heart with us. Hardly a Tuesday goes by where we don’t meet people who are grateful that this ministry exists. We have had this prayer table ministry going steadily for many years now and people in the neighborhood or out-of-town visitors wave and smile  knowing this is a great thing for a church to do and offer to the community. We have seen seven conversions to Christ in the last few years and we have witnessed God’s goodness towards many with answered prayers and miracles of healing. Please stop by if you need prayer or just to see the blessings happening.
URL:https://mendocinochristian.org/event/prayer-table-from-10am-to-12-noon/2026-11-10/
LOCATION:Mendocino Christian Fellowship\, Member's Home\, Mendocino\, California
END:VEVENT
BEGIN:VEVENT
DTSTART;TZID=America/Los_Angeles:20261115T110000
DTEND;TZID=America/Los_Angeles:20261115T123000
DTSTAMP:20260425T093605
CREATED:20240910T220855Z
LAST-MODIFIED:20240910T220855Z
UID:10000156-1794740400-1794745800@mendocinochristian.org
SUMMARY:Sunday Services 11:00 AM to 12:30 PM
DESCRIPTION:
URL:https://mendocinochristian.org/event/sunday-services-1100-am-to-1230-pm/2026-11-15/
LOCATION:Mendocino Christian Fellowship\, Member's Home\, Mendocino\, California
END:VEVENT
BEGIN:VEVENT
DTSTART;TZID=America/Los_Angeles:20261116T100000
DTEND;TZID=America/Los_Angeles:20261116T100000
DTSTAMP:20260425T093605
CREATED:20250630T210326Z
LAST-MODIFIED:20250630T210450Z
UID:10000606-1794823200-1794823200@mendocinochristian.org
SUMMARY:Home Bible Study
DESCRIPTION:Every Monday we meet for a study that is moving us through the bible. Come and enjoy the Livingroom atmosphere of learning God’s Word. Unlike preaching\, a bible study allows for questions and answers and opportunities for insightful discussions. The study starts at 10:00 AM and concludes at 11:00 AM.
URL:https://mendocinochristian.org/event/home-bible-study/2026-11-16/
LOCATION:Mendocino Christian Fellowship\, Member's Home\, Mendocino\, California
END:VEVENT
BEGIN:VEVENT
DTSTART;TZID=America/Los_Angeles:20261117T100000
DTEND;TZID=America/Los_Angeles:20261117T120000
DTSTAMP:20260425T093605
CREATED:20250706T021225Z
LAST-MODIFIED:20250706T021225Z
UID:10000912-1794909600-1794916800@mendocinochristian.org
SUMMARY:Prayer Table From 10am to 12 Noon
DESCRIPTION:The Prayer Table is out in front of our church every Tuesday from 10 to 12 noon. We meet our neighbors and visitors from outside of Mendocino who drop by to ask for prayer or just share their heart with us. Hardly a Tuesday goes by where we don’t meet people who are grateful that this ministry exists. We have had this prayer table ministry going steadily for many years now and people in the neighborhood or out-of-town visitors wave and smile  knowing this is a great thing for a church to do and offer to the community. We have seen seven conversions to Christ in the last few years and we have witnessed God’s goodness towards many with answered prayers and miracles of healing. Please stop by if you need prayer or just to see the blessings happening.
URL:https://mendocinochristian.org/event/prayer-table-from-10am-to-12-noon/2026-11-17/
LOCATION:Mendocino Christian Fellowship\, Member's Home\, Mendocino\, California
END:VEVENT
BEGIN:VEVENT
DTSTART;TZID=America/Los_Angeles:20261122T110000
DTEND;TZID=America/Los_Angeles:20261122T123000
DTSTAMP:20260425T093605
CREATED:20240910T220855Z
LAST-MODIFIED:20240910T220855Z
UID:10000157-1795345200-1795350600@mendocinochristian.org
SUMMARY:Sunday Services 11:00 AM to 12:30 PM
DESCRIPTION:
URL:https://mendocinochristian.org/event/sunday-services-1100-am-to-1230-pm/2026-11-22/
LOCATION:Mendocino Christian Fellowship\, Member's Home\, Mendocino\, California
END:VEVENT
BEGIN:VEVENT
DTSTART;TZID=America/Los_Angeles:20261123T100000
DTEND;TZID=America/Los_Angeles:20261123T100000
DTSTAMP:20260425T093605
CREATED:20250630T210326Z
LAST-MODIFIED:20250630T210450Z
UID:10000607-1795428000-1795428000@mendocinochristian.org
SUMMARY:Home Bible Study
DESCRIPTION:Every Monday we meet for a study that is moving us through the bible. Come and enjoy the Livingroom atmosphere of learning God’s Word. Unlike preaching\, a bible study allows for questions and answers and opportunities for insightful discussions. The study starts at 10:00 AM and concludes at 11:00 AM.
URL:https://mendocinochristian.org/event/home-bible-study/2026-11-23/
LOCATION:Mendocino Christian Fellowship\, Member's Home\, Mendocino\, California
END:VEVENT
BEGIN:VEVENT
DTSTART;TZID=America/Los_Angeles:20261124T100000
DTEND;TZID=America/Los_Angeles:20261124T120000
DTSTAMP:20260425T093605
CREATED:20250706T021225Z
LAST-MODIFIED:20250706T021225Z
UID:10000913-1795514400-1795521600@mendocinochristian.org
SUMMARY:Prayer Table From 10am to 12 Noon
DESCRIPTION:The Prayer Table is out in front of our church every Tuesday from 10 to 12 noon. We meet our neighbors and visitors from outside of Mendocino who drop by to ask for prayer or just share their heart with us. Hardly a Tuesday goes by where we don’t meet people who are grateful that this ministry exists. We have had this prayer table ministry going steadily for many years now and people in the neighborhood or out-of-town visitors wave and smile  knowing this is a great thing for a church to do and offer to the community. We have seen seven conversions to Christ in the last few years and we have witnessed God’s goodness towards many with answered prayers and miracles of healing. Please stop by if you need prayer or just to see the blessings happening.
URL:https://mendocinochristian.org/event/prayer-table-from-10am-to-12-noon/2026-11-24/
LOCATION:Mendocino Christian Fellowship\, Member's Home\, Mendocino\, California
END:VEVENT
BEGIN:VEVENT
DTSTART;TZID=America/Los_Angeles:20261129T110000
DTEND;TZID=America/Los_Angeles:20261129T123000
DTSTAMP:20260425T093605
CREATED:20240910T220855Z
LAST-MODIFIED:20240910T220855Z
UID:10000158-1795950000-1795955400@mendocinochristian.org
SUMMARY:Sunday Services 11:00 AM to 12:30 PM
DESCRIPTION:
URL:https://mendocinochristian.org/event/sunday-services-1100-am-to-1230-pm/2026-11-29/
LOCATION:Mendocino Christian Fellowship\, Member's Home\, Mendocino\, California
END:VEVENT
BEGIN:VEVENT
DTSTART;TZID=America/Los_Angeles:20261130T100000
DTEND;TZID=America/Los_Angeles:20261130T100000
DTSTAMP:20260425T093605
CREATED:20250630T210326Z
LAST-MODIFIED:20250630T210450Z
UID:10000608-1796032800-1796032800@mendocinochristian.org
SUMMARY:Home Bible Study
DESCRIPTION:Every Monday we meet for a study that is moving us through the bible. Come and enjoy the Livingroom atmosphere of learning God’s Word. Unlike preaching\, a bible study allows for questions and answers and opportunities for insightful discussions. The study starts at 10:00 AM and concludes at 11:00 AM.
URL:https://mendocinochristian.org/event/home-bible-study/2026-11-30/
LOCATION:Mendocino Christian Fellowship\, Member's Home\, Mendocino\, California
END:VEVENT
BEGIN:VEVENT
DTSTART;TZID=America/Los_Angeles:20261201T100000
DTEND;TZID=America/Los_Angeles:20261201T120000
DTSTAMP:20260425T093605
CREATED:20250706T021225Z
LAST-MODIFIED:20250706T021225Z
UID:10000914-1796119200-1796126400@mendocinochristian.org
SUMMARY:Prayer Table From 10am to 12 Noon
DESCRIPTION:The Prayer Table is out in front of our church every Tuesday from 10 to 12 noon. We meet our neighbors and visitors from outside of Mendocino who drop by to ask for prayer or just share their heart with us. Hardly a Tuesday goes by where we don’t meet people who are grateful that this ministry exists. We have had this prayer table ministry going steadily for many years now and people in the neighborhood or out-of-town visitors wave and smile  knowing this is a great thing for a church to do and offer to the community. We have seen seven conversions to Christ in the last few years and we have witnessed God’s goodness towards many with answered prayers and miracles of healing. Please stop by if you need prayer or just to see the blessings happening.
URL:https://mendocinochristian.org/event/prayer-table-from-10am-to-12-noon/2026-12-01/
LOCATION:Mendocino Christian Fellowship\, Member's Home\, Mendocino\, California
END:VEVENT
BEGIN:VEVENT
DTSTART;TZID=America/Los_Angeles:20261206T110000
DTEND;TZID=America/Los_Angeles:20261206T123000
DTSTAMP:20260425T093605
CREATED:20240910T220855Z
LAST-MODIFIED:20240910T220855Z
UID:10000159-1796554800-1796560200@mendocinochristian.org
SUMMARY:Sunday Services 11:00 AM to 12:30 PM
DESCRIPTION:
URL:https://mendocinochristian.org/event/sunday-services-1100-am-to-1230-pm/2026-12-06/
LOCATION:Mendocino Christian Fellowship\, Member's Home\, Mendocino\, California
END:VEVENT
BEGIN:VEVENT
DTSTART;TZID=America/Los_Angeles:20261206T120000
DTEND;TZID=America/Los_Angeles:20261206T123000
DTSTAMP:20260425T093605
CREATED:20240911T235828Z
LAST-MODIFIED:20240912T032207Z
UID:10000330-1796558400-1796560200@mendocinochristian.org
SUMMARY:Communion Sunday
DESCRIPTION:
URL:https://mendocinochristian.org/event/communion-sunday/2026-12-06/
LOCATION:Mendocino Christian Fellowship\, Member's Home\, Mendocino\, California
END:VEVENT
BEGIN:VEVENT
DTSTART;TZID=America/Los_Angeles:20261206T123000
DTEND;TZID=America/Los_Angeles:20261206T133000
DTSTAMP:20260425T093605
CREATED:20240912T000528Z
LAST-MODIFIED:20240912T034502Z
UID:10000500-1796560200-1796563800@mendocinochristian.org
SUMMARY:Potluck Sunday
DESCRIPTION:Bring your favorite Sunday food to add to our family after-service lunch together.
URL:https://mendocinochristian.org/event/potluck-sunday/2026-12-06/
LOCATION:Mendocino Christian Fellowship\, Member's Home\, Mendocino\, California
END:VEVENT
BEGIN:VEVENT
DTSTART;TZID=America/Los_Angeles:20261207T100000
DTEND;TZID=America/Los_Angeles:20261207T100000
DTSTAMP:20260425T093605
CREATED:20250630T210326Z
LAST-MODIFIED:20250630T210450Z
UID:10000609-1796637600-1796637600@mendocinochristian.org
SUMMARY:Home Bible Study
DESCRIPTION:Every Monday we meet for a study that is moving us through the bible. Come and enjoy the Livingroom atmosphere of learning God’s Word. Unlike preaching\, a bible study allows for questions and answers and opportunities for insightful discussions. The study starts at 10:00 AM and concludes at 11:00 AM.
URL:https://mendocinochristian.org/event/home-bible-study/2026-12-07/
LOCATION:Mendocino Christian Fellowship\, Member's Home\, Mendocino\, California
END:VEVENT
BEGIN:VEVENT
DTSTART;TZID=America/Los_Angeles:20261208T100000
DTEND;TZID=America/Los_Angeles:20261208T120000
DTSTAMP:20260425T093605
CREATED:20250706T021225Z
LAST-MODIFIED:20250706T021225Z
UID:10000915-1796724000-1796731200@mendocinochristian.org
SUMMARY:Prayer Table From 10am to 12 Noon
DESCRIPTION:The Prayer Table is out in front of our church every Tuesday from 10 to 12 noon. We meet our neighbors and visitors from outside of Mendocino who drop by to ask for prayer or just share their heart with us. Hardly a Tuesday goes by where we don’t meet people who are grateful that this ministry exists. We have had this prayer table ministry going steadily for many years now and people in the neighborhood or out-of-town visitors wave and smile  knowing this is a great thing for a church to do and offer to the community. We have seen seven conversions to Christ in the last few years and we have witnessed God’s goodness towards many with answered prayers and miracles of healing. Please stop by if you need prayer or just to see the blessings happening.
URL:https://mendocinochristian.org/event/prayer-table-from-10am-to-12-noon/2026-12-08/
LOCATION:Mendocino Christian Fellowship\, Member's Home\, Mendocino\, California
END:VEVENT
BEGIN:VEVENT
DTSTART;TZID=America/Los_Angeles:20261213T110000
DTEND;TZID=America/Los_Angeles:20261213T123000
DTSTAMP:20260425T093605
CREATED:20240910T220855Z
LAST-MODIFIED:20240910T220855Z
UID:10000160-1797159600-1797165000@mendocinochristian.org
SUMMARY:Sunday Services 11:00 AM to 12:30 PM
DESCRIPTION:
URL:https://mendocinochristian.org/event/sunday-services-1100-am-to-1230-pm/2026-12-13/
LOCATION:Mendocino Christian Fellowship\, Member's Home\, Mendocino\, California
END:VEVENT
BEGIN:VEVENT
DTSTART;TZID=America/Los_Angeles:20261214T100000
DTEND;TZID=America/Los_Angeles:20261214T100000
DTSTAMP:20260425T093605
CREATED:20250630T210326Z
LAST-MODIFIED:20250630T210450Z
UID:10000610-1797242400-1797242400@mendocinochristian.org
SUMMARY:Home Bible Study
DESCRIPTION:Every Monday we meet for a study that is moving us through the bible. Come and enjoy the Livingroom atmosphere of learning God’s Word. Unlike preaching\, a bible study allows for questions and answers and opportunities for insightful discussions. The study starts at 10:00 AM and concludes at 11:00 AM.
URL:https://mendocinochristian.org/event/home-bible-study/2026-12-14/
LOCATION:Mendocino Christian Fellowship\, Member's Home\, Mendocino\, California
END:VEVENT
BEGIN:VEVENT
DTSTART;TZID=America/Los_Angeles:20261215T100000
DTEND;TZID=America/Los_Angeles:20261215T120000
DTSTAMP:20260425T093605
CREATED:20250706T021225Z
LAST-MODIFIED:20250706T021225Z
UID:10000916-1797328800-1797336000@mendocinochristian.org
SUMMARY:Prayer Table From 10am to 12 Noon
DESCRIPTION:The Prayer Table is out in front of our church every Tuesday from 10 to 12 noon. We meet our neighbors and visitors from outside of Mendocino who drop by to ask for prayer or just share their heart with us. Hardly a Tuesday goes by where we don’t meet people who are grateful that this ministry exists. We have had this prayer table ministry going steadily for many years now and people in the neighborhood or out-of-town visitors wave and smile  knowing this is a great thing for a church to do and offer to the community. We have seen seven conversions to Christ in the last few years and we have witnessed God’s goodness towards many with answered prayers and miracles of healing. Please stop by if you need prayer or just to see the blessings happening.
URL:https://mendocinochristian.org/event/prayer-table-from-10am-to-12-noon/2026-12-15/
LOCATION:Mendocino Christian Fellowship\, Member's Home\, Mendocino\, California
END:VEVENT
BEGIN:VEVENT
DTSTART;TZID=America/Los_Angeles:20261220T110000
DTEND;TZID=America/Los_Angeles:20261220T123000
DTSTAMP:20260425T093605
CREATED:20240910T220855Z
LAST-MODIFIED:20240910T220855Z
UID:10000161-1797764400-1797769800@mendocinochristian.org
SUMMARY:Sunday Services 11:00 AM to 12:30 PM
DESCRIPTION:
URL:https://mendocinochristian.org/event/sunday-services-1100-am-to-1230-pm/2026-12-20/
LOCATION:Mendocino Christian Fellowship\, Member's Home\, Mendocino\, California
END:VEVENT
BEGIN:VEVENT
DTSTART;TZID=America/Los_Angeles:20261221T100000
DTEND;TZID=America/Los_Angeles:20261221T100000
DTSTAMP:20260425T093605
CREATED:20250630T210326Z
LAST-MODIFIED:20250630T210450Z
UID:10000611-1797847200-1797847200@mendocinochristian.org
SUMMARY:Home Bible Study
DESCRIPTION:Every Monday we meet for a study that is moving us through the bible. Come and enjoy the Livingroom atmosphere of learning God’s Word. Unlike preaching\, a bible study allows for questions and answers and opportunities for insightful discussions. The study starts at 10:00 AM and concludes at 11:00 AM.
URL:https://mendocinochristian.org/event/home-bible-study/2026-12-21/
LOCATION:Mendocino Christian Fellowship\, Member's Home\, Mendocino\, California
END:VEVENT
BEGIN:VEVENT
DTSTART;TZID=America/Los_Angeles:20261222T100000
DTEND;TZID=America/Los_Angeles:20261222T120000
DTSTAMP:20260425T093605
CREATED:20250706T021225Z
LAST-MODIFIED:20250706T021225Z
UID:10000917-1797933600-1797940800@mendocinochristian.org
SUMMARY:Prayer Table From 10am to 12 Noon
DESCRIPTION:The Prayer Table is out in front of our church every Tuesday from 10 to 12 noon. We meet our neighbors and visitors from outside of Mendocino who drop by to ask for prayer or just share their heart with us. Hardly a Tuesday goes by where we don’t meet people who are grateful that this ministry exists. We have had this prayer table ministry going steadily for many years now and people in the neighborhood or out-of-town visitors wave and smile  knowing this is a great thing for a church to do and offer to the community. We have seen seven conversions to Christ in the last few years and we have witnessed God’s goodness towards many with answered prayers and miracles of healing. Please stop by if you need prayer or just to see the blessings happening.
URL:https://mendocinochristian.org/event/prayer-table-from-10am-to-12-noon/2026-12-22/
LOCATION:Mendocino Christian Fellowship\, Member's Home\, Mendocino\, California
END:VEVENT
BEGIN:VEVENT
DTSTART;TZID=America/Los_Angeles:20261227T110000
DTEND;TZID=America/Los_Angeles:20261227T123000
DTSTAMP:20260425T093605
CREATED:20240910T220855Z
LAST-MODIFIED:20240910T220855Z
UID:10000162-1798369200-1798374600@mendocinochristian.org
SUMMARY:Sunday Services 11:00 AM to 12:30 PM
DESCRIPTION:
URL:https://mendocinochristian.org/event/sunday-services-1100-am-to-1230-pm/2026-12-27/
LOCATION:Mendocino Christian Fellowship\, Member's Home\, Mendocino\, California
END:VEVENT
BEGIN:VEVENT
DTSTART;TZID=America/Los_Angeles:20261228T100000
DTEND;TZID=America/Los_Angeles:20261228T100000
DTSTAMP:20260425T093605
CREATED:20250630T210326Z
LAST-MODIFIED:20250630T210450Z
UID:10000612-1798452000-1798452000@mendocinochristian.org
SUMMARY:Home Bible Study
DESCRIPTION:Every Monday we meet for a study that is moving us through the bible. Come and enjoy the Livingroom atmosphere of learning God’s Word. Unlike preaching\, a bible study allows for questions and answers and opportunities for insightful discussions. The study starts at 10:00 AM and concludes at 11:00 AM.
URL:https://mendocinochristian.org/event/home-bible-study/2026-12-28/
LOCATION:Mendocino Christian Fellowship\, Member's Home\, Mendocino\, California
END:VEVENT
BEGIN:VEVENT
DTSTART;TZID=America/Los_Angeles:20261229T100000
DTEND;TZID=America/Los_Angeles:20261229T120000
DTSTAMP:20260425T093605
CREATED:20250706T021225Z
LAST-MODIFIED:20250706T021225Z
UID:10000918-1798538400-1798545600@mendocinochristian.org
SUMMARY:Prayer Table From 10am to 12 Noon
DESCRIPTION:The Prayer Table is out in front of our church every Tuesday from 10 to 12 noon. We meet our neighbors and visitors from outside of Mendocino who drop by to ask for prayer or just share their heart with us. Hardly a Tuesday goes by where we don’t meet people who are grateful that this ministry exists. We have had this prayer table ministry going steadily for many years now and people in the neighborhood or out-of-town visitors wave and smile  knowing this is a great thing for a church to do and offer to the community. We have seen seven conversions to Christ in the last few years and we have witnessed God’s goodness towards many with answered prayers and miracles of healing. Please stop by if you need prayer or just to see the blessings happening.
URL:https://mendocinochristian.org/event/prayer-table-from-10am-to-12-noon/2026-12-29/
LOCATION:Mendocino Christian Fellowship\, Member's Home\, Mendocino\, California
END:VEVENT
BEGIN:VEVENT
DTSTART;TZID=America/Los_Angeles:20270103T110000
DTEND;TZID=America/Los_Angeles:20270103T123000
DTSTAMP:20260425T093605
CREATED:20240910T220855Z
LAST-MODIFIED:20240910T220855Z
UID:10000163-1798974000-1798979400@mendocinochristian.org
SUMMARY:Sunday Services 11:00 AM to 12:30 PM
DESCRIPTION:
URL:https://mendocinochristian.org/event/sunday-services-1100-am-to-1230-pm/2027-01-03/
LOCATION:Mendocino Christian Fellowship\, Member's Home\, Mendocino\, California
END:VEVENT
BEGIN:VEVENT
DTSTART;TZID=America/Los_Angeles:20270103T120000
DTEND;TZID=America/Los_Angeles:20270103T123000
DTSTAMP:20260425T093605
CREATED:20240911T235828Z
LAST-MODIFIED:20240912T032207Z
UID:10000446-1798977600-1798979400@mendocinochristian.org
SUMMARY:Communion Sunday
DESCRIPTION:
URL:https://mendocinochristian.org/event/communion-sunday/2027-01-03/
LOCATION:Mendocino Christian Fellowship\, Member's Home\, Mendocino\, California
END:VEVENT
BEGIN:VEVENT
DTSTART;TZID=America/Los_Angeles:20270103T123000
DTEND;TZID=America/Los_Angeles:20270103T133000
DTSTAMP:20260425T093605
CREATED:20240912T000528Z
LAST-MODIFIED:20240912T034502Z
UID:10000501-1798979400-1798983000@mendocinochristian.org
SUMMARY:Potluck Sunday
DESCRIPTION:Bring your favorite Sunday food to add to our family after-service lunch together.
URL:https://mendocinochristian.org/event/potluck-sunday/2027-01-03/
LOCATION:Mendocino Christian Fellowship\, Member's Home\, Mendocino\, California
END:VEVENT
END:VCALENDAR